{"text_format":"1","workbook":"xlsx","n_sheets":5,"sheets":["Zał.1_WPF_bazowy","WPF_AnalizaWsk_ProjektowanieJST","definicja","rysunki","DaneZrodlowe"],"not_rendered":{"charts":12,"images":0,"macros":1,"external_links":0,"defined_names":14,"comments":0,"pivot_tables":0},"unopened":[],"bounds":{"document_bytes":16777216,"sheet_cells":100000,"rows_first":2000,"rows_last":500,"rows_between":2000,"halvings":0,"cell_chars":16384,"cell_head_chars":4096},"cells_cut":0,"cells_raw":0,"read":"whole","date_system":"1900"}

{"sheet":"Zał.1_WPF_bazowy","index":0,"n_rows":198,"n_cols":38,"rows_kept":198,"cut":false,"hidden":false,"merged":[[2,4,2,5],[0,2,0,4],[0,14,0,16],[1,9,1,20]]}
[null,null,null,null,null,null,null,null,null,null,null,null,null," n  ","Załącznik Nr 1\n do Zarządzenia Nr 181/2016 \n Wójta Gminy Widuchowa \n z dnia 3 marca 2016 r.\n"]
[null,null,null,null,null,null,null,null,null,"Wieloletnia prognoza finansowa Gminy Widuchowa na lata 2016 - 2025"]
[null,null,null,null,"Wykonanie ",null,"Plan 3 kw.","Wykonanie ",""]
["X","Lp.","Nazwy serii (rysunki)","Wyszczególnienie",{"$f":"+F4-1","v":2013},{"$f":"+G4-1","v":2014},{"$f":"+H4","v":2015},{"$f":"+I4-1","v":2015},{"$f":"+DaneZrodlowe!$N$1","v":2016},{"$f":"+I4+1","v":2017},{"$f":"+J4+1","v":2018},2019,2020,2021,2022,2023,2024,2025,2026,2027,2028,2029,2030,2031,2032,2033,2034,2035,2036,2037,2038,2039,2040,2041,2042,2043,2044,2045]
["x",1,"Dochody ogółem","Dochody ogółem",{"$f":"17973113.92","v":17973113.920000002},{"$f":"17392993.42","v":17392993.420000002},{"$f":"17678787.15","v":17678787.149999999},{"$f":"17101682.73","v":17101682.73},{"$f":"19443564.07","v":19443564.07},{"$f":"21094929","v":21094929},{"$f":"20445387","v":20445387},{"$f":"20768748","v":20768748},{"$f":"20707811","v":20707811},{"$f":"20663045","v":20663045},{"$f":"21134936","v":21134936},{"$f":"21523984","v":21523984},{"$f":"21930704","v":21930704},{"$f":"22555625","v":22555625},{"$f":"0","v":0},{"$f":"0","v":0},{"$f":"0","v":0},{"$f":"0","v":0},{"$f":"0","v":0},{"$f":"0","v":0},{"$f":"0","v":0},{"$f":"0","v":0},{"$f":"0","v":0},{"$f":"0","v":0},{"$f":"0","v":0},{"$f":"0","v":0},{"$f":"0","v":0},{"$f":"0","v":0},{"$f":"0","v":0},{"$f":"0","v":0},{"$f":"0","v":0},{"$f":"0","v":0},{"$f":"0","v":0},{"$f":"0","v":0}]
["x","1.1"," Dochody bieżące","Dochody bieżące",{"$f":"16880945.99","v":16880945.989999998},{"$f":"17056473.25","v":17056473.25},{"$f":"16787969.73","v":16787969.73},{"$f":"16811380.25","v":16811380.25},{"$f":"18580564.07","v":18580564.07},{"$f":"19522329","v":19522329},{"$f":"20045387","v":20045387},{"$f":"20368748","v":20368748},{"$f":"20307811","v":20307811},{"$f":"20363045","v":20363045},{"$f":"20834936","v":20834936},{"$f":"21223984","v":21223984},{"$f":"21630704","v":21630704},{"$f":"22255625","v":22255625},{"$f":"0","v":0},{"$f":"0","v":0},{"$f":"0","v":0},{"$f":"0","v":0},{"$f":"0","v":0},{"$f":"0","v":0},{"$f":"0","v":0},{"$f":"0","v":0},{"$f":"0","v":0},{"$f":"0","v":0},{"$f":"0","v":0},{"$f":"0","v":0},{"$f":"0","v":0},{"$f":"0","v":0},{"$f":"0","v":0},{"$f":"0","v":0},{"$f":"0","v":0},{"$f":"0","v":0},{"$f":"0","v":0},{"$f":"0","v":0}]
[null,"1.1.1","  dochody z tytułu udziału we wpływach z podatku dochodowego od osób fizycznych","dochody z tytułu udziału we wpływach z podatku dochodowego od osób fizycznych",{"$f":"1411221","v":1411221},{"$f":"1673051","v":1673051},{"$f":"1903237","v":1903237},{"$f":"1919798","v":1919798},{"$f":"1930520","v":1930520},{"$f":"2000000","v":2000000},{"$f":"2100000","v":2100000},{"$f":"2100000","v":2100000},{"$f":"2100000","v":2100000},{"$f":"2200000","v":2200000},{"$f":"2250000","v":2250000},{"$f":"2300000","v":2300000},{"$f":"2350000","v":2350000},{"$f":"2400000","v":2400000},{"$f":"0","v":0},{"$f":"0","v":0},{"$f":"0","v":0},{"$f":"0","v":0},{"$f":"0","v":0},{"$f":"0","v":0},{"$f":"0","v":0},{"$f":"0","v":0},{"$f":"0","v":0},{"$f":"0","v":0},{"$f":"0","v":0},{"$f":"0","v":0},{"$f":"0","v":0},{"$f":"0","v":0},{"$f":"0","v":0},{"$f":"0","v":0},{"$f":"0","v":0},{"$f":"0","v":0},{"$f":"0","v":0},{"$f":"0","v":0}]
[null,"1.1.2","  dochody z tytułu udziału we wpływach z podatku dochodowego od osób prawnych","dochody z tytułu udziału we wpływach z podatku dochodowego od osób prawnych",{"$f":"16121.53","v":16121.53},{"$f":"8401.41","v":8401.41},{"$f":"13000","v":13000},{"$f":"3238.59","v":3238.59},{"$f":"3000","v":3000},{"$f":"8000","v":8000},{"$f":"9000","v":9000},{"$f":"10000","v":10000},{"$f":"11000","v":11000},{"$f":"12000","v":12000},{"$f":"13000","v":13000},{"$f":"14000","v":14000},{"$f":"15000","v":15000},{"$f":"16000","v":16000},{"$f":"0","v":0},{"$f":"0","v":0},{"$f":"0","v":0},{"$f":"0","v":0},{"$f":"0","v":0},{"$f":"0","v":0},{"$f":"0","v":0},{"$f":"0","v":0},{"$f":"0","v":0},{"$f":"0","v":0},{"$f":"0","v":0},{"$f":"0","v":0},{"$f":"0","v":0},{"$f":"0","v":0},{"$f":"0","v":0},{"$f":"0","v":0},{"$f":"0","v":0},{"$f":"0","v":0},{"$f":"0","v":0},{"$f":"0","v":0}]
[null,"1.1.3","  podatki i opłaty","podatki i opłaty",{"$f":"4978057.92","v":4978057.92},{"$f":"4929544.81","v":4929544.8099999996},{"$f":"5065013","v":5065013},{"$f":"5000956.35","v":5000956.3499999996},{"$f":"3971378","v":3971378},{"$f":"4083000","v":4083000},{"$f":"4242000","v":4242000},{"$f":"4405000","v":4405000},{"$f":"4573000","v":4573000},{"$f":"4900000","v":4900000},{"$f":"5000000","v":5000000},{"$f":"5180000","v":5180000},{"$f":"5298000","v":5298000},{"$f":"5493000","v":5493000},{"$f":"0","v":0},{"$f":"0","v":0},{"$f":"0","v":0},{"$f":"0","v":0},{"$f":"0","v":0},{"$f":"0","v":0},{"$f":"0","v":0},{"$f":"0","v":0},{"$f":"0","v":0},{"$f":"0","v":0},{"$f":"0","v":0},{"$f":"0","v":0},{"$f":"0","v":0},{"$f":"0","v":0},{"$f":"0","v":0},{"$f":"0","v":0},{"$f":"0","v":0},{"$f":"0","v":0},{"$f":"0","v":0},{"$f":"0","v":0}]
[null,"1.1.3.1","   z podatku od nieruchomości","z podatku od nieruchomości",{"$f":"2987844.55","v":2987844.55},{"$f":"2990336.23","v":2990336.23},{"$f":"3016000","v":3016000},{"$f":"3054437.86","v":3054437.86},{"$f":"1920000","v":1920000},{"$f":"1930000","v":1930000},{"$f":"2013000","v":2013000},{"$f":"2109000","v":2109000},{"$f":"2209000","v":2209000},{"$f":"2311000","v":2311000},{"$f":"2416000","v":2416000},{"$f":"2525000","v":2525000},{"$f":"2636000","v":2636000},{"$f":"2752000","v":2752000},{"$f":"0","v":0},{"$f":"0","v":0},{"$f":"0","v":0},{"$f":"0","v":0},{"$f":"0","v":0},{"$f":"0","v":0},{"$f":"0","v":0},{"$f":"0","v":0},{"$f":"0","v":0},{"$f":"0","v":0},{"$f":"0","v":0},{"$f":"0","v":0},{"$f":"0","v":0},{"$f":"0","v":0},{"$f":"0","v":0},{"$f":"0","v":0},{"$f":"0","v":0},{"$f":"0","v":0},{"$f":"0","v":0},{"$f":"0","v":0}]
[null,"1.1.4","  z subwencji ogólnej","z subwencji ogólnej",{"$f":"6023919","v":6023919},{"$f":"5676996","v":5676996},{"$f":"5458757","v":5458757},{"$f":"5458757","v":5458757},{"$f":"5855736","v":5855736},{"$f":"5800000","v":5800000},{"$f":"5900000","v":5900000},{"$f":"6000000","v":6000000},{"$f":"6022000","v":6022000},{"$f":"6133000","v":6133000},{"$f":"6250000","v":6250000},{"$f":"6400000","v":6400000},{"$f":"6450000","v":6450000},{"$f":"6500000","v":6500000},{"$f":"0","v":0},{"$f":"0","v":0},{"$f":"0","v":0},{"$f":"0","v":0},{"$f":"0","v":0},{"$f":"0","v":0},{"$f":"0","v":0},{"$f":"0","v":0},{"$f":"0","v":0},{"$f":"0","v":0},{"$f":"0","v":0},{"$f":"0","v":0},{"$f":"0","v":0},{"$f":"0","v":0},{"$f":"0","v":0},{"$f":"0","v":0},{"$f":"0","v":0},{"$f":"0","v":0},{"$f":"0","v":0},{"$f":"0","v":0}]
[null,"1.1.5","  z tytułu dotacji i środków przeznaczonych na cele bieżące","z tytułu dotacji i środków przeznaczonych na cele bieżące",{"$f":"3962405.56","v":3962405.56},{"$f":"4287663.44","v":4287663.4400000004},{"$f":"3889573.73","v":3889573.73},{"$f":"4019037.08","v":4019037.08},{"$f":"5259568.07","v":5259568.07},{"$f":"7500000","v":7500000},{"$f":"7550000","v":7550000},{"$f":"7350000","v":7350000},{"$f":"6900000","v":6900000},{"$f":"7090000","v":7090000},{"$f":"7200000","v":7200000},{"$f":"7250000","v":7250000},{"$f":"7450000","v":7450000},{"$f":"7600000","v":7600000},{"$f":"0","v":0},{"$f":"0","v":0},{"$f":"0","v":0},{"$f":"0","v":0},{"$f":"0","v":0},{"$f":"0","v":0},{"$f":"0","v":0},{"$f":"0","v":0},{"$f":"0","v":0},{"$f":"0","v":0},{"$f":"0","v":0},{"$f":"0","v":0},{"$f":"0","v":0},{"$f":"0","v":0},{"$f":"0","v":0},{"$f":"0","v":0},{"$f":"0","v":0},{"$f":"0","v":0},{"$f":"0","v":0},{"$f":"0","v":0}]
["x","1.2","  Dochody majątkowe","Dochody majątkowe, w tym",{"$f":"1092167.93","v":1092167.93},{"$f":"336520.17","v":336520.17},{"$f":"890817.42","v":890817.42},{"$f":"290302.48","v":290302.48},{"$f":"863000","v":863000},{"$f":"1572600","v":1572600},{"$f":"400000","v":400000},400000,400000,{"$f":"300000","v":300000},300000,300000,300000,300000,{"$f":"0","v":0},{"$f":"0","v":0},{"$f":"0","v":0},{"$f":"0","v":0},{"$f":"0","v":0},{"$f":"0","v":0},{"$f":"0","v":0},{"$f":"0","v":0},{"$f":"0","v":0},{"$f":"0","v":0},{"$f":"0","v":0},{"$f":"0","v":0},{"$f":"0","v":0},{"$f":"0","v":0},{"$f":"0","v":0},{"$f":"0","v":0},{"$f":"0","v":0},{"$f":"0","v":0},{"$f":"0","v":0},{"$f":"0","v":0}]
["x","1.2.1","  ze sprzedaży majątku","ze sprzedaży majątku",{"$f":"138368.5","v":138368.5},{"$f":"179740.6","v":179740.6},{"$f":"596000","v":596000},{"$f":"222848.13","v":222848.13},{"$f":"391378","v":391378},{"$f":"300000","v":300000},400000,400000,400000,300000,300000,300000,300000,300000,{"$f":"0","v":0},{"$f":"0","v":0},{"$f":"0","v":0},{"$f":"0","v":0},{"$f":"0","v":0},{"$f":"0","v":0},{"$f":"0","v":0},{"$f":"0","v":0},{"$f":"0","v":0},{"$f":"0","v":0},{"$f":"0","v":0},{"$f":"0","v":0},{"$f":"0","v":0},{"$f":"0","v":0},{"$f":"0","v":0},{"$f":"0","v":0},{"$f":"0","v":0},{"$f":"0","v":0},{"$f":"0","v":0},{"$f":"0","v":0}]
[null,"1.2.2","  z tytułu dotacji oraz środków przeznaczonych na inwestycje","z tytułu dotacji oraz środków przeznaczonych na inwestycje",{"$f":"941977.06","v":941977.06},{"$f":"148162.3","v":148162.29999999999},{"$f":"286278.42","v":286278.42},{"$f":"55441.71","v":55441.71},{"$f":"462622","v":462622},{"$f":"1272600","v":1272600},{"$f":"0","v":0},{"$f":"0","v":0},{"$f":"0","v":0},{"$f":"0","v":0},{"$f":"0","v":0},{"$f":"0","v":0},{"$f":"0","v":0},{"$f":"0","v":0},{"$f":"0","v":0},{"$f":"0","v":0},{"$f":"0","v":0},{"$f":"0","v":0},{"$f":"0","v":0},{"$f":"0","v":0},{"$f":"0","v":0},{"$f":"0","v":0},{"$f":"0","v":0},{"$f":"0","v":0},{"$f":"0","v":0},{"$f":"0","v":0},{"$f":"0","v":0},{"$f":"0","v":0},{"$f":"0","v":0},{"$f":"0","v":0},{"$f":"0","v":0},{"$f":"0","v":0},{"$f":"0","v":0},{"$f":"0","v":0}]
["x",2,"Wydatki ogółem","Wydatki ogółem",{"$f":"17877352.15","v":17877352.149999999},{"$f":"17186267.02","v":17186267.02},{"$f":"17646787.15","v":17646787.149999999},{"$f":"16884782.78","v":16884782.780000001},{"$f":"19043564.07","v":19043564.07},{"$f":"20494929","v":20494929},{"$f":"19845387","v":19845387},{"$f":"19568748","v":19568748},{"$f":"19407811","v":19407811},{"$f":"19463045","v":19463045},{"$f":"19804936","v":19804936},{"$f":"20013984","v":20013984},{"$f":"20382704","v":20382704},{"$f":"21812625","v":21812625},{"$f":"0","v":0},{"$f":"0","v":0},{"$f":"0","v":0},{"$f":"0","v":0},{"$f":"0","v":0},{"$f":"0","v":0},{"$f":"0","v":0},{"$f":"0","v":0},{"$f":"0","v":0},{"$f":"0","v":0},{"$f":"0","v":0},{"$f":"0","v":0},{"$f":"0","v":0},{"$f":"0","v":0},{"$f":"0","v":0},{"$f":"0","v":0},{"$f":"0","v":0},{"$f":"0","v":0},{"$f":"0","v":0},{"$f":"0","v":0}]
["x","2.1"," Wydatki bieżące","Wydatki bieżące, w tym:",{"$f":"16184466.65","v":16184466.65},{"$f":"16441428.08","v":16441428.08},{"$f":"16609410.73","v":16609410.73},{"$f":"16307675.05","v":16307675.050000001},{"$f":"17135413.07","v":17135413.07},{"$f":"18333929","v":18333929},{"$f":"18841237","v":18841237},{"$f":"19161844","v":19161844},{"$f":"19060149","v":19060149},{"$f":"18966564","v":18966564},{"$f":"19193510","v":19193510},{"$f":"19627425","v":19627425},{"$f":"20066759","v":20066759},{"$f":"20518971","v":20518971},{"$f":"0","v":0},{"$f":"0","v":0},{"$f":"0","v":0},{"$f":"0","v":0},{"$f":"0","v":0},{"$f":"0","v":0},{"$f":"0","v":0},{"$f":"0","v":0},{"$f":"0","v":0},{"$f":"0","v":0},{"$f":"0","v":0},{"$f":"0","v":0},{"$f":"0","v":0},{"$f":"0","v":0},{"$f":"0","v":0},{"$f":"0","v":0},{"$f":"0","v":0},{"$f":"0","v":0},{"$f":"0","v":0},{"$f":"0","v":0}]
["x","2.1.1","  z tytułu poręczeń i gwarancji","z tytułu poręczeń i gwarancji",{"$f":"0","v":0},{"$f":"0","v":0},{"$f":"0","v":0},{"$f":"0","v":0},{"$f":"0","v":0},{"$f":"0","v":0},{"$f":"0","v":0},{"$f":"0","v":0},{"$f":"0","v":0},{"$f":"0","v":0},{"$f":"0","v":0},{"$f":"0","v":0},{"$f":"0","v":0},{"$f":"0","v":0},{"$f":"0","v":0},{"$f":"0","v":0},{"$f":"0","v":0},{"$f":"0","v":0},{"$f":"0","v":0},{"$f":"0","v":0},{"$f":"0","v":0},{"$f":"0","v":0},{"$f":"0","v":0},{"$f":"0","v":0},{"$f":"0","v":0},{"$f":"0","v":0},{"$f":"0","v":0},{"$f":"0","v":0},{"$f":"0","v":0},{"$f":"0","v":0},{"$f":"0","v":0},{"$f":"0","v":0},{"$f":"0","v":0},{"$f":"0","v":0}]
["x","2.1.1.1","   w tym: gwarancje i poręczenia podlegające wyłączeniu z limitu spłaty zobowiązań, o którym mowa w art. 243 ustawy","w tym: gwarancje i poręczenia podlegające wyłączeniu z limitu spłaty zobowiązań, o którym mowa w art. 243 ustawy",{"$f":"0","v":0},{"$f":"0","v":0},{"$f":"0","v":0},{"$f":"0","v":0},{"$f":"0","v":0},{"$f":"0","v":0},{"$f":"0","v":0},{"$f":"0","v":0},{"$f":"0","v":0},{"$f":"0","v":0},{"$f":"0","v":0},{"$f":"0","v":0},{"$f":"0","v":0},{"$f":"0","v":0},{"$f":"0","v":0},{"$f":"0","v":0},{"$f":"0","v":0},{"$f":"0","v":0},{"$f":"0","v":0},{"$f":"0","v":0},{"$f":"0","v":0},{"$f":"0","v":0},{"$f":"0","v":0},{"$f":"0","v":0},{"$f":"0","v":0},{"$f":"0","v":0},{"$f":"0","v":0},{"$f":"0","v":0},{"$f":"0","v":0},{"$f":"0","v":0},{"$f":"0","v":0},{"$f":"0","v":0},{"$f":"0","v":0},{"$f":"0","v":0}]
[null,"2.1.2","   na spłatę przejętych zobowiązań samodzielnego publicznego zakładu opieki zdrowotnej przekształconego na zasadach określonych w przepisach  o działalności leczniczej, w wysokości w jakiej nie podlegają sfinansowaniu dotacją z budżetu państwa","na spłatę przejętych zobowiązań samodzielnego publicznego zakładu opieki zdrowotnej przekształconego na zasadach określonych w przepisach  o działalności leczniczej, w wysokości w jakiej nie podlegają sfinansowaniu dotacją z budżetu państwa",{"$f":"0","v":0},{"$f":"0","v":0},{"$f":"0","v":0},{"$f":"0","v":0},{"$f":"0","v":0},{"$f":"0","v":0},{"$f":"0","v":0},{"$f":"0","v":0},{"$f":"0","v":0},{"$f":"0","v":0},{"$f":"0","v":0},{"$f":"0","v":0},{"$f":"0","v":0},{"$f":"0","v":0},{"$f":"0","v":0},{"$f":"0","v":0},{"$f":"0","v":0},{"$f":"0","v":0},{"$f":"0","v":0},{"$f":"0","v":0},{"$f":"0","v":0},{"$f":"0","v":0},{"$f":"0","v":0},{"$f":"0","v":0},{"$f":"0","v":0},{"$f":"0","v":0},{"$f":"0","v":0},{"$f":"0","v":0},{"$f":"0","v":0},{"$f":"0","v":0},{"$f":"0","v":0},{"$f":"0","v":0},{"$f":"0","v":0},{"$f":"0","v":0}]
["x","2.1.3","  wydatki na obsługę długu, w tym:","wydatki na obsługę długu, w tym:",{"$f":"572021.53","v":572021.53},{"$f":"430171.93","v":430171.93},{"$f":"360000","v":360000},{"$f":"352254.63","v":352254.63},{"$f":"340000","v":340000},{"$f":"340000","v":340000},{"$f":"320000","v":320000},{"$f":"300000","v":300000},{"$f":"260000","v":260000},{"$f":"215000","v":215000},{"$f":"175000","v":175000},{"$f":"130000","v":130000},{"$f":"79000","v":79000},{"$f":"26000","v":26000},{"$f":"0","v":0},{"$f":"0","v":0},{"$f":"0","v":0},{"$f":"0","v":0},{"$f":"0","v":0},{"$f":"0","v":0},{"$f":"0","v":0},{"$f":"0","v":0},{"$f":"0","v":0},{"$f":"0","v":0},{"$f":"0","v":0},{"$f":"0","v":0},{"$f":"0","v":0},{"$f":"0","v":0},{"$f":"0","v":0},{"$f":"0","v":0},{"$f":"0","v":0},{"$f":"0","v":0},{"$f":"0","v":0},{"$f":"0","v":0}]
["x","2.1.3.1","   odsetki i dyskonto określone w art. 243 ust. 1 ustawy, w tym:","odsetki i dyskonto określone w art. 243 ust. 1 ustawy, w tym:",{"$f":"567021.53","v":567021.53},{"$f":"430171.93","v":430171.93},{"$f":"360000","v":360000},{"$f":"352254.63","v":352254.63},{"$f":"340000","v":340000},{"$f":"340000","v":340000},{"$f":"320000","v":320000},{"$f":"300000","v":300000},{"$f":"260000","v":260000},{"$f":"215000","v":215000},{"$f":"175000","v":175000},{"$f":"130000","v":130000},{"$f":"79000","v":79000},{"$f":"26000","v":26000},{"$f":"0","v":0},{"$f":"0","v":0},{"$f":"0","v":0},{"$f":"0","v":0},{"$f":"0","v":0},{"$f":"0","v":0},{"$f":"0","v":0},{"$f":"0","v":0},{"$f":"0","v":0},{"$f":"0","v":0},{"$f":"0","v":0},{"$f":"0","v":0},{"$f":"0","v":0},{"$f":"0","v":0},{"$f":"0","v":0},{"$f":"0","v":0},{"$f":"0","v":0},{"$f":"0","v":0},{"$f":"0","v":0},{"$f":"0","v":0}]
["x","2.1.3.1.1","    odsetki i dyskonto podlegające wyłączeniu z limitu spłaty zobowiązań, o którym mowa w art. 243 ustawy, w terminie nie dłuższym niż 90 dni po zakończeniu programu, projektu lub zadania i otrzymaniu refundacji z tych środków (bez odsetek i dyskonta od zobowiązań na wkład krajowy)","odsetki i dyskonto podlegające wyłączeniu z limitu spłaty zobowiązań, o którym mowa w art. 243 ustawy, w terminie nie dłuższym niż 90 dni po zakończeniu programu, projektu lub zadania i otrzymaniu refundacji z tych środków (bez odsetek i dyskonta od zobowiązań na wkład krajowy)",{"$f":"0","v":0},{"$f":"40000","v":40000},{"$f":"0","v":0},{"$f":"0","v":0},{"$f":"0","v":0},{"$f":"0","v":0},{"$f":"0","v":0},{"$f":"0","v":0},{"$f":"0","v":0},{"$f":"0","v":0},{"$f":"0","v":0},{"$f":"0","v":0},{"$f":"0","v":0},{"$f":"0","v":0},{"$f":"0","v":0},{"$f":"0","v":0},{"$f":"0","v":0},{"$f":"0","v":0},{"$f":"0","v":0},{"$f":"0","v":0},{"$f":"0","v":0},{"$f":"0","v":0},{"$f":"0","v":0},{"$f":"0","v":0},{"$f":"0","v":0},{"$f":"0","v":0},{"$f":"0","v":0},{"$f":"0","v":0},{"$f":"0","v":0},{"$f":"0","v":0},{"$f":"0","v":0},{"$f":"0","v":0},{"$f":"0","v":0},{"$f":"0","v":0}]
["x","2.1.3.1.2","    odsetki i dyskonto podlegające wyłączeniu z limitu spłaty zobowiązań, o którym mowa w art. 243 ustawy, z tytułu zobowiązań  zaciągniętych na wkład krajowy","odsetki i dyskonto podlegające wyłączeniu z limitu spłaty zobowiązań, o którym mowa w art. 243 ustawy, z tytułu zobowiązań  zaciągniętych na wkład krajowy",{"$f":"0","v":0},{"$f":"130000","v":130000},{"$f":"0","v":0},{"$f":"107230.61","v":107230.61},{"$f":"105951.71","v":105951.71},{"$f":"93200","v":93200},{"$f":"74000","v":74000},{"$f":"63000","v":63000},{"$f":"44000","v":44000},{"$f":"24000","v":24000},{"$f":"20000","v":20000},{"$f":"14000","v":14000},{"$f":"13000","v":13000},{"$f":"13000","v":13000},{"$f":"0","v":0},{"$f":"0","v":0},{"$f":"0","v":0},{"$f":"0","v":0},{"$f":"0","v":0},{"$f":"0","v":0},{"$f":"0","v":0},{"$f":"0","v":0},{"$f":"0","v":0},{"$f":"0","v":0},{"$f":"0","v":0},{"$f":"0","v":0},{"$f":"0","v":0},{"$f":"0","v":0},{"$f":"0","v":0},{"$f":"0","v":0},{"$f":"0","v":0},{"$f":"0","v":0},{"$f":"0","v":0},{"$f":"0","v":0}]
["x","2.2"," Wydatki majątkowe","Wydatki majątkowe",{"$f":"1692885.5","v":1692885.5},{"$f":"744838.94","v":744838.94},{"$f":"1037376.42","v":1037376.42},{"$f":"577107.73","v":577107.73},{"$f":"1908151","v":1908151},{"$f":"2161000","v":2161000},{"$f":"1004150","v":1004150},{"$f":"406904","v":406904},{"$f":"347662","v":347662},{"$f":"496481","v":496481},{"$f":"611426","v":611426},{"$f":"386559","v":386559},{"$f":"315945","v":315945},{"$f":"1293654","v":1293654},{"$f":"0","v":0},{"$f":"0","v":0},{"$f":"0","v":0},{"$f":"0","v":0},{"$f":"0","v":0},{"$f":"0","v":0},{"$f":"0","v":0},{"$f":"0","v":0},{"$f":"0","v":0},{"$f":"0","v":0},{"$f":"0","v":0},{"$f":"0","v":0},{"$f":"0","v":0},{"$f":"0","v":0},{"$f":"0","v":0},{"$f":"0","v":0},{"$f":"0","v":0},{"$f":"0","v":0},{"$f":"0","v":0},{"$f":"0","v":0}]
["x",3,"Wynik budżetu","Wynik budżetu",{"$f":"95761.77","v":95761.77},{"$f":"206726.4","v":206726.39999999999},{"$f":"32000","v":32000},{"$f":"216899.95","v":216899.95},{"$f":"400000","v":400000},{"$f":"600000","v":600000},{"$f":"600000","v":600000},{"$f":"1200000","v":1200000},{"$f":"1300000","v":1300000},{"$f":"1200000","v":1200000},{"$f":"1330000","v":1330000},{"$f":"1510000","v":1510000},{"$f":"1548000","v":1548000},{"$f":"743000","v":743000},{"$f":"0","v":0},{"$f":"0","v":0},{"$f":"0","v":0},{"$f":"0","v":0},{"$f":"0","v":0},{"$f":"0","v":0},{"$f":"0","v":0},{"$f":"0","v":0},{"$f":"0","v":0},{"$f":"0","v":0},{"$f":"0","v":0},{"$f":"0","v":0},{"$f":"0","v":0},{"$f":"0","v":0},{"$f":"0","v":0},{"$f":"0","v":0},{"$f":"0","v":0},{"$f":"0","v":0},{"$f":"0","v":0},{"$f":"0","v":0}]
["x",4,"Przychody budżetu","Przychody budżetu",{"$f":"3413397.21","v":3413397.21},{"$f":"1405350.74","v":1405350.74},{"$f":"68000","v":68000},{"$f":"555077.14","v":555077.14},{"$f":"0","v":0},{"$f":"0","v":0},{"$f":"0","v":0},{"$f":"0","v":0},{"$f":"0","v":0},{"$f":"0","v":0},{"$f":"0","v":0},{"$f":"0","v":0},{"$f":"0","v":0},{"$f":"0","v":0},{"$f":"0","v":0},{"$f":"0","v":0},{"$f":"0","v":0},{"$f":"0","v":0},{"$f":"0","v":0},{"$f":"0","v":0},{"$f":"0","v":0},{"$f":"0","v":0},{"$f":"0","v":0},{"$f":"0","v":0},{"$f":"0","v":0},{"$f":"0","v":0},{"$f":"0","v":0},{"$f":"0","v":0},{"$f":"0","v":0},{"$f":"0","v":0},{"$f":"0","v":0},{"$f":"0","v":0},{"$f":"0","v":0},{"$f":"0","v":0}]
["x","4.1"," Nadwyżka budżetowa z lat ubiegłych","Nadwyżka budżetowa z lat ubiegłych",{"$f":"0","v":0},{"$f":"0","v":0},{"$f":"0","v":0},{"$f":"0","v":0},{"$f":"0","v":0},{"$f":"0","v":0},{"$f":"0","v":0},{"$f":"0","v":0},{"$f":"0","v":0},{"$f":"0","v":0},{"$f":"0","v":0},{"$f":"0","v":0},{"$f":"0","v":0},{"$f":"0","v":0},{"$f":"0","v":0},{"$f":"0","v":0},{"$f":"0","v":0},{"$f":"0","v":0},{"$f":"0","v":0},{"$f":"0","v":0},{"$f":"0","v":0},{"$f":"0","v":0},{"$f":"0","v":0},{"$f":"0","v":0},{"$f":"0","v":0},{"$f":"0","v":0},{"$f":"0","v":0},{"$f":"0","v":0},{"$f":"0","v":0},{"$f":"0","v":0},{"$f":"0","v":0},{"$f":"0","v":0},{"$f":"0","v":0},{"$f":"0","v":0}]
["x","4.1.1","  w tym na pokrycie deficytu budżetu","w tym na pokrycie deficytu budżetu",{"$f":"0","v":0},{"$f":"0","v":0},{"$f":"0","v":0},{"$f":"0","v":0},{"$f":"0","v":0},{"$f":"0","v":0},{"$f":"0","v":0},{"$f":"0","v":0},{"$f":"0","v":0},{"$f":"0","v":0},{"$f":"0","v":0},{"$f":"0","v":0},{"$f":"0","v":0},{"$f":"0","v":0},{"$f":"0","v":0},{"$f":"0","v":0},{"$f":"0","v":0},{"$f":"0","v":0},{"$f":"0","v":0},{"$f":"0","v":0},{"$f":"0","v":0},{"$f":"0","v":0},{"$f":"0","v":0},{"$f":"0","v":0},{"$f":"0","v":0},{"$f":"0","v":0},{"$f":"0","v":0},{"$f":"0","v":0},{"$f":"0","v":0},{"$f":"0","v":0},{"$f":"0","v":0},{"$f":"0","v":0},{"$f":"0","v":0},{"$f":"0","v":0}]
["x","4.2"," Wolne środki, o których mowa w art. 217 ust.2 pkt 6 ustawy","Wolne środki, o których mowa w art. 217 ust.2 pkt 6 ustawy",{"$f":"2113397.21","v":2113397.21},{"$f":"1405350.74","v":1405350.74},{"$f":"68000","v":68000},{"$f":"555077.14","v":555077.14},{"$f":"0","v":0},{"$f":"0","v":0},{"$f":"0","v":0},{"$f":"0","v":0},{"$f":"0","v":0},{"$f":"0","v":0},{"$f":"0","v":0},{"$f":"0","v":0},{"$f":"0","v":0},{"$f":"0","v":0},{"$f":"0","v":0},{"$f":"0","v":0},{"$f":"0","v":0},{"$f":"0","v":0},{"$f":"0","v":0},{"$f":"0","v":0},{"$f":"0","v":0},{"$f":"0","v":0},{"$f":"0","v":0},{"$f":"0","v":0},{"$f":"0","v":0},{"$f":"0","v":0},{"$f":"0","v":0},{"$f":"0","v":0},{"$f":"0","v":0},{"$f":"0","v":0},{"$f":"0","v":0},{"$f":"0","v":0},{"$f":"0","v":0},{"$f":"0","v":0}]
["x","4.2.1","   w tym na pokrycie deficytu budżetu","w tym na pokrycie deficytu budżetu",{"$f":"0","v":0},{"$f":"0","v":0},{"$f":"0","v":0},{"$f":"0","v":0},{"$f":"0","v":0},{"$f":"0","v":0},{"$f":"0","v":0},{"$f":"0","v":0},{"$f":"0","v":0},{"$f":"0","v":0},{"$f":"0","v":0},{"$f":"0","v":0},{"$f":"0","v":0},{"$f":"0","v":0},{"$f":"0","v":0},{"$f":"0","v":0},{"$f":"0","v":0},{"$f":"0","v":0},{"$f":"0","v":0},{"$f":"0","v":0},{"$f":"0","v":0},{"$f":"0","v":0},{"$f":"0","v":0},{"$f":"0","v":0},{"$f":"0","v":0},{"$f":"0","v":0},{"$f":"0","v":0},{"$f":"0","v":0},{"$f":"0","v":0},{"$f":"0","v":0},{"$f":"0","v":0},{"$f":"0","v":0},{"$f":"0","v":0},{"$f":"0","v":0}]
["x","4.3","  Kredyty, pożyczki, emisja papierów wartościowych","Kredyty, pożyczki, emisja papierów wartościowych",{"$f":"1300000","v":1300000},{"$f":"0","v":0},{"$f":"0","v":0},{"$f":"0","v":0},{"$f":"0","v":0},{"$f":"0","v":0},{"$f":"0","v":0},{"$f":"0","v":0},{"$f":"0","v":0},{"$f":"0","v":0},{"$f":"0","v":0},{"$f":"0","v":0},{"$f":"0","v":0},{"$f":"0","v":0},{"$f":"0","v":0},{"$f":"0","v":0},{"$f":"0","v":0},{"$f":"0","v":0},{"$f":"0","v":0},{"$f":"0","v":0},{"$f":"0","v":0},{"$f":"0","v":0},{"$f":"0","v":0},{"$f":"0","v":0},{"$f":"0","v":0},{"$f":"0","v":0},{"$f":"0","v":0},{"$f":"0","v":0},{"$f":"0","v":0},{"$f":"0","v":0},{"$f":"0","v":0},{"$f":"0","v":0},{"$f":"0","v":0},{"$f":"0","v":0}]
["x","4.3.1","   w tym na pokrycie deficytu budżetu","w tym na pokrycie deficytu budżetu",{"$f":"0","v":0},{"$f":"0","v":0},{"$f":"0","v":0},{"$f":"0","v":0},{"$f":"0","v":0},{"$f":"0","v":0},{"$f":"0","v":0},{"$f":"0","v":0},{"$f":"0","v":0},{"$f":"0","v":0},{"$f":"0","v":0},{"$f":"0","v":0},{"$f":"0","v":0},{"$f":"0","v":0},{"$f":"0","v":0},{"$f":"0","v":0},{"$f":"0","v":0},{"$f":"0","v":0},{"$f":"0","v":0},{"$f":"0","v":0},{"$f":"0","v":0},{"$f":"0","v":0},{"$f":"0","v":0},{"$f":"0","v":0},{"$f":"0","v":0},{"$f":"0","v":0},{"$f":"0","v":0},{"$f":"0","v":0},{"$f":"0","v":0},{"$f":"0","v":0},{"$f":"0","v":0},{"$f":"0","v":0},{"$f":"0","v":0},{"$f":"0","v":0}]
["x","4.4"," Inne przychody niezwiązane z zaciągnięciem długu"," Inne przychody niezwiązane z zaciągnięciem długu",{"$f":"0","v":0},{"$f":"0","v":0},{"$f":"0","v":0},{"$f":"0","v":0},{"$f":"0","v":0},{"$f":"0","v":0},{"$f":"0","v":0},{"$f":"0","v":0},{"$f":"0","v":0},{"$f":"0","v":0},{"$f":"0","v":0},{"$f":"0","v":0},{"$f":"0","v":0},{"$f":"0","v":0},{"$f":"0","v":0},{"$f":"0","v":0},{"$f":"0","v":0},{"$f":"0","v":0},{"$f":"0","v":0},{"$f":"0","v":0},{"$f":"0","v":0},{"$f":"0","v":0},{"$f":"0","v":0},{"$f":"0","v":0},{"$f":"0","v":0},{"$f":"0","v":0},{"$f":"0","v":0},{"$f":"0","v":0},{"$f":"0","v":0},{"$f":"0","v":0},{"$f":"0","v":0},{"$f":"0","v":0},{"$f":"0","v":0},{"$f":"0","v":0}]
["x","4.4.1","   w tym na pokrycie deficytu budżetu","w tym na pokrycie deficytu budżetu",{"$f":"0","v":0},{"$f":"0","v":0},{"$f":"0","v":0},{"$f":"0","v":0},{"$f":"0","v":0},{"$f":"0","v":0},{"$f":"0","v":0},{"$f":"0","v":0},{"$f":"0","v":0},{"$f":"0","v":0},{"$f":"0","v":0},{"$f":"0","v":0},{"$f":"0","v":0},{"$f":"0","v":0},{"$f":"0","v":0},{"$f":"0","v":0},{"$f":"0","v":0},{"$f":"0","v":0},{"$f":"0","v":0},{"$f":"0","v":0},{"$f":"0","v":0},{"$f":"0","v":0},{"$f":"0","v":0},{"$f":"0","v":0},{"$f":"0","v":0},{"$f":"0","v":0},{"$f":"0","v":0},{"$f":"0","v":0},{"$f":"0","v":0},{"$f":"0","v":0},{"$f":"0","v":0},{"$f":"0","v":0},{"$f":"0","v":0},{"$f":"0","v":0}]
["x",5,"Rozchody budżetu","Rozchody budżetu",{"$f":"2103808.24","v":2103808.2400000002},{"$f":"1057000","v":1057000},{"$f":"100000","v":100000},{"$f":"100000","v":100000},{"$f":"400000","v":400000},{"$f":"600000","v":600000},{"$f":"600000","v":600000},{"$f":"1200000","v":1200000},{"$f":"1300000","v":1300000},{"$f":"1200000","v":1200000},{"$f":"1330000","v":1330000},{"$f":"1510000","v":1510000},{"$f":"1548000","v":1548000},{"$f":"743000","v":743000},{"$f":"0","v":0},{"$f":"0","v":0},{"$f":"0","v":0},{"$f":"0","v":0},{"$f":"0","v":0},{"$f":"0","v":0},{"$f":"0","v":0},{"$f":"0","v":0},{"$f":"0","v":0},{"$f":"0","v":0},{"$f":"0","v":0},{"$f":"0","v":0},{"$f":"0","v":0},{"$f":"0","v":0},{"$f":"0","v":0},{"$f":"0","v":0},{"$f":"0","v":0},{"$f":"0","v":0},{"$f":"0","v":0},{"$f":"0","v":0}]
["x","5.1"," Spłaty rat kapitałowych kredytów i pożyczek oraz wykup papierów wartościowych","Spłaty rat kapitałowych kredytów i pożyczek oraz wykup papierów wartościowych",{"$f":"2103808.24","v":2103808.2400000002},{"$f":"1057000","v":1057000},{"$f":"100000","v":100000},{"$f":"100000","v":100000},{"$f":"400000","v":400000},{"$f":"600000","v":600000},{"$f":"600000","v":600000},{"$f":"1200000","v":1200000},{"$f":"1300000","v":1300000},{"$f":"1200000","v":1200000},{"$f":"1330000","v":1330000},{"$f":"1510000","v":1510000},{"$f":"1548000","v":1548000},{"$f":"743000","v":743000},{"$f":"0","v":0},{"$f":"0","v":0},{"$f":"0","v":0},{"$f":"0","v":0},{"$f":"0","v":0},{"$f":"0","v":0},{"$f":"0","v":0},{"$f":"0","v":0},{"$f":"0","v":0},{"$f":"0","v":0},{"$f":"0","v":0},{"$f":"0","v":0},{"$f":"0","v":0},{"$f":"0","v":0},{"$f":"0","v":0},{"$f":"0","v":0},{"$f":"0","v":0},{"$f":"0","v":0},{"$f":"0","v":0},{"$f":"0","v":0}]
["x","5.1.1","  w tym łączna kwota przypadających na dany rok kwot ustawowych wyłączeń z limitu spłaty zobowiązań, o którym mowa w art. 243 ustawy, z tego:","w tym łączna kwota przypadających na dany rok kwot ustawowych wyłączeń z limitu spłaty zobowiązań, o którym mowa w art. 243 ustawy, z tego:",{"$f":"0","v":0},{"$f":"1057000","v":1057000},{"$f":"100000","v":100000},{"$f":"0","v":0},{"$f":"0","v":0},{"$f":"0","v":0},{"$f":"0","v":0},{"$f":"0","v":0},{"$f":"0","v":0},{"$f":"0","v":0},{"$f":"0","v":0},{"$f":"0","v":0},{"$f":"0","v":0},{"$f":"0","v":0},{"$f":"0","v":0},{"$f":"0","v":0},{"$f":"0","v":0},{"$f":"0","v":0},{"$f":"0","v":0},{"$f":"0","v":0},{"$f":"0","v":0},{"$f":"0","v":0},{"$f":"0","v":0},{"$f":"0","v":0},{"$f":"0","v":0},{"$f":"0","v":0},{"$f":"0","v":0},{"$f":"0","v":0},{"$f":"0","v":0},{"$f":"0","v":0},{"$f":"0","v":0},{"$f":"0","v":0},{"$f":"0","v":0},{"$f":"0","v":0}]
["x","5.1.1.1","   kwota przypadających na dany rok kwot ustawowych wyłączeń określonych w art. 243 ust. 3 ustawy","kwota przypadających na dany rok kwot ustawowych wyłączeń określonych w art. 243 ust. 3 ustawy",{"$f":"0","v":0},{"$f":"1057000","v":1057000},{"$f":"0","v":0},{"$f":"0","v":0},{"$f":"0","v":0},{"$f":"0","v":0},{"$f":"0","v":0},{"$f":"0","v":0},{"$f":"0","v":0},{"$f":"0","v":0},{"$f":"0","v":0},{"$f":"0","v":0},{"$f":"0","v":0},{"$f":"0","v":0},{"$f":"0","v":0},{"$f":"0","v":0},{"$f":"0","v":0},{"$f":"0","v":0},{"$f":"0","v":0},{"$f":"0","v":0},{"$f":"0","v":0},{"$f":"0","v":0},{"$f":"0","v":0},{"$f":"0","v":0},{"$f":"0","v":0},{"$f":"0","v":0},{"$f":"0","v":0},{"$f":"0","v":0},{"$f":"0","v":0},{"$f":"0","v":0},{"$f":"0","v":0},{"$f":"0","v":0},{"$f":"0","v":0},{"$f":"0","v":0}]
["x","5.1.1.2","   kwota przypadających na dany rok kwot ustawowych wyłączeń określonych w art. 243 ust. 3a ustawy","kwota przypadających na dany rok kwot ustawowych wyłączeń określonych w art. 243 ust. 3a ustawy",{"$f":"0","v":0},{"$f":"0","v":0},{"$f":"100000","v":100000},{"$f":"0","v":0},{"$f":"0","v":0},{"$f":"0","v":0},{"$f":"0","v":0},{"$f":"0","v":0},{"$f":"0","v":0},{"$f":"0","v":0},{"$f":"0","v":0},{"$f":"0","v":0},{"$f":"0","v":0},{"$f":"0","v":0},{"$f":"0","v":0},{"$f":"0","v":0},{"$f":"0","v":0},{"$f":"0","v":0},{"$f":"0","v":0},{"$f":"0","v":0},{"$f":"0","v":0},{"$f":"0","v":0},{"$f":"0","v":0},{"$f":"0","v":0},{"$f":"0","v":0},{"$f":"0","v":0},{"$f":"0","v":0},{"$f":"0","v":0},{"$f":"0","v":0},{"$f":"0","v":0},{"$f":"0","v":0},{"$f":"0","v":0},{"$f":"0","v":0},{"$f":"0","v":0}]
["x","5.1.1.3","   kwota przypadających na dany rok kwot ustawowych wyłączeń innych niż określone w art. 243 ustawy","kwota przypadających na dany rok kwot ustawowych wyłączeń innych niż określone w art. 243 ustawy",{"$f":"0","v":0},{"$f":"0","v":0},{"$f":"0","v":0},{"$f":"0","v":0},{"$f":"0","v":0},{"$f":"0","v":0},{"$f":"0","v":0},{"$f":"0","v":0},{"$f":"0","v":0},{"$f":"0","v":0},{"$f":"0","v":0},{"$f":"0","v":0},{"$f":"0","v":0},{"$f":"0","v":0},{"$f":"0","v":0},{"$f":"0","v":0},{"$f":"0","v":0},{"$f":"0","v":0},{"$f":"0","v":0},{"$f":"0","v":0},{"$f":"0","v":0},{"$f":"0","v":0},{"$f":"0","v":0},{"$f":"0","v":0},{"$f":"0","v":0},{"$f":"0","v":0},{"$f":"0","v":0},{"$f":"0","v":0},{"$f":"0","v":0},{"$f":"0","v":0},{"$f":"0","v":0},{"$f":"0","v":0},{"$f":"0","v":0},{"$f":"0","v":0}]
[null,"5.2"," Inne rozchody niezwiązane ze spłatą długu"," Inne rozchody niezwiązane ze spłatą długu",{"$f":"0","v":0},{"$f":"0","v":0},{"$f":"0","v":0},{"$f":"0","v":0},{"$f":"0","v":0},{"$f":"0","v":0},{"$f":"0","v":0},{"$f":"0","v":0},{"$f":"0","v":0},{"$f":"0","v":0},{"$f":"0","v":0},{"$f":"0","v":0},{"$f":"0","v":0},{"$f":"0","v":0},{"$f":"0","v":0},{"$f":"0","v":0},{"$f":"0","v":0},{"$f":"0","v":0},{"$f":"0","v":0},{"$f":"0","v":0},{"$f":"0","v":0},{"$f":"0","v":0},{"$f":"0","v":0},{"$f":"0","v":0},{"$f":"0","v":0},{"$f":"0","v":0},{"$f":"0","v":0},{"$f":"0","v":0},{"$f":"0","v":0},{"$f":"0","v":0},{"$f":"0","v":0},{"$f":"0","v":0},{"$f":"0","v":0},{"$f":"0","v":0}]
["x",6,"Kwota długu","Kwota długu",{"$f":"11617700","v":11617700},{"$f":"10540850","v":10540850},{"$f":"10431000","v":10431000},{"$f":"10431000","v":10431000},{"$f":"10719000","v":10719000},{"$f":"9995000","v":9995000},{"$f":"9275000","v":9275000},{"$f":"7958000","v":7958000},{"$f":"6545000","v":6545000},{"$f":"5236000","v":5236000},{"$f":"3801000","v":3801000},{"$f":"2291000","v":2291000},{"$f":"743000","v":743000},{"$f":"0","v":0},{"$f":"0","v":0},{"$f":"0","v":0},{"$f":"0","v":0},{"$f":"0","v":0},{"$f":"0","v":0},{"$f":"0","v":0},{"$f":"0","v":0},{"$f":"0","v":0},{"$f":"0","v":0},{"$f":"0","v":0},{"$f":"0","v":0},{"$f":"0","v":0},{"$f":"0","v":0},{"$f":"0","v":0},{"$f":"0","v":0},{"$f":"0","v":0},{"$f":"0","v":0},{"$f":"0","v":0},{"$f":"0","v":0},{"$f":"0","v":0}]
[null,7,"Kwota zobowiązań wynikających z przejęcia przez jednostkę samorządu terytorialnego zobowiązań po likwidowanych i przekształcanych jednostkach zaliczanych do sektora  finansów publicznych","Kwota zobowiązań wynikających z przejęcia przez jednostkę samorządu terytorialnego zobowiązań po likwidowanych i przekształcanych jednostkach zaliczanych do sektora  finansów publicznych",{"$f":"0","v":0},{"$f":"0","v":0},{"$f":"0","v":0},{"$f":"0","v":0},{"$f":"0","v":0},{"$f":"0","v":0},{"$f":"0","v":0},{"$f":"0","v":0},{"$f":"0","v":0},{"$f":"0","v":0},{"$f":"0","v":0},{"$f":"0","v":0},{"$f":"0","v":0},{"$f":"0","v":0},{"$f":"0","v":0},{"$f":"0","v":0},{"$f":"0","v":0},{"$f":"0","v":0},{"$f":"0","v":0},{"$f":"0","v":0},{"$f":"0","v":0},{"$f":"0","v":0},{"$f":"0","v":0},{"$f":"0","v":0},{"$f":"0","v":0},{"$f":"0","v":0},{"$f":"0","v":0},{"$f":"0","v":0},{"$f":"0","v":0},{"$f":"0","v":0},{"$f":"0","v":0},{"$f":"0","v":0},{"$f":"0","v":0},{"$f":"0","v":0}]
[null,8,"Relacja zrównoważenia wydatków bieżących, o której mowa w art. 242 ustawy","Relacja zrównoważenia wydatków bieżących, o której mowa w art. 242 ustawy","x","x","x","x","x","x","x","x","x","x","x","x","x","x","x","x","x","x","x","x","x","x","x","x","x","x","x","x","x","x","x","x","x","x"]
[null,"8.1"," Różnica między dochodami bieżącymi a  wydatkami bieżącymi","Różnica między dochodami bieżącymi a  wydatkami bieżącymi",{"$f":"696479.34","v":696479.34},{"$f":"615045.17","v":615045.17000000004},{"$f":"178559","v":178559},{"$f":"503705.2","v":503705.2},{"$f":"1445151","v":1445151},{"$f":"1188400","v":1188400},{"$f":"1204150","v":1204150},{"$f":"1206904","v":1206904},{"$f":"1247662","v":1247662},{"$f":"1396481","v":1396481},{"$f":"1641426","v":1641426},{"$f":"1596559","v":1596559},{"$f":"1563945","v":1563945},{"$f":"1736654","v":1736654},{"$f":"0","v":0},{"$f":"0","v":0},{"$f":"0","v":0},{"$f":"0","v":0},{"$f":"0","v":0},{"$f":"0","v":0},{"$f":"0","v":0},{"$f":"0","v":0},{"$f":"0","v":0},{"$f":"0","v":0},{"$f":"0","v":0},{"$f":"0","v":0},{"$f":"0","v":0},{"$f":"0","v":0},{"$f":"0","v":0},{"$f":"0","v":0},{"$f":"0","v":0},{"$f":"0","v":0},{"$f":"0","v":0},{"$f":"0","v":0}]
[null,"8.2"," Różnica między dochodami bieżącymi, skorygowanymi o środki a wydatkami bieżącymi, pomniejszonymi  o wydatki","Różnica między dochodami bieżącymi, skorygowanymi o środki a wydatkami bieżącymi, pomniejszonymi  o wydatki",{"$f":"2809876.55","v":2809876.55},{"$f":"2020395.91","v":2020395.91},{"$f":"246559","v":246559},{"$f":"1058782.34","v":1058782.3400000001},{"$f":"1445151","v":1445151},{"$f":"1188400","v":1188400},{"$f":"1204150","v":1204150},{"$f":"1206904","v":1206904},{"$f":"1247662","v":1247662},{"$f":"1396481","v":1396481},{"$f":"1641426","v":1641426},{"$f":"1596559","v":1596559},{"$f":"1563945","v":1563945},{"$f":"1736654","v":1736654},{"$f":"0","v":0},{"$f":"0","v":0},{"$f":"0","v":0},{"$f":"0","v":0},{"$f":"0","v":0},{"$f":"0","v":0},{"$f":"0","v":0},{"$f":"0","v":0},{"$f":"0","v":0},{"$f":"0","v":0},{"$f":"0","v":0},{"$f":"0","v":0},{"$f":"0","v":0},{"$f":"0","v":0},{"$f":"0","v":0},{"$f":"0","v":0},{"$f":"0","v":0},{"$f":"0","v":0},{"$f":"0","v":0},{"$f":"0","v":0}]
["x",9,"Wskaźnik spłaty zobowiązań","Wskaźnik spłaty zobowiązań","x","x","x","x","x","x","x","x","x","x","x","x","x","x","x","x","x","x","x","x","x","x","x","x","x","x","x","x","x","x","x","x","x","x"]
["x","9.1","(R+O) / D (bez wyłączeń)","Wskaźnik planowanej łącznej kwoty spłaty zobowiązań, o której mowa w art. 243 ust. 1 ustawy do dochodów, bez uwzględnienia zobowiązań związku współtworzonego przez jednostkę samorządu terytorialnego  i bez uwzględnienia ustawowych wyłączeń przypadających na dany rok.",{"$f":"0.1486","v":0.14860000000000001},{"$f":"0.0855","v":8.5500000000000007E-2},{"$f":"0.026","v":2.5999999999999999E-2},{"$f":"0.0264","v":2.64E-2},{"$f":"0.0381","v":3.8100000000000002E-2},{"$f":"0.0446","v":4.4600000000000001E-2},{"$f":"0.045","v":4.4999999999999998E-2},{"$f":"0.0722","v":7.22E-2},{"$f":"0.0753","v":7.5300000000000006E-2},{"$f":"0.0685","v":6.8500000000000005E-2},{"$f":"0.0712","v":7.1199999999999999E-2},{"$f":"0.0762","v":7.6200000000000004E-2},{"$f":"0.0742","v":7.4200000000000002E-2},{"$f":"0.0341","v":3.4099999999999998E-2},{"$f":"0","v":0},{"$f":"0","v":0},{"$f":"0","v":0},{"$f":"0","v":0},{"$f":"0","v":0},{"$f":"0","v":0},{"$f":"0","v":0},{"$f":"0","v":0},{"$f":"0","v":0},{"$f":"0","v":0},{"$f":"0","v":0},{"$f":"0","v":0},{"$f":"0","v":0},{"$f":"0","v":0},{"$f":"0","v":0},{"$f":"0","v":0},{"$f":"0","v":0},{"$f":"0","v":0},{"$f":"0","v":0},{"$f":"0","v":0}]
["x","9.2","(R+O) / D (z wyłączeniami)","Wskaźnik planowanej łącznej kwoty spłaty zobowiązań, o której mowa w art. 243 ust. 1 ustawy do dochodów, bez uwzględnienia zobowiązań związku współtworzonego przez jednostkę samorządu terytorialnego, po uwzględnieniu ustawowych wyłączeń przypadających na dany rok.",{"$f":"0.1486","v":0.14860000000000001},{"$f":"0.015","v":1.4999999999999999E-2},{"$f":"0.0204","v":2.0400000000000001E-2},{"$f":"0.0202","v":2.0199999999999999E-2},{"$f":"0.0326","v":3.2599999999999997E-2},{"$f":"0.0401","v":4.0099999999999997E-2},{"$f":"0.0414","v":4.1399999999999999E-2},{"$f":"0.0692","v":6.9199999999999998E-2},{"$f":"0.0732","v":7.3200000000000001E-2},{"$f":"0.0673","v":6.7299999999999999E-2},{"$f":"0.0703","v":7.0300000000000001E-2},{"$f":"0.0755","v":7.5499999999999998E-2},{"$f":"0.0736","v":7.3599999999999999E-2},{"$f":"0.0335","v":3.3500000000000002E-2},{"$f":"0","v":0},{"$f":"0","v":0},{"$f":"0","v":0},{"$f":"0","v":0},{"$f":"0","v":0},{"$f":"0","v":0},{"$f":"0","v":0},{"$f":"0","v":0},{"$f":"0","v":0},{"$f":"0","v":0},{"$f":"0","v":0},{"$f":"0","v":0},{"$f":"0","v":0},{"$f":"0","v":0},{"$f":"0","v":0},{"$f":"0","v":0},{"$f":"0","v":0},{"$f":"0","v":0},{"$f":"0","v":0},{"$f":"0","v":0}]
["x","9.3"," Kwota zobowiązań związku współtworzonego przez jednostkę samorządu terytorialnego przypadających do spłaty w danym roku budżetowym, podlegająca doliczeniu zgodnie z art. 244 ustawy","Kwota zobowiązań związku współtworzonego przez jednostkę samorządu terytorialnego przypadających do spłaty w danym roku budżetowym, podlegająca doliczeniu zgodnie z art. 244 ustawy",{"$f":"0","v":0},{"$f":"0","v":0},{"$f":"0","v":0},{"$f":"0","v":0},{"$f":"0","v":0},{"$f":"0","v":0},{"$f":"0","v":0},{"$f":"0","v":0},{"$f":"0","v":0},{"$f":"0","v":0},{"$f":"0","v":0},{"$f":"0","v":0},{"$f":"0","v":0},{"$f":"0","v":0},{"$f":"0","v":0},{"$f":"0","v":0},{"$f":"0","v":0},{"$f":"0","v":0},{"$f":"0","v":0},{"$f":"0","v":0},{"$f":"0","v":0},{"$f":"0","v":0},{"$f":"0","v":0},{"$f":"0","v":0},{"$f":"0","v":0},{"$f":"0","v":0},{"$f":"0","v":0},{"$f":"0","v":0},{"$f":"0","v":0},{"$f":"0","v":0},{"$f":"0","v":0},{"$f":"0","v":0},{"$f":"0","v":0},{"$f":"0","v":0}]
["x","9.4","(R+O) / D (z wyłączeniami i zobowiązaniami związków)","Wskaźnik planowanej łącznej kwoty spłaty zobowiązań, o której mowa w art. 243 ust. 1 ustawy do dochodów, po uwzględnieniu zobowiązań związku współtworzonego przez jednostkę samorządu terytorialnego oraz po uwzględnieniu ustawowych wyłączeń przypadających na dany rok",{"$f":"0.1486","v":0.14860000000000001},{"$f":"0.015","v":1.4999999999999999E-2},{"$f":"0.0204","v":2.0400000000000001E-2},{"$f":"0.0202","v":2.0199999999999999E-2},{"$f":"0.0326","v":3.2599999999999997E-2},{"$f":"0.0401","v":4.0099999999999997E-2},{"$f":"0.0414","v":4.1399999999999999E-2},{"$f":"0.0692","v":6.9199999999999998E-2},{"$f":"0.0732","v":7.3200000000000001E-2},{"$f":"0.0673","v":6.7299999999999999E-2},{"$f":"0.0703","v":7.0300000000000001E-2},{"$f":"0.0755","v":7.5499999999999998E-2},{"$f":"0.0736","v":7.3599999999999999E-2},{"$f":"0.0335","v":3.3500000000000002E-2},{"$f":"0","v":0},{"$f":"0","v":0},{"$f":"0","v":0},{"$f":"0","v":0},{"$f":"0","v":0},{"$f":"0","v":0},{"$f":"0","v":0},{"$f":"0","v":0},{"$f":"0","v":0},{"$f":"0","v":0},{"$f":"0","v":0},{"$f":"0","v":0},{"$f":"0","v":0},{"$f":"0","v":0},{"$f":"0","v":0},{"$f":"0","v":0},{"$f":"0","v":0},{"$f":"0","v":0},{"$f":"0","v":0},{"$f":"0","v":0}]
["x","9.5"," Wskaźnik dochodów bieżących powiększonych o dochody ze sprzedaży majątku oraz pomniejszonych o wydatki bieżące, do dochodów budżetu, ustalony dla danego roku (wskaźnik jednoroczny)","Wskaźnik dochodów bieżących powiększonych o dochody ze sprzedaży majątku oraz pomniejszonych o wydatki bieżące, do dochodów budżetu, ustalony dla danego roku (wskaźnik jednoroczny)",{"$f":"+IF(AND(E4>=2013,E4<=2018),IF(E5<>0,(E6+E14-E17+E20)/E5,0),IF(E5<>0,(E6+E14-E17)/E5,0))","v":4.6449816304285567E-2},4.5695743728971144E-2,4.3812903760199411E-2,4.2484318149901626E-2,9.4454339409595703E-2,7.055724150576663E-2,7.8460241422673979E-2,7.7371250303581135E-2,7.9567173951896705E-2,8.2102178067172585E-2,9.1858617409581941E-2,8.8113752546926258E-2,8.4992483597425783E-2,9.0294726925101834E-2,0,0,0,0,0,0,0,0,0,0,0,0,0,0,0,0,0,0,0,0]
["x","9.6","Dopuszczalny wskaźnik spłaty zobowiązań z art. 243 ustawy, po uwzględnieniu ustawowych wyłączeń (planistyczny) ","Dopuszczalny wskaźnik spłaty zobowiązań określony w art. 243 ustawy, po uwzględnieniu ustawowych wyłączeń , obliczony w oparciu o plan 3 kwartału roku poprzedzającego pierwszy rok prognozy (wskaźnik ustalony w oparciu o średnią arytmetyczną z 3 poprzednich lat) ","x","x","x","x",{"$f":"0.0453","v":4.53E-2},{"$f":"0.0613","v":6.13E-2},{"$f":"0.0696","v":6.9599999999999995E-2},{"$f":"0.0812","v":8.1199999999999994E-2},{"$f":"0.0755","v":7.5499999999999998E-2},{"$f":"0.0785","v":7.85E-2},{"$f":"0.0797","v":7.9699999999999993E-2},{"$f":"0.0845","v":8.4500000000000006E-2},{"$f":"0.0874","v":8.7400000000000005E-2},{"$f":"0.0883","v":8.8300000000000003E-2},{"$f":"0","v":0},{"$f":"0","v":0},{"$f":"0","v":0},{"$f":"0","v":0},{"$f":"0","v":0},{"$f":"0","v":0},{"$f":"0","v":0},{"$f":"0","v":0},{"$f":"0","v":0},{"$f":"0","v":0},{"$f":"0","v":0},{"$f":"0","v":0},{"$f":"0","v":0},{"$f":"0","v":0},{"$f":"0","v":0},{"$f":"0","v":0},{"$f":"0","v":0},{"$f":"0","v":0},{"$f":"0","v":0},{"$f":"0","v":0}]
["x","9.6.1","Dopuszczalny wskaźnik spłaty zobowiązań z art. 243 ustawy, po uwzględnieniu ustawowych wyłączeń (wykonanie) ","Dopuszczalny wskaźnik spłaty zobowiązań określony w art. 243 ustawy, po uwzględnieniu ustawowych wyłączeń, obliczony w oparciu o wykonanie roku poprzedzającego pierwszy rok prognozy (wskaźnik ustalony w oparciu o średnią arytmetyczną z 3 poprzednich lat) ","x","x","x","x",{"$f":"0.0449","v":4.4900000000000002E-2},{"$f":"0.0609","v":6.0900000000000003E-2},{"$f":"0.0692","v":6.9199999999999998E-2},{"$f":"0.0812","v":8.1199999999999994E-2},{"$f":"0.0755","v":7.5499999999999998E-2},{"$f":"0.0785","v":7.85E-2},{"$f":"0.0797","v":7.9699999999999993E-2},{"$f":"0.0845","v":8.4500000000000006E-2},{"$f":"0.0874","v":8.7400000000000005E-2},{"$f":"0.0883","v":8.8300000000000003E-2},{"$f":"0","v":0},{"$f":"0","v":0},{"$f":"0","v":0},{"$f":"0","v":0},{"$f":"0","v":0},{"$f":"0","v":0},{"$f":"0","v":0},{"$f":"0","v":0},{"$f":"0","v":0},{"$f":"0","v":0},{"$f":"0","v":0},{"$f":"0","v":0},{"$f":"0","v":0},{"$f":"0","v":0},{"$f":"0","v":0},{"$f":"0","v":0},{"$f":"0","v":0},{"$f":"0","v":0},{"$f":"0","v":0},{"$f":"0","v":0}]
["x","9.7"," Informacja o spełnieniu wskaźnika spłaty zobowiązań określonego w art. 243 ustawy, po uwzględnieniu zobowiązań związku współtworzonego przez jednostkę samorządu terytorialnego oraz po uwzględnieniu ustawowych wyłączeń, obliczonego w oparciu o plan 3 kwartałów roku poprzedzającego rok budżetowy","Informacja o spełnieniu wskaźnika spłaty zobowiązań określonego w art. 243 ustawy, po uwzględnieniu zobowiązań związku współtworzonego przez jednostkę samorządu terytorialnego oraz po uwzględnieniu ustawowych wyłączeń, obliczonego w oparciu o plan 3 kwartałów roku poprzedzającego rok budżetowy","x","x","x","x",{"$f":"IF(I52<=I54,\"Spełniona\",\"Nie spełniona\")","v":"Spełniona"},{"$f":"IF(J52<=J54,\"Spełniona\",\"Nie spełniona\")","v":"Spełniona"},"Spełniona","Spełniona","Spełniona","Spełniona","Spełniona","Spełniona","Spełniona","Spełniona","Spełniona","Spełniona","Spełniona","Spełniona","Spełniona","Spełniona","Spełniona","Spełniona","Spełniona","Spełniona","Spełniona","Spełniona","Spełniona","Spełniona","Spełniona","Spełniona","Spełniona","Spełniona","Spełniona","Spełniona"]
["x","9.7.1","  Informacja o spełnieniu wskaźnika spłaty zobowiązań określonego w art. 243 ustawy, po uwzględnieniu zobowiązań związku współtworzonego przez jednostkę samorządu terytorialnego oraz po uwzględnieniu ustawowych wyłączeń, obliczonego w oparciu o wykonanie roku poprzedzającego rok budżetowy","Informacja o spełnieniu wskaźnika spłaty zobowiązań określonego w art. 243 ustawy, po uwzględnieniu zobowiązań związku współtworzonego przez jednostkę samorządu terytorialnego oraz po uwzględnieniu ustawowych wyłączeń, obliczonego w oparciu o wykonanie roku poprzedzającego rok budżetowy","x","x","x","x",{"$f":"IF(I52<=I55,\"Spełniona\",\"Nie spełniona\")","v":"Spełniona"},{"$f":"IF(J52<=J55,\"Spełniona\",\"Nie spełniona\")","v":"Spełniona"},"Spełniona","Spełniona","Spełniona","Spełniona","Spełniona","Spełniona","Spełniona","Spełniona","Spełniona","Spełniona","Spełniona","Spełniona","Spełniona","Spełniona","Spełniona","Spełniona","Spełniona","Spełniona","Spełniona","Spełniona","Spełniona","Spełniona","Spełniona","Spełniona","Spełniona","Spełniona","Spełniona","Spełniona"]
[null,10,"Przeznaczenie prognozowanej nadwyżki budżetowej,  w tym na:","Przeznaczenie prognozowanej nadwyżki budżetowej,  w tym na:",{"$f":"0","v":0},{"$f":"0","v":0},{"$f":"0","v":0},{"$f":"0","v":0},{"$f":"400000","v":400000},{"$f":"600000","v":600000},{"$f":"600000","v":600000},{"$f":"1200000","v":1200000},{"$f":"1300000","v":1300000},{"$f":"1200000","v":1200000},{"$f":"1330000","v":1330000},{"$f":"1510000","v":1510000},{"$f":"1548000","v":1548000},{"$f":"743000","v":743000},{"$f":"0","v":0},{"$f":"0","v":0},{"$f":"0","v":0},{"$f":"0","v":0},{"$f":"0","v":0},{"$f":"0","v":0},{"$f":"0","v":0},{"$f":"0","v":0},{"$f":"0","v":0},{"$f":"0","v":0},{"$f":"0","v":0},{"$f":"0","v":0},{"$f":"0","v":0},{"$f":"0","v":0},{"$f":"0","v":0},{"$f":"0","v":0},{"$f":"0","v":0},{"$f":"0","v":0},{"$f":"0","v":0},{"$f":"0","v":0}]
[null,"10.1"," Spłaty kredytów, pożyczek i wykup papierów wartościowych","Spłaty kredytów, pożyczek i wykup papierów wartościowych",{"$f":"0","v":0},{"$f":"406000","v":406000},{"$f":"100000","v":100000},{"$f":"100000","v":100000},{"$f":"400000","v":400000},{"$f":"600000","v":600000},{"$f":"600000","v":600000},{"$f":"1200000","v":1200000},{"$f":"1300000","v":1300000},{"$f":"1200000","v":1200000},{"$f":"1330000","v":1330000},{"$f":"1510000","v":1510000},{"$f":"1548000","v":1548000},{"$f":"743000","v":743000},{"$f":"0","v":0},{"$f":"0","v":0},{"$f":"0","v":0},{"$f":"0","v":0},{"$f":"0","v":0},{"$f":"0","v":0},{"$f":"0","v":0},{"$f":"0","v":0},{"$f":"0","v":0},{"$f":"0","v":0},{"$f":"0","v":0},{"$f":"0","v":0},{"$f":"0","v":0},{"$f":"0","v":0},{"$f":"0","v":0},{"$f":"0","v":0},{"$f":"0","v":0},{"$f":"0","v":0},{"$f":"0","v":0},{"$f":"0","v":0}]
[null,11,"Informacje uzupełniające o wybranych rodzajach wydatków budżetowych","Informacje uzupełniające o wybranych rodzajach wydatków budżetowych","x","x","x","x","x","x","x","x","x","x","x","x","x","x","x","x","x","x","x","x","x","x","x","x","x","x","x","x","x","x","x","x","x","x"]
[null,"11.1"," Wydatki bieżące na wynagrodzenia i składki od nich naliczane","Wydatki bieżące na wynagrodzenia i składki od nich naliczane",{"$f":"6833507.94","v":6833507.9400000004},{"$f":"6698815.09","v":6698815.0899999999},{"$f":"7165654.94","v":7165654.9400000004},{"$f":"7091945.11","v":7091945.1100000003},{"$f":"7238062.44","v":7238062.4400000004},{"$f":"7385532","v":7385532},{"$f":"7607098","v":7607098},{"$f":"7835311","v":7835311},{"$f":"8070371","v":8070371},{"$f":"8312482","v":8312482},{"$f":"8561856","v":8561856},{"$f":"8818712","v":8818712},{"$f":"9083273","v":9083273},{"$f":"9355771","v":9355771},{"$f":"0","v":0},{"$f":"0","v":0},{"$f":"0","v":0},{"$f":"0","v":0},{"$f":"0","v":0},{"$f":"0","v":0},{"$f":"0","v":0},{"$f":"0","v":0},{"$f":"0","v":0},{"$f":"0","v":0},{"$f":"0","v":0},{"$f":"0","v":0},{"$f":"0","v":0},{"$f":"0","v":0},{"$f":"0","v":0},{"$f":"0","v":0},{"$f":"0","v":0},{"$f":"0","v":0},{"$f":"0","v":0},{"$f":"0","v":0}]
[null,"11.2"," Wydatki związane z funkcjonowaniem organów jednostki samorządu terytorialnego","Wydatki związane z funkcjonowaniem organów jednostki samorządu terytorialnego",{"$f":"2900368.74","v":2900368.74},{"$f":"2100000","v":2100000},{"$f":"2347855.59","v":2347855.59},{"$f":"2269710.14","v":2269710.14},{"$f":"2448925","v":2448925},{"$f":"2400000","v":2400000},{"$f":"2500000","v":2500000},{"$f":"2600000","v":2600000},{"$f":"2700000","v":2700000},{"$f":"2800000","v":2800000},{"$f":"2900000","v":2900000},{"$f":"3000000","v":3000000},{"$f":"3100000","v":3100000},{"$f":"3200000","v":3200000},{"$f":"0","v":0},{"$f":"0","v":0},{"$f":"0","v":0},{"$f":"0","v":0},{"$f":"0","v":0},{"$f":"0","v":0},{"$f":"0","v":0},{"$f":"0","v":0},{"$f":"0","v":0},{"$f":"0","v":0},{"$f":"0","v":0},{"$f":"0","v":0},{"$f":"0","v":0},{"$f":"0","v":0},{"$f":"0","v":0},{"$f":"0","v":0},{"$f":"0","v":0},{"$f":"0","v":0},{"$f":"0","v":0},{"$f":"0","v":0}]
[null,"11.3"," Wydatki objęte limitem, o którym mowa w art. 226 ust. 3 pkt 4 ustawy","Wydatki objęte limitem, o którym mowa w art. 226 ust. 3 pkt 4 ustawy",{"$f":"1434026.7","v":1434026.7},{"$f":"315833.26","v":315833.26},{"$f":"0","v":0},{"$f":"0","v":0},{"$f":"1315050","v":1315050},{"$f":"2431100","v":2431100},{"$f":"157000","v":157000},{"$f":"153000","v":153000},{"$f":"149000","v":149000},{"$f":"183000","v":183000},{"$f":"179000","v":179000},{"$f":"0","v":0},{"$f":"0","v":0},{"$f":"0","v":0},{"$f":"0","v":0},{"$f":"0","v":0},{"$f":"0","v":0},{"$f":"0","v":0},{"$f":"0","v":0},{"$f":"0","v":0},{"$f":"0","v":0},{"$f":"0","v":0},{"$f":"0","v":0},{"$f":"0","v":0},{"$f":"0","v":0},{"$f":"0","v":0},{"$f":"0","v":0},{"$f":"0","v":0},{"$f":"0","v":0},{"$f":"0","v":0},{"$f":"0","v":0},{"$f":"0","v":0},{"$f":"0","v":0},{"$f":"0","v":0}]
[null,"11.3.1","   Wydatki bieżące na przedsięwzięcia","bieżące",{"$f":"193481.61","v":193481.61},{"$f":"116605.57","v":116605.57},{"$f":"0","v":0},{"$f":"0","v":0},{"$f":"418000","v":418000},{"$f":"270100","v":270100},{"$f":"0","v":0},{"$f":"0","v":0},{"$f":"0","v":0},{"$f":"0","v":0},{"$f":"0","v":0},{"$f":"0","v":0},{"$f":"0","v":0},{"$f":"0","v":0},{"$f":"0","v":0},{"$f":"0","v":0},{"$f":"0","v":0},{"$f":"0","v":0},{"$f":"0","v":0},{"$f":"0","v":0},{"$f":"0","v":0},{"$f":"0","v":0},{"$f":"0","v":0},{"$f":"0","v":0},{"$f":"0","v":0},{"$f":"0","v":0},{"$f":"0","v":0},{"$f":"0","v":0},{"$f":"0","v":0},{"$f":"0","v":0},{"$f":"0","v":0},{"$f":"0","v":0},{"$f":"0","v":0},{"$f":"0","v":0}]
[null,"11.3.2","   Wydatki majątkowe na przedsięwzięcia","majątkowe",{"$f":"1240545.09","v":1240545.0900000001},{"$f":"199227.69","v":199227.69},{"$f":"0","v":0},{"$f":"0","v":0},{"$f":"897050","v":897050},{"$f":"2161000","v":2161000},{"$f":"157000","v":157000},{"$f":"153000","v":153000},{"$f":"149000","v":149000},{"$f":"183000","v":183000},{"$f":"179000","v":179000},{"$f":"0","v":0},{"$f":"0","v":0},{"$f":"0","v":0},{"$f":"0","v":0},{"$f":"0","v":0},{"$f":"0","v":0},{"$f":"0","v":0},{"$f":"0","v":0},{"$f":"0","v":0},{"$f":"0","v":0},{"$f":"0","v":0},{"$f":"0","v":0},{"$f":"0","v":0},{"$f":"0","v":0},{"$f":"0","v":0},{"$f":"0","v":0},{"$f":"0","v":0},{"$f":"0","v":0},{"$f":"0","v":0},{"$f":"0","v":0},{"$f":"0","v":0},{"$f":"0","v":0},{"$f":"0","v":0}]
[null,"11.4"," Wydatki inwestycyjne kontynuowane ","Wydatki inwestycyjne kontynuowane ",{"$f":"1056960.55","v":1056960.55},{"$f":"261062","v":261062},{"$f":"0","v":0},{"$f":"0","v":0},{"$f":"0","v":0},{"$f":"0","v":0},{"$f":"0","v":0},{"$f":"0","v":0},{"$f":"0","v":0},{"$f":"0","v":0},{"$f":"0","v":0},{"$f":"0","v":0},{"$f":"0","v":0},{"$f":"0","v":0},{"$f":"0","v":0},{"$f":"0","v":0},{"$f":"0","v":0},{"$f":"0","v":0},{"$f":"0","v":0},{"$f":"0","v":0},{"$f":"0","v":0},{"$f":"0","v":0},{"$f":"0","v":0},{"$f":"0","v":0},{"$f":"0","v":0},{"$f":"0","v":0},{"$f":"0","v":0},{"$f":"0","v":0},{"$f":"0","v":0},{"$f":"0","v":0},{"$f":"0","v":0},{"$f":"0","v":0},{"$f":"0","v":0},{"$f":"0","v":0}]
[null,"11.5"," Nowe wydatki inwestycyjne","Nowe wydatki inwestycyjne",{"$f":"570924.95","v":570924.94999999995},{"$f":"383938","v":383938},{"$f":"0","v":0},{"$f":"512107.73","v":512107.73},{"$f":"1256151","v":1256151},{"$f":"2000000","v":2000000},{"$f":"0","v":0},{"$f":"0","v":0},{"$f":"0","v":0},{"$f":"0","v":0},{"$f":"0","v":0},{"$f":"0","v":0},{"$f":"0","v":0},{"$f":"0","v":0},{"$f":"0","v":0},{"$f":"0","v":0},{"$f":"0","v":0},{"$f":"0","v":0},{"$f":"0","v":0},{"$f":"0","v":0},{"$f":"0","v":0},{"$f":"0","v":0},{"$f":"0","v":0},{"$f":"0","v":0},{"$f":"0","v":0},{"$f":"0","v":0},{"$f":"0","v":0},{"$f":"0","v":0},{"$f":"0","v":0},{"$f":"0","v":0},{"$f":"0","v":0},{"$f":"0","v":0},{"$f":"0","v":0},{"$f":"0","v":0}]
[null,"11.6"," Wydatki majątkowe w formie dotacji ","Wydatki majątkowe w formie dotacji ",{"$f":"65000","v":65000},{"$f":"55000","v":55000},{"$f":"105000","v":105000},{"$f":"65000","v":65000},{"$f":"50000","v":50000},{"$f":"0","v":0},{"$f":"0","v":0},{"$f":"0","v":0},{"$f":"0","v":0},{"$f":"0","v":0},{"$f":"0","v":0},{"$f":"0","v":0},{"$f":"0","v":0},{"$f":"0","v":0},{"$f":"0","v":0},{"$f":"0","v":0},{"$f":"0","v":0},{"$f":"0","v":0},{"$f":"0","v":0},{"$f":"0","v":0},{"$f":"0","v":0},{"$f":"0","v":0},{"$f":"0","v":0},{"$f":"0","v":0},{"$f":"0","v":0},{"$f":"0","v":0},{"$f":"0","v":0},{"$f":"0","v":0},{"$f":"0","v":0},{"$f":"0","v":0},{"$f":"0","v":0},{"$f":"0","v":0},{"$f":"0","v":0},{"$f":"0","v":0}]
[null,12,"Finansowanie programów, projektów lub zadań realizowanych z udziałem środków, o których mowa w art. 5 ust. 1 pkt 2 i 3 ustawy","Finansowanie programów, projektów lub zadań realizowanych z udziałem środków, o których mowa w art. 5 ust. 1 pkt 2 i 3 ustawy","x","x","x","x","x","x","x","x","x","x","x","x","x","x","x","x","x","x","x","x","x","x","x","x","x","x","x","x","x","x","x","x","x","x"]
[null,"12.1"," Dochody bieżące  na programy, projekty lub zadania finansowane z udziałem środków, o których mowa w art. 5 ust. 1 pkt 2 i 3 ustawy","Dochody bieżące  na programy, projekty lub zadania finansowane z udziałem środków, o których mowa w art. 5 ust. 1 pkt 2 i 3 ustawy",{"$f":"229514.4","v":229514.4},{"$f":"0","v":0},{"$f":"0","v":0},{"$f":"0","v":0},{"$f":"0","v":0},{"$f":"0","v":0},{"$f":"0","v":0},{"$f":"0","v":0},{"$f":"0","v":0},{"$f":"0","v":0},{"$f":"0","v":0},{"$f":"0","v":0},{"$f":"0","v":0},{"$f":"0","v":0},{"$f":"0","v":0},{"$f":"0","v":0},{"$f":"0","v":0},{"$f":"0","v":0},{"$f":"0","v":0},{"$f":"0","v":0},{"$f":"0","v":0},{"$f":"0","v":0},{"$f":"0","v":0},{"$f":"0","v":0},{"$f":"0","v":0},{"$f":"0","v":0},{"$f":"0","v":0},{"$f":"0","v":0},{"$f":"0","v":0},{"$f":"0","v":0},{"$f":"0","v":0},{"$f":"0","v":0},{"$f":"0","v":0},{"$f":"0","v":0}]
[null,"12.1.1","  -  w tym środki określone w art. 5 ust. 1 pkt 2 ustawy","-  w tym środki określone w art. 5 ust. 1 pkt 2 ustawy",{"$f":"208926.15","v":208926.15},{"$f":"0","v":0},{"$f":"0","v":0},{"$f":"0","v":0},{"$f":"0","v":0},{"$f":"0","v":0},{"$f":"0","v":0},{"$f":"0","v":0},{"$f":"0","v":0},{"$f":"0","v":0},{"$f":"0","v":0},{"$f":"0","v":0},{"$f":"0","v":0},{"$f":"0","v":0},{"$f":"0","v":0},{"$f":"0","v":0},{"$f":"0","v":0},{"$f":"0","v":0},{"$f":"0","v":0},{"$f":"0","v":0},{"$f":"0","v":0},{"$f":"0","v":0},{"$f":"0","v":0},{"$f":"0","v":0},{"$f":"0","v":0},{"$f":"0","v":0},{"$f":"0","v":0},{"$f":"0","v":0},{"$f":"0","v":0},{"$f":"0","v":0},{"$f":"0","v":0},{"$f":"0","v":0},{"$f":"0","v":0},{"$f":"0","v":0}]
[null,"12.1.1.1","   - w tym środki określone w art. 5 ust. 1 pkt 2 ustawy wynikające wyłącznie z  zawartych umów na realizację programu, projektu lub zadania","- w tym środki określone w art. 5 ust. 1 pkt 2 ustawy wynikające wyłącznie z  zawartych umów na realizację programu, projektu lub zadania",{"$f":"208926.15","v":208926.15},{"$f":"0","v":0},{"$f":"0","v":0},{"$f":"0","v":0},{"$f":"0","v":0},{"$f":"0","v":0},{"$f":"0","v":0},{"$f":"0","v":0},{"$f":"0","v":0},{"$f":"0","v":0},{"$f":"0","v":0},{"$f":"0","v":0},{"$f":"0","v":0},{"$f":"0","v":0},{"$f":"0","v":0},{"$f":"0","v":0},{"$f":"0","v":0},{"$f":"0","v":0},{"$f":"0","v":0},{"$f":"0","v":0},{"$f":"0","v":0},{"$f":"0","v":0},{"$f":"0","v":0},{"$f":"0","v":0},{"$f":"0","v":0},{"$f":"0","v":0},{"$f":"0","v":0},{"$f":"0","v":0},{"$f":"0","v":0},{"$f":"0","v":0},{"$f":"0","v":0},{"$f":"0","v":0},{"$f":"0","v":0},{"$f":"0","v":0}]
[null,"12.2"," Dochody majątkowe  na programy, projekty lub zadania finansowane z udziałem środków, o których mowa w art. 5 ust. 1 pkt 2 i 3 ustawy","Dochody majątkowe  na programy, projekty lub zadania finansowane z udziałem środków, o których mowa w art. 5 ust. 1 pkt 2 i 3 ustawy",{"$f":"936216.81","v":936216.81},{"$f":"0","v":0},{"$f":"0","v":0},{"$f":"0","v":0},{"$f":"462622","v":462622},{"$f":"1272600","v":1272600},{"$f":"0","v":0},{"$f":"0","v":0},{"$f":"0","v":0},{"$f":"0","v":0},{"$f":"0","v":0},{"$f":"0","v":0},{"$f":"0","v":0},{"$f":"0","v":0},{"$f":"0","v":0},{"$f":"0","v":0},{"$f":"0","v":0},{"$f":"0","v":0},{"$f":"0","v":0},{"$f":"0","v":0},{"$f":"0","v":0},{"$f":"0","v":0},{"$f":"0","v":0},{"$f":"0","v":0},{"$f":"0","v":0},{"$f":"0","v":0},{"$f":"0","v":0},{"$f":"0","v":0},{"$f":"0","v":0},{"$f":"0","v":0},{"$f":"0","v":0},{"$f":"0","v":0},{"$f":"0","v":0},{"$f":"0","v":0}]
[null,"12.2.1","   -  w tym środki określone w art. 5 ust. 1 pkt 2 ustawy","-  w tym środki określone w art. 5 ust. 1 pkt 2 ustawy",{"$f":"936216.81","v":936216.81},{"$f":"0","v":0},{"$f":"0","v":0},{"$f":"0","v":0},{"$f":"462622","v":462622},{"$f":"1272600","v":1272600},{"$f":"0","v":0},{"$f":"0","v":0},{"$f":"0","v":0},{"$f":"0","v":0},{"$f":"0","v":0},{"$f":"0","v":0},{"$f":"0","v":0},{"$f":"0","v":0},{"$f":"0","v":0},{"$f":"0","v":0},{"$f":"0","v":0},{"$f":"0","v":0},{"$f":"0","v":0},{"$f":"0","v":0},{"$f":"0","v":0},{"$f":"0","v":0},{"$f":"0","v":0},{"$f":"0","v":0},{"$f":"0","v":0},{"$f":"0","v":0},{"$f":"0","v":0},{"$f":"0","v":0},{"$f":"0","v":0},{"$f":"0","v":0},{"$f":"0","v":0},{"$f":"0","v":0},{"$f":"0","v":0},{"$f":"0","v":0}]
[null,"12.2.1.1","    - w tym środki określone w art. 5 ust. 1 pkt 2 ustawy wynikające wyłącznie z zawartych umów na realizację programu, projektu lub zadania","- w tym środki określone w art. 5 ust. 1 pkt 2 ustawy wynikające wyłącznie z zawartych umów na realizację programu, projektu lub zadania",{"$f":"936216.81","v":936216.81},{"$f":"0","v":0},{"$f":"0","v":0},{"$f":"0","v":0},{"$f":"0","v":0},{"$f":"0","v":0},{"$f":"0","v":0},{"$f":"0","v":0},{"$f":"0","v":0},{"$f":"0","v":0},{"$f":"0","v":0},{"$f":"0","v":0},{"$f":"0","v":0},{"$f":"0","v":0},{"$f":"0","v":0},{"$f":"0","v":0},{"$f":"0","v":0},{"$f":"0","v":0},{"$f":"0","v":0},{"$f":"0","v":0},{"$f":"0","v":0},{"$f":"0","v":0},{"$f":"0","v":0},{"$f":"0","v":0},{"$f":"0","v":0},{"$f":"0","v":0},{"$f":"0","v":0},{"$f":"0","v":0},{"$f":"0","v":0},{"$f":"0","v":0},{"$f":"0","v":0},{"$f":"0","v":0},{"$f":"0","v":0},{"$f":"0","v":0}]
[null,"12.3"," Wydatki bieżące na programy, projekty lub zadania finansowane z udziałem środków, o których mowa w art. 5 ust. 1 pkt 2 i 3 ustawy","Wydatki bieżące na programy, projekty lub zadania finansowane z udziałem środków, o których mowa w art. 5 ust. 1 pkt 2 i 3 ustawy",{"$f":"363661.35","v":363661.35},{"$f":"0","v":0},{"$f":"0","v":0},{"$f":"0","v":0},{"$f":"0","v":0},{"$f":"0","v":0},{"$f":"0","v":0},{"$f":"0","v":0},{"$f":"0","v":0},{"$f":"0","v":0},{"$f":"0","v":0},{"$f":"0","v":0},{"$f":"0","v":0},{"$f":"0","v":0},{"$f":"0","v":0},{"$f":"0","v":0},{"$f":"0","v":0},{"$f":"0","v":0},{"$f":"0","v":0},{"$f":"0","v":0},{"$f":"0","v":0},{"$f":"0","v":0},{"$f":"0","v":0},{"$f":"0","v":0},{"$f":"0","v":0},{"$f":"0","v":0},{"$f":"0","v":0},{"$f":"0","v":0},{"$f":"0","v":0},{"$f":"0","v":0},{"$f":"0","v":0},{"$f":"0","v":0},{"$f":"0","v":0},{"$f":"0","v":0}]
[null,"12.3.1","  -  w tym finansowane środkami określonymi w art. 5 ust. 1 pkt 2 ustawy ","-  w tym finansowane środkami określonymi w art. 5 ust. 1 pkt 2 ustawy ",{"$f":"293435.14","v":293435.14},{"$f":"0","v":0},{"$f":"0","v":0},{"$f":"0","v":0},{"$f":"0","v":0},{"$f":"0","v":0},{"$f":"0","v":0},{"$f":"0","v":0},{"$f":"0","v":0},{"$f":"0","v":0},{"$f":"0","v":0},{"$f":"0","v":0},{"$f":"0","v":0},{"$f":"0","v":0},{"$f":"0","v":0},{"$f":"0","v":0},{"$f":"0","v":0},{"$f":"0","v":0},{"$f":"0","v":0},{"$f":"0","v":0},{"$f":"0","v":0},{"$f":"0","v":0},{"$f":"0","v":0},{"$f":"0","v":0},{"$f":"0","v":0},{"$f":"0","v":0},{"$f":"0","v":0},{"$f":"0","v":0},{"$f":"0","v":0},{"$f":"0","v":0},{"$f":"0","v":0},{"$f":"0","v":0},{"$f":"0","v":0},{"$f":"0","v":0}]
[null,"12.3.2","  Wydatki bieżące na realizację programu, projektu lub zadania wynikające wyłącznie z zawartych umów z podmiotem dysponującym środkami, o których mowa w art. 5 ust. 1 pkt 2 ustawy ","Wydatki bieżące na realizację programu, projektu lub zadania wynikające wyłącznie z zawartych umów z podmiotem dysponującym środkami, o których mowa w art. 5 ust. 1 pkt 2 ustawy ",{"$f":"363661.35","v":363661.35},{"$f":"0","v":0},{"$f":"0","v":0},{"$f":"0","v":0},{"$f":"0","v":0},{"$f":"0","v":0},{"$f":"0","v":0},{"$f":"0","v":0},{"$f":"0","v":0},{"$f":"0","v":0},{"$f":"0","v":0},{"$f":"0","v":0},{"$f":"0","v":0},{"$f":"0","v":0},{"$f":"0","v":0},{"$f":"0","v":0},{"$f":"0","v":0},{"$f":"0","v":0},{"$f":"0","v":0},{"$f":"0","v":0},{"$f":"0","v":0},{"$f":"0","v":0},{"$f":"0","v":0},{"$f":"0","v":0},{"$f":"0","v":0},{"$f":"0","v":0},{"$f":"0","v":0},{"$f":"0","v":0},{"$f":"0","v":0},{"$f":"0","v":0},{"$f":"0","v":0},{"$f":"0","v":0},{"$f":"0","v":0},{"$f":"0","v":0}]
[null,"12.4"," Wydatki majątkowe na programy, projekty lub zadania finansowane z udziałem środków, o których mowa w art. 5 ust. 1 pkt 2 i 3 ustawy","Wydatki majątkowe na programy, projekty lub zadania finansowane z udziałem środków, o których mowa w art. 5 ust. 1 pkt 2 i 3 ustawy",{"$f":"847834.76","v":847834.76},{"$f":"0","v":0},{"$f":"0","v":0},{"$f":"0","v":0},{"$f":"727050","v":727050},{"$f":"2000000","v":2000000},{"$f":"0","v":0},{"$f":"0","v":0},{"$f":"0","v":0},{"$f":"0","v":0},{"$f":"0","v":0},{"$f":"0","v":0},{"$f":"0","v":0},{"$f":"0","v":0},{"$f":"0","v":0},{"$f":"0","v":0},{"$f":"0","v":0},{"$f":"0","v":0},{"$f":"0","v":0},{"$f":"0","v":0},{"$f":"0","v":0},{"$f":"0","v":0},{"$f":"0","v":0},{"$f":"0","v":0},{"$f":"0","v":0},{"$f":"0","v":0},{"$f":"0","v":0},{"$f":"0","v":0},{"$f":"0","v":0},{"$f":"0","v":0},{"$f":"0","v":0},{"$f":"0","v":0},{"$f":"0","v":0},{"$f":"0","v":0}]
[null,"12.4.1","  -  w tym finansowane środkami określonymi w art. 5 ust. 1 pkt 2 ustawy","-  w tym finansowane środkami określonymi w art. 5 ust. 1 pkt 2 ustawy",{"$f":"545174.4","v":545174.4},{"$f":"0","v":0},{"$f":"0","v":0},{"$f":"0","v":0},{"$f":"462622","v":462622},{"$f":"1272600","v":1272600},{"$f":"0","v":0},{"$f":"0","v":0},{"$f":"0","v":0},{"$f":"0","v":0},{"$f":"0","v":0},{"$f":"0","v":0},{"$f":"0","v":0},{"$f":"0","v":0},{"$f":"0","v":0},{"$f":"0","v":0},{"$f":"0","v":0},{"$f":"0","v":0},{"$f":"0","v":0},{"$f":"0","v":0},{"$f":"0","v":0},{"$f":"0","v":0},{"$f":"0","v":0},{"$f":"0","v":0},{"$f":"0","v":0},{"$f":"0","v":0},{"$f":"0","v":0},{"$f":"0","v":0},{"$f":"0","v":0},{"$f":"0","v":0},{"$f":"0","v":0},{"$f":"0","v":0},{"$f":"0","v":0},{"$f":"0","v":0}]
[null,"12.4.2","  Wydatki majątkowe na realizację programu, projektu lub zadania wynikające wyłącznie z zawartych umów z podmiotem dysponującym środkami, o których mowa w art. 5 ust. 1 pkt 2 ustawy ","Wydatki majątkowe na realizację programu, projektu lub zadania wynikające wyłącznie z zawartych umów z podmiotem dysponującym środkami, o których mowa w art. 5 ust. 1 pkt 2 ustawy ",{"$f":"847834.76","v":847834.76},{"$f":"0","v":0},{"$f":"0","v":0},{"$f":"0","v":0},{"$f":"0","v":0},{"$f":"0","v":0},{"$f":"0","v":0},{"$f":"0","v":0},{"$f":"0","v":0},{"$f":"0","v":0},{"$f":"0","v":0},{"$f":"0","v":0},{"$f":"0","v":0},{"$f":"0","v":0},{"$f":"0","v":0},{"$f":"0","v":0},{"$f":"0","v":0},{"$f":"0","v":0},{"$f":"0","v":0},{"$f":"0","v":0},{"$f":"0","v":0},{"$f":"0","v":0},{"$f":"0","v":0},{"$f":"0","v":0},{"$f":"0","v":0},{"$f":"0","v":0},{"$f":"0","v":0},{"$f":"0","v":0},{"$f":"0","v":0},{"$f":"0","v":0},{"$f":"0","v":0},{"$f":"0","v":0},{"$f":"0","v":0},{"$f":"0","v":0}]
[null,"12.5"," Wydatki na wkład krajowy w związku z umową na realizację programu, projektu lub zadania finansowanego z udziałem środków, o których mowa w art. 5 ust. 1 pkt 2 ustawy bez względu na stopień finansowania tymi środkami ","Wydatki na wkład krajowy w związku z umową na realizację programu, projektu lub zadania finansowanego z udziałem środków, o których mowa w art. 5 ust. 1 pkt 2 ustawy bez względu na stopień finansowania tymi środkami ",{"$f":"0","v":0},{"$f":"0","v":0},{"$f":"0","v":0},{"$f":"0","v":0},{"$f":"264428","v":264428},{"$f":"727400","v":727400},{"$f":"0","v":0},{"$f":"0","v":0},{"$f":"0","v":0},{"$f":"0","v":0},{"$f":"0","v":0},{"$f":"0","v":0},{"$f":"0","v":0},{"$f":"0","v":0},{"$f":"0","v":0},{"$f":"0","v":0},{"$f":"0","v":0},{"$f":"0","v":0},{"$f":"0","v":0},{"$f":"0","v":0},{"$f":"0","v":0},{"$f":"0","v":0},{"$f":"0","v":0},{"$f":"0","v":0},{"$f":"0","v":0},{"$f":"0","v":0},{"$f":"0","v":0},{"$f":"0","v":0},{"$f":"0","v":0},{"$f":"0","v":0},{"$f":"0","v":0},{"$f":"0","v":0},{"$f":"0","v":0},{"$f":"0","v":0}]
[null,"12.5.1","  w tym w związku z już zawartą umową na realizację programu, projektu lub zadania","w tym w związku z już zawartą umową na realizację programu, projektu lub zadania",{"$f":"0","v":0},{"$f":"0","v":0},{"$f":"0","v":0},{"$f":"0","v":0},{"$f":"0","v":0},{"$f":"0","v":0},{"$f":"0","v":0},{"$f":"0","v":0},{"$f":"0","v":0},{"$f":"0","v":0},{"$f":"0","v":0},{"$f":"0","v":0},{"$f":"0","v":0},{"$f":"0","v":0},{"$f":"0","v":0},{"$f":"0","v":0},{"$f":"0","v":0},{"$f":"0","v":0},{"$f":"0","v":0},{"$f":"0","v":0},{"$f":"0","v":0},{"$f":"0","v":0},{"$f":"0","v":0},{"$f":"0","v":0},{"$f":"0","v":0},{"$f":"0","v":0},{"$f":"0","v":0},{"$f":"0","v":0},{"$f":"0","v":0},{"$f":"0","v":0},{"$f":"0","v":0},{"$f":"0","v":0},{"$f":"0","v":0},{"$f":"0","v":0}]
[null,"12.6"," Wydatki na wkład krajowy w związku z zawartą po dniu 1 stycznia 2013 r. umową na realizację programu, projektu lub zadania finansowanego w co najmniej 60% środkami, o których mowa w art. 5 ust. 1 pkt 2 ustawy","Wydatki na wkład krajowy w związku z zawartą po dniu 1 stycznia 2013 r. umową na realizację programu, projektu lub zadania finansowanego w co najmniej 60% środkami, o których mowa w art. 5 ust. 1 pkt 2 ustawy",{"$f":"0","v":0},{"$f":"0","v":0},{"$f":"0","v":0},{"$f":"0","v":0},{"$f":"264428","v":264428},{"$f":"727400","v":727400},{"$f":"0","v":0},{"$f":"0","v":0},{"$f":"0","v":0},{"$f":"0","v":0},{"$f":"0","v":0},{"$f":"0","v":0},{"$f":"0","v":0},{"$f":"0","v":0},{"$f":"0","v":0},{"$f":"0","v":0},{"$f":"0","v":0},{"$f":"0","v":0},{"$f":"0","v":0},{"$f":"0","v":0},{"$f":"0","v":0},{"$f":"0","v":0},{"$f":"0","v":0},{"$f":"0","v":0},{"$f":"0","v":0},{"$f":"0","v":0},{"$f":"0","v":0},{"$f":"0","v":0},{"$f":"0","v":0},{"$f":"0","v":0},{"$f":"0","v":0},{"$f":"0","v":0},{"$f":"0","v":0},{"$f":"0","v":0}]
[null,"12.6.1","  w tym w związku z już zawartą umową na realizację programu, projektu lub zadania","w tym w związku z już zawartą umową na realizację programu, projektu lub zadania",{"$f":"0","v":0},{"$f":"0","v":0},{"$f":"0","v":0},{"$f":"0","v":0},{"$f":"0","v":0},{"$f":"0","v":0},{"$f":"0","v":0},{"$f":"0","v":0},{"$f":"0","v":0},{"$f":"0","v":0},{"$f":"0","v":0},{"$f":"0","v":0},{"$f":"0","v":0},{"$f":"0","v":0},{"$f":"0","v":0},{"$f":"0","v":0},{"$f":"0","v":0},{"$f":"0","v":0},{"$f":"0","v":0},{"$f":"0","v":0},{"$f":"0","v":0},{"$f":"0","v":0},{"$f":"0","v":0},{"$f":"0","v":0},{"$f":"0","v":0},{"$f":"0","v":0},{"$f":"0","v":0},{"$f":"0","v":0},{"$f":"0","v":0},{"$f":"0","v":0},{"$f":"0","v":0},{"$f":"0","v":0},{"$f":"0","v":0},{"$f":"0","v":0}]
[null,"12.7"," Przychody z tytułu kredytów, pożyczek, emisji papierów wartościowych powstające w związku z umową na realizację programu, projektu lub zadania finansowanego z udziałem środków, o których mowa w art. 5 ust. 1 pkt 2 ustawy bez względu na stopień finansowania tymi środkami ","Przychody z tytułu kredytów, pożyczek, emisji papierów wartościowych powstające w związku z umową na realizację programu, projektu lub zadania finansowanego z udziałem środków, o których mowa w art. 5 ust. 1 pkt 2 ustawy bez względu na stopień finansowania tymi środkami ",{"$f":"0","v":0},{"$f":"0","v":0},{"$f":"0","v":0},{"$f":"0","v":0},{"$f":"0","v":0},{"$f":"0","v":0},{"$f":"0","v":0},{"$f":"0","v":0},{"$f":"0","v":0},{"$f":"0","v":0},{"$f":"0","v":0},{"$f":"0","v":0},{"$f":"0","v":0},{"$f":"0","v":0},{"$f":"0","v":0},{"$f":"0","v":0},{"$f":"0","v":0},{"$f":"0","v":0},{"$f":"0","v":0},{"$f":"0","v":0},{"$f":"0","v":0},{"$f":"0","v":0},{"$f":"0","v":0},{"$f":"0","v":0},{"$f":"0","v":0},{"$f":"0","v":0},{"$f":"0","v":0},{"$f":"0","v":0},{"$f":"0","v":0},{"$f":"0","v":0},{"$f":"0","v":0},{"$f":"0","v":0},{"$f":"0","v":0},{"$f":"0","v":0}]
[null,"12.7.1","  w tym w związku z już zawartą umową na realizację programu, projektu lub zadania","w tym w związku z już zawartą umową na realizację programu, projektu lub zadania",{"$f":"0","v":0},{"$f":"0","v":0},{"$f":"0","v":0},{"$f":"0","v":0},{"$f":"0","v":0},{"$f":"0","v":0},{"$f":"0","v":0},{"$f":"0","v":0},{"$f":"0","v":0},{"$f":"0","v":0},{"$f":"0","v":0},{"$f":"0","v":0},{"$f":"0","v":0},{"$f":"0","v":0},{"$f":"0","v":0},{"$f":"0","v":0},{"$f":"0","v":0},{"$f":"0","v":0},{"$f":"0","v":0},{"$f":"0","v":0},{"$f":"0","v":0},{"$f":"0","v":0},{"$f":"0","v":0},{"$f":"0","v":0},{"$f":"0","v":0},{"$f":"0","v":0},{"$f":"0","v":0},{"$f":"0","v":0},{"$f":"0","v":0},{"$f":"0","v":0},{"$f":"0","v":0},{"$f":"0","v":0},{"$f":"0","v":0},{"$f":"0","v":0}]
[null,"12.8"," Przychody z tytułu kredytów, pożyczek, emisji papierów wartościowych powstające w związku z zawartą po dniu 1 stycznia 2013 r. umową na realizację programu, projektu lub zadania finansowanego w co najmniej 60% środkami, o których mowa w art. 5 ust. 1 pkt 2 ustawy","Przychody z tytułu kredytów, pożyczek, emisji papierów wartościowych powstające w związku z zawartą po dniu 1 stycznia 2013 r. umową na realizację programu, projektu lub zadania finansowanego w co najmniej 60% środkami, o których mowa w art. 5 ust. 1 pkt 2 ustawy",{"$f":"0","v":0},{"$f":"0","v":0},{"$f":"0","v":0},{"$f":"0","v":0},{"$f":"0","v":0},{"$f":"0","v":0},{"$f":"0","v":0},{"$f":"0","v":0},{"$f":"0","v":0},{"$f":"0","v":0},{"$f":"0","v":0},{"$f":"0","v":0},{"$f":"0","v":0},{"$f":"0","v":0},{"$f":"0","v":0},{"$f":"0","v":0},{"$f":"0","v":0},{"$f":"0","v":0},{"$f":"0","v":0},{"$f":"0","v":0},{"$f":"0","v":0},{"$f":"0","v":0},{"$f":"0","v":0},{"$f":"0","v":0},{"$f":"0","v":0},{"$f":"0","v":0},{"$f":"0","v":0},{"$f":"0","v":0},{"$f":"0","v":0},{"$f":"0","v":0},{"$f":"0","v":0},{"$f":"0","v":0},{"$f":"0","v":0},{"$f":"0","v":0}]
[null,"12.8.1","  w tym w związku z już zawartą umową na realizację programu, projektu lub zadania","w tym w związku z już zawartą umową na realizację programu, projektu lub zadania",{"$f":"0","v":0},{"$f":"0","v":0},{"$f":"0","v":0},{"$f":"0","v":0},{"$f":"0","v":0},{"$f":"0","v":0},{"$f":"0","v":0},{"$f":"0","v":0},{"$f":"0","v":0},{"$f":"0","v":0},{"$f":"0","v":0},{"$f":"0","v":0},{"$f":"0","v":0},{"$f":"0","v":0},{"$f":"0","v":0},{"$f":"0","v":0},{"$f":"0","v":0},{"$f":"0","v":0},{"$f":"0","v":0},{"$f":"0","v":0},{"$f":"0","v":0},{"$f":"0","v":0},{"$f":"0","v":0},{"$f":"0","v":0},{"$f":"0","v":0},{"$f":"0","v":0},{"$f":"0","v":0},{"$f":"0","v":0},{"$f":"0","v":0},{"$f":"0","v":0},{"$f":"0","v":0},{"$f":"0","v":0},{"$f":"0","v":0},{"$f":"0","v":0}]
[null,13,"Kwoty dotyczące przejęcia i spłaty zobowiązań po samodzielnych publicznych zakładach opieki zdrowotnej oraz pokrycia ujemnego wyniku ","Kwoty dotyczące przejęcia i spłaty zobowiązań po samodzielnych publicznych zakładach opieki zdrowotnej oraz pokrycia ujemnego wyniku ","x","x","x","x","x","x","x","x","x","x","x","x","x","x","x","x","x","x","x","x","x","x","x","x","x","x","x","x","x","x","x","x","x","x"]
[null,"13.1"," Kwota zobowiązań wynikających z przejęcia przez jednostkę samorządu terytorialnego zobowiązań po likwidowanych i przekształcanych samodzielnych zakładach opieki zdrowotnej","Kwota zobowiązań wynikających z przejęcia przez jednostkę samorządu terytorialnego zobowiązań po likwidowanych i przekształcanych samodzielnych zakładach opieki zdrowotnej",{"$f":"0","v":0},{"$f":"0","v":0},{"$f":"0","v":0},{"$f":"0","v":0},{"$f":"0","v":0},{"$f":"0","v":0},{"$f":"0","v":0},{"$f":"0","v":0},{"$f":"0","v":0},{"$f":"0","v":0},{"$f":"0","v":0},{"$f":"0","v":0},{"$f":"0","v":0},{"$f":"0","v":0},{"$f":"0","v":0},{"$f":"0","v":0},{"$f":"0","v":0},{"$f":"0","v":0},{"$f":"0","v":0},{"$f":"0","v":0},{"$f":"0","v":0},{"$f":"0","v":0},{"$f":"0","v":0},{"$f":"0","v":0},{"$f":"0","v":0},{"$f":"0","v":0},{"$f":"0","v":0},{"$f":"0","v":0},{"$f":"0","v":0},{"$f":"0","v":0},{"$f":"0","v":0},{"$f":"0","v":0},{"$f":"0","v":0},{"$f":"0","v":0}]
[null,"13.2"," Dochody budżetowe z tytułu dotacji celowej z budżetu państwa, o której mowa w art. 196 ustawy z  dnia 15 kwietnia 2011 r.  o działalności leczniczej (Dz.U. Nr 112, poz. 654, z późn. zm.)","Dochody budżetowe z tytułu dotacji celowej z budżetu państwa, o której mowa w art. 196 ustawy z  dnia 15 kwietnia 2011 r.  o działalności leczniczej (Dz.U. Nr 112, poz. 654, z późn. zm.)",{"$f":"0","v":0},{"$f":"0","v":0},{"$f":"0","v":0},{"$f":"0","v":0},{"$f":"0","v":0},{"$f":"0","v":0},{"$f":"0","v":0},{"$f":"0","v":0},{"$f":"0","v":0},{"$f":"0","v":0},{"$f":"0","v":0},{"$f":"0","v":0},{"$f":"0","v":0},{"$f":"0","v":0},{"$f":"0","v":0},{"$f":"0","v":0},{"$f":"0","v":0},{"$f":"0","v":0},{"$f":"0","v":0},{"$f":"0","v":0},{"$f":"0","v":0},{"$f":"0","v":0},{"$f":"0","v":0},{"$f":"0","v":0},{"$f":"0","v":0},{"$f":"0","v":0},{"$f":"0","v":0},{"$f":"0","v":0},{"$f":"0","v":0},{"$f":"0","v":0},{"$f":"0","v":0},{"$f":"0","v":0},{"$f":"0","v":0},{"$f":"0","v":0}]
[null,"13.3"," Wysokość zobowiązań podlegających umorzeniu, o którym mowa w art. 190 ustawy o działalności leczniczej","Wysokość zobowiązań podlegających umorzeniu, o którym mowa w art. 190 ustawy o działalności leczniczej",{"$f":"0","v":0},{"$f":"0","v":0},{"$f":"0","v":0},{"$f":"0","v":0},{"$f":"0","v":0},{"$f":"0","v":0},{"$f":"0","v":0},{"$f":"0","v":0},{"$f":"0","v":0},{"$f":"0","v":0},{"$f":"0","v":0},{"$f":"0","v":0},{"$f":"0","v":0},{"$f":"0","v":0},{"$f":"0","v":0},{"$f":"0","v":0},{"$f":"0","v":0},{"$f":"0","v":0},{"$f":"0","v":0},{"$f":"0","v":0},{"$f":"0","v":0},{"$f":"0","v":0},{"$f":"0","v":0},{"$f":"0","v":0},{"$f":"0","v":0},{"$f":"0","v":0},{"$f":"0","v":0},{"$f":"0","v":0},{"$f":"0","v":0},{"$f":"0","v":0},{"$f":"0","v":0},{"$f":"0","v":0},{"$f":"0","v":0},{"$f":"0","v":0}]
[null,"13.4"," Wydatki na spłatę przejętych zobowiązań samodzielnego publicznego zakładu opieki zdrowotnej przekształconego na zasadach określonych w przepisach  o działalności leczniczej","Wydatki na spłatę przejętych zobowiązań samodzielnego publicznego zakładu opieki zdrowotnej przekształconego na zasadach określonych w przepisach  o działalności leczniczej",{"$f":"0","v":0},{"$f":"0","v":0},{"$f":"0","v":0},{"$f":"0","v":0},{"$f":"0","v":0},{"$f":"0","v":0},{"$f":"0","v":0},{"$f":"0","v":0},{"$f":"0","v":0},{"$f":"0","v":0},{"$f":"0","v":0},{"$f":"0","v":0},{"$f":"0","v":0},{"$f":"0","v":0},{"$f":"0","v":0},{"$f":"0","v":0},{"$f":"0","v":0},{"$f":"0","v":0},{"$f":"0","v":0},{"$f":"0","v":0},{"$f":"0","v":0},{"$f":"0","v":0},{"$f":"0","v":0},{"$f":"0","v":0},{"$f":"0","v":0},{"$f":"0","v":0},{"$f":"0","v":0},{"$f":"0","v":0},{"$f":"0","v":0},{"$f":"0","v":0},{"$f":"0","v":0},{"$f":"0","v":0},{"$f":"0","v":0},{"$f":"0","v":0}]
[null,"13.5"," Wydatki na spłatę przejętych zobowiązań samodzielnego publicznego zakładu opieki zdrowotnej likwidowanego na zasadach określonych w przepisach  o działalności leczniczej","Wydatki na spłatę przejętych zobowiązań samodzielnego publicznego zakładu opieki zdrowotnej likwidowanego na zasadach określonych w przepisach  o działalności leczniczej",{"$f":"0","v":0},{"$f":"0","v":0},{"$f":"0","v":0},{"$f":"0","v":0},{"$f":"0","v":0},{"$f":"0","v":0},{"$f":"0","v":0},{"$f":"0","v":0},{"$f":"0","v":0},{"$f":"0","v":0},{"$f":"0","v":0},{"$f":"0","v":0},{"$f":"0","v":0},{"$f":"0","v":0},{"$f":"0","v":0},{"$f":"0","v":0},{"$f":"0","v":0},{"$f":"0","v":0},{"$f":"0","v":0},{"$f":"0","v":0},{"$f":"0","v":0},{"$f":"0","v":0},{"$f":"0","v":0},{"$f":"0","v":0},{"$f":"0","v":0},{"$f":"0","v":0},{"$f":"0","v":0},{"$f":"0","v":0},{"$f":"0","v":0},{"$f":"0","v":0},{"$f":"0","v":0},{"$f":"0","v":0},{"$f":"0","v":0},{"$f":"0","v":0}]
[null,"13.6"," Wydatki na spłatę zobowiązań samodzielnego publicznego zakładu opieki zdrowotnej przejętych do końca 2011 r. na podstawie przepisów o zakładach opieki zdrowotnej","Wydatki na spłatę zobowiązań samodzielnego publicznego zakładu opieki zdrowotnej przejętych do końca 2011 r. na podstawie przepisów o zakładach opieki zdrowotnej",{"$f":"0","v":0},{"$f":"0","v":0},{"$f":"0","v":0},{"$f":"0","v":0},{"$f":"0","v":0},{"$f":"0","v":0},{"$f":"0","v":0},{"$f":"0","v":0},{"$f":"0","v":0},{"$f":"0","v":0},{"$f":"0","v":0},{"$f":"0","v":0},{"$f":"0","v":0},{"$f":"0","v":0},{"$f":"0","v":0},{"$f":"0","v":0},{"$f":"0","v":0},{"$f":"0","v":0},{"$f":"0","v":0},{"$f":"0","v":0},{"$f":"0","v":0},{"$f":"0","v":0},{"$f":"0","v":0},{"$f":"0","v":0},{"$f":"0","v":0},{"$f":"0","v":0},{"$f":"0","v":0},{"$f":"0","v":0},{"$f":"0","v":0},{"$f":"0","v":0},{"$f":"0","v":0},{"$f":"0","v":0},{"$f":"0","v":0},{"$f":"0","v":0}]
[null,"13.7"," Wydatki bieżące na pokrycie ujemnego wyniku finansowego samodzielnego publicznego zakładu opieki zdrowotnej","Wydatki bieżące na pokrycie ujemnego wyniku finansowego samodzielnego publicznego zakładu opieki zdrowotnej",{"$f":"0","v":0},{"$f":"0","v":0},{"$f":"0","v":0},{"$f":"0","v":0},{"$f":"0","v":0},{"$f":"0","v":0},{"$f":"0","v":0},{"$f":"0","v":0},{"$f":"0","v":0},{"$f":"0","v":0},{"$f":"0","v":0},{"$f":"0","v":0},{"$f":"0","v":0},{"$f":"0","v":0},{"$f":"0","v":0},{"$f":"0","v":0},{"$f":"0","v":0},{"$f":"0","v":0},{"$f":"0","v":0},{"$f":"0","v":0},{"$f":"0","v":0},{"$f":"0","v":0},{"$f":"0","v":0},{"$f":"0","v":0},{"$f":"0","v":0},{"$f":"0","v":0},{"$f":"0","v":0},{"$f":"0","v":0},{"$f":"0","v":0},{"$f":"0","v":0},{"$f":"0","v":0},{"$f":"0","v":0},{"$f":"0","v":0},{"$f":"0","v":0}]
["x",14,"Dane uzupełniające o długu i jego spłacie","Dane uzupełniające o długu i jego spłacie","x","x","x","x","x","x","x","x","x","x","x","x","x","x","x","x","x","x","x","x","x","x","x","x","x","x","x","x","x","x","x","x","x","x"]
["x","14.1"," Spłaty rat kapitałowych oraz wykup papierów wartościowych, o których mowa w pkt. 5.1., wynikające wyłącznie z tytułu zobowiązań już zaciągniętych","Spłaty rat kapitałowych oraz wykup papierów wartościowych, o których mowa w pkt. 5.1., wynikające wyłącznie z tytułu zobowiązań już zaciągniętych",{"$f":"2105000","v":2105000},{"$f":"1057000","v":1057000},{"$f":"100000","v":100000},{"$f":"100000","v":100000},{"$f":"400000","v":400000},{"$f":"600000","v":600000},{"$f":"600000","v":600000},{"$f":"1200000","v":1200000},{"$f":"1300000","v":1300000},{"$f":"1200000","v":1200000},{"$f":"1330000","v":1330000},{"$f":"1510000","v":1510000},{"$f":"1548000","v":1548000},{"$f":"743000","v":743000},{"$f":"0","v":0},{"$f":"0","v":0},{"$f":"0","v":0},{"$f":"0","v":0},{"$f":"0","v":0},{"$f":"0","v":0},{"$f":"0","v":0},{"$f":"0","v":0},{"$f":"0","v":0},{"$f":"0","v":0},{"$f":"0","v":0},{"$f":"0","v":0},{"$f":"0","v":0},{"$f":"0","v":0},{"$f":"0","v":0},{"$f":"0","v":0},{"$f":"0","v":0},{"$f":"0","v":0},{"$f":"0","v":0},{"$f":"0","v":0}]
["x","14.2"," Kwota długu, którego planowana spłata dokona się z wydatków budżetu","Kwota długu, którego planowana spłata dokona się z wydatków budżetu",{"$f":"29700","v":29700},{"$f":"9850","v":9850},{"$f":"0","v":0},{"$f":"0","v":0},{"$f":"688000","v":688000},{"$f":"564000","v":564000},{"$f":"444000","v":444000},{"$f":"327000","v":327000},{"$f":"214000","v":214000},{"$f":"105000","v":105000},{"$f":"0","v":0},{"$f":"0","v":0},{"$f":"0","v":0},{"$f":"0","v":0},{"$f":"0","v":0},{"$f":"0","v":0},{"$f":"0","v":0},{"$f":"0","v":0},{"$f":"0","v":0},{"$f":"0","v":0},{"$f":"0","v":0},{"$f":"0","v":0},{"$f":"0","v":0},{"$f":"0","v":0},{"$f":"0","v":0},{"$f":"0","v":0},{"$f":"0","v":0},{"$f":"0","v":0},{"$f":"0","v":0},{"$f":"0","v":0},{"$f":"0","v":0},{"$f":"0","v":0},{"$f":"0","v":0},{"$f":"0","v":0}]
["x","14.3"," Wydatki zmniejszające dług, w tym","Wydatki zmniejszające dług, w tym",{"$f":"29850","v":29850},{"$f":"19850","v":19850},{"$f":"9850","v":9850},{"$f":"9850","v":9850},{"$f":"130000","v":130000},{"$f":"124000","v":124000},{"$f":"120000","v":120000},{"$f":"117000","v":117000},{"$f":"113000","v":113000},{"$f":"109000","v":109000},{"$f":"105000","v":105000},{"$f":"0","v":0},{"$f":"0","v":0},{"$f":"0","v":0},{"$f":"0","v":0},{"$f":"0","v":0},{"$f":"0","v":0},{"$f":"0","v":0},{"$f":"0","v":0},{"$f":"0","v":0},{"$f":"0","v":0},{"$f":"0","v":0},{"$f":"0","v":0},{"$f":"0","v":0},{"$f":"0","v":0},{"$f":"0","v":0},{"$f":"0","v":0},{"$f":"0","v":0},{"$f":"0","v":0},{"$f":"0","v":0},{"$f":"0","v":0},{"$f":"0","v":0},{"$f":"0","v":0},{"$f":"0","v":0}]
["x","14.3.1","  spłata zobowiązań wymagalnych z lat poprzednich, innych niż w pkt 14.3.3","spłata zobowiązań wymagalnych z lat poprzednich, innych niż w pkt 14.3.3",{"$f":"20000","v":20000},{"$f":"10000","v":10000},{"$f":"0","v":0},{"$f":"0","v":0},{"$f":"0","v":0},{"$f":"0","v":0},{"$f":"0","v":0},{"$f":"0","v":0},{"$f":"0","v":0},{"$f":"0","v":0},{"$f":"0","v":0},{"$f":"0","v":0},{"$f":"0","v":0},{"$f":"0","v":0},{"$f":"0","v":0},{"$f":"0","v":0},{"$f":"0","v":0},{"$f":"0","v":0},{"$f":"0","v":0},{"$f":"0","v":0},{"$f":"0","v":0},{"$f":"0","v":0},{"$f":"0","v":0},{"$f":"0","v":0},{"$f":"0","v":0},{"$f":"0","v":0},{"$f":"0","v":0},{"$f":"0","v":0},{"$f":"0","v":0},{"$f":"0","v":0},{"$f":"0","v":0},{"$f":"0","v":0},{"$f":"0","v":0},{"$f":"0","v":0}]
["x","14.3.2","  związane z umowami zaliczanymi do tytułów dłużnych wliczanych do państwowego długu publicznego","związane z umowami zaliczanymi do tytułów dłużnych wliczanych do państwowego długu publicznego",{"$f":"9850","v":9850},{"$f":"9850","v":9850},{"$f":"9850","v":9850},{"$f":"9850","v":9850},{"$f":"130000","v":130000},{"$f":"124000","v":124000},{"$f":"120000","v":120000},{"$f":"117000","v":117000},{"$f":"113000","v":113000},{"$f":"109000","v":109000},{"$f":"105000","v":105000},{"$f":"0","v":0},{"$f":"0","v":0},{"$f":"0","v":0},{"$f":"0","v":0},{"$f":"0","v":0},{"$f":"0","v":0},{"$f":"0","v":0},{"$f":"0","v":0},{"$f":"0","v":0},{"$f":"0","v":0},{"$f":"0","v":0},{"$f":"0","v":0},{"$f":"0","v":0},{"$f":"0","v":0},{"$f":"0","v":0},{"$f":"0","v":0},{"$f":"0","v":0},{"$f":"0","v":0},{"$f":"0","v":0},{"$f":"0","v":0},{"$f":"0","v":0},{"$f":"0","v":0},{"$f":"0","v":0}]
["x","14.3.3","  wypłaty z tytułu wymagalnych poręczeń i gwarancji","wypłaty z tytułu wymagalnych poręczeń i gwarancji",{"$f":"0","v":0},{"$f":"0","v":0},{"$f":"0","v":0},{"$f":"0","v":0},{"$f":"0","v":0},{"$f":"0","v":0},{"$f":"0","v":0},{"$f":"0","v":0},{"$f":"0","v":0},{"$f":"0","v":0},{"$f":"0","v":0},{"$f":"0","v":0},{"$f":"0","v":0},{"$f":"0","v":0},{"$f":"0","v":0},{"$f":"0","v":0},{"$f":"0","v":0},{"$f":"0","v":0},{"$f":"0","v":0},{"$f":"0","v":0},{"$f":"0","v":0},{"$f":"0","v":0},{"$f":"0","v":0},{"$f":"0","v":0},{"$f":"0","v":0},{"$f":"0","v":0},{"$f":"0","v":0},{"$f":"0","v":0},{"$f":"0","v":0},{"$f":"0","v":0},{"$f":"0","v":0},{"$f":"0","v":0},{"$f":"0","v":0},{"$f":"0","v":0}]
["x","14.4"," Wynik operacji niekasowych wpływających na kwotę długu ( m.in. umorzenia, różnice kursowe)","Wynik operacji niekasowych wpływających na kwotę długu ( m.in. umorzenia, różnice kursowe)",{"$f":"5558.79","v":5558.79},{"$f":"0","v":0},{"$f":"0","v":0},{"$f":"0","v":0},{"$f":"0","v":0},{"$f":"0","v":0},{"$f":"0","v":0},{"$f":"0","v":0},{"$f":"0","v":0},{"$f":"0","v":0},{"$f":"0","v":0},{"$f":"0","v":0},{"$f":"0","v":0},{"$f":"0","v":0},{"$f":"0","v":0},{"$f":"0","v":0},{"$f":"0","v":0},{"$f":"0","v":0},{"$f":"0","v":0},{"$f":"0","v":0},{"$f":"0","v":0},{"$f":"0","v":0},{"$f":"0","v":0},{"$f":"0","v":0},{"$f":"0","v":0},{"$f":"0","v":0},{"$f":"0","v":0},{"$f":"0","v":0},{"$f":"0","v":0},{"$f":"0","v":0},{"$f":"0","v":0},{"$f":"0","v":0},{"$f":"0","v":0},{"$f":"0","v":0}]
[null,15,"Dane dotyczące emitowanych obligacji przychodowych","Dane dotyczące emitowanych obligacji przychodowych","x","x","x","x","x","x","x","x","x","x","x","x","x","x","x","x","x","x","x","x","x","x","x","x","x","x","x","x","x","x","x","x","x","x"]
[null,"15.1"," Środki z przedsięwzięcia gromadzone na rachunku bankowym,  w tym:","Środki z przedsięwzięcia gromadzone na rachunku bankowym,  w tym:",{"$f":"0","v":0},{"$f":"0","v":0},{"$f":"0","v":0},{"$f":"0","v":0},{"$f":"0","v":0},{"$f":"0","v":0},{"$f":"0","v":0},{"$f":"0","v":0},{"$f":"0","v":0},{"$f":"0","v":0},{"$f":"0","v":0},{"$f":"0","v":0},{"$f":"0","v":0},{"$f":"0","v":0},{"$f":"0","v":0},{"$f":"0","v":0},{"$f":"0","v":0},{"$f":"0","v":0},{"$f":"0","v":0},{"$f":"0","v":0},{"$f":"0","v":0},{"$f":"0","v":0},{"$f":"0","v":0},{"$f":"0","v":0},{"$f":"0","v":0},{"$f":"0","v":0},{"$f":"0","v":0},{"$f":"0","v":0},{"$f":"0","v":0},{"$f":"0","v":0},{"$f":"0","v":0},{"$f":"0","v":0},{"$f":"0","v":0},{"$f":"0","v":0}]
["x","15.1.1","  środki na zaspokojenie roszczeń obligatariuszy","środki na zaspokojenie roszczeń obligatariuszy",{"$f":"0","v":0},{"$f":"0","v":0},{"$f":"0","v":0},{"$f":"0","v":0},{"$f":"0","v":0},{"$f":"0","v":0},{"$f":"0","v":0},{"$f":"0","v":0},{"$f":"0","v":0},{"$f":"0","v":0},{"$f":"0","v":0},{"$f":"0","v":0},{"$f":"0","v":0},{"$f":"0","v":0},{"$f":"0","v":0},{"$f":"0","v":0},{"$f":"0","v":0},{"$f":"0","v":0},{"$f":"0","v":0},{"$f":"0","v":0},{"$f":"0","v":0},{"$f":"0","v":0},{"$f":"0","v":0},{"$f":"0","v":0},{"$f":"0","v":0},{"$f":"0","v":0},{"$f":"0","v":0},{"$f":"0","v":0},{"$f":"0","v":0},{"$f":"0","v":0},{"$f":"0","v":0},{"$f":"0","v":0},{"$f":"0","v":0},{"$f":"0","v":0}]
["x","15.2","Wydatki bieżące z tytułu świadczenia emitenta należnego obligatariuszom,  nieuwzględniane  w limicie spłaty zobowiązań, o którym mowa w art. 243 ustawy","Wydatki bieżące z tytułu świadczenia emitenta należnego obligatariuszom,  nieuwzględniane  w limicie spłaty zobowiązań, o którym mowa w art. 243 ustawy",{"$f":"0","v":0},{"$f":"0","v":0},{"$f":"0","v":0},{"$f":"0","v":0},{"$f":"0","v":0},{"$f":"0","v":0},{"$f":"0","v":0},{"$f":"0","v":0},{"$f":"0","v":0},{"$f":"0","v":0},{"$f":"0","v":0},{"$f":"0","v":0},{"$f":"0","v":0},{"$f":"0","v":0},{"$f":"0","v":0},{"$f":"0","v":0},{"$f":"0","v":0},{"$f":"0","v":0},{"$f":"0","v":0},{"$f":"0","v":0},{"$f":"0","v":0},{"$f":"0","v":0},{"$f":"0","v":0},{"$f":"0","v":0},{"$f":"0","v":0},{"$f":"0","v":0},{"$f":"0","v":0},{"$f":"0","v":0},{"$f":"0","v":0},{"$f":"0","v":0},{"$f":"0","v":0},{"$f":"0","v":0},{"$f":"0","v":0},{"$f":"0","v":0}]
[null,16,null,"Stopień niezachowania relacji określonych w art. 242-244 ustawy \n(dotyczy tylko JST objętych procedurą z art. 240a lub 240b)","x","x","x","x","x","x","x","x","x","x","x","x","x","x","x","x","x","x","x","x","x","x","x","x","x","x","x","x","x","x","x","x","x","x"]
[null,"16.1",null,"Stopień niezachowania relacji zrównoważenia wydatków bieżących, o której mowa w poz. 8.2","x","x","x","x",{"$f":"+IF(I47<0,I47,\"\")","v":""},{"$f":"+IF(J47<0,J47,\"\")","v":""},"","","","","","","","","","","","","","","","","","","","","","","","","","","",""]
["x","16.2",null,"Stopień niezachowania wskaźnika spłaty zobowiązań, o którym mowa w poz. 9.7","x","x","x","x",{"$f":"IF(I52<=I54,\"\",I54- I52)","v":""},{"$f":"IF(J52<=J54,\"\",J54- J52)","v":""},"","","","","","","","","","","","","","","","","","","","","","","","","","","",""]
["x","16.3",null,"Stopień niezachowania wskaźnika spłaty zobowiązań, o którym mowa w poz. 9.7.1","x","x","x","x",{"$f":"IF(I52<=I55,\"\",I55-I52)","v":""},{"$f":"IF(J52<=J55,\"\",J55-J52)","v":""},"","","","","","","","","","","","","","","","","","","","","","","","","","","",""]
[]
[null,"UWAGA!"]
[null,"Do symulacji prognozy i obserwacji zmian relacji z art. 242-243 na podstawie danych wprowadzanych ręcznie służy arkusz \"WPF_AnalizaWsk_Projektowanie\""]
[]
[]
[null,"Weryfikacja wybranych danych wykazanych w tabeli Wieloletnia Prognoza Finansowa"]
[null,null,null,"Reguła formalna"]
[null,null,null,"Reguła rachunkowa"]
[null,null,null,"Reguła logiczna"]
[null,null,null,"Reguły kontrolne"]
[null,"[1.1] + [4.1] + [4.2] >= ([2.1] - [2.1.2])","[1.1] + [4.1] + [4.2] >= ([2.1] - [2.1.2])","Spełnienie wskaźnika z art. 242","x","x","x","x",{"$f":"IF(ROUND(I6+I28+I30,2)>=ROUND(I17-I20,2),\"TAK\",\"NIE\")","v":"TAK"},"TAK","TAK","TAK","TAK","TAK","TAK","TAK","TAK","TAK","TAK","TAK","TAK","TAK","TAK","TAK","TAK","TAK","TAK","TAK","TAK","TAK","TAK","TAK","TAK","TAK","TAK","TAK","TAK","TAK"]
[null,"[13.3] = 0 (dla lat 2014 i wyższych)","[13.3] = 0 (dla lat 2014 i wyższych)","Umorzenie zobowiązań, o którym mowa w art. 190 ustawy o działalności leczniczej nie wykracza poza ustawowy okres","x","x","x","x","x","x",{"$f":"IF(K93=0,\"TAK\",\"BŁĄD\")","v":"TAK"},"TAK","TAK","TAK","TAK","TAK","TAK","TAK","TAK","TAK","TAK","TAK","TAK","TAK","TAK","TAK","TAK","TAK","TAK","TAK","TAK","TAK","TAK","TAK","TAK","TAK","TAK","TAK"]
[null,"[1] + [4] - [2] - [5] = 0","[1] + [4] - [2] - [5] = 0","Kontrola poprawności zbilansowania budżetu","x","x","x","x",{"$f":"IF(ROUND(I5+I27-I16-I36,2)=0,\"OK\",ROUND(I5+I27-I16-I36,2))","v":"OK"},"OK","OK","OK","OK","OK","OK","OK","OK","OK","OK","OK","OK","OK","OK","OK","OK","OK","OK","OK","OK","OK","OK","OK","OK","OK","OK","OK","OK","OK"]
[null,"[6]\"n\" = [6]\"n-1\" + [4.3]\"n\" - [5.1]\"n\" +  ([14.2]\"n\"-[14.2]\"n-1\") + [14.4]","[6]\"n\" = [6]\"n-1\" + [4.3]\"n\" - [5.1]\"n\" +  ([14.2]\"n\"-[14.2]\"n-1\") + [14.4]","Kontrola poprawności wyliczenia kwoty długu","x","x","x","x",{"$f":"+IF(ROUND(H43+I32-I37+(I100-H100)+I105-I43,2)=0,\"OK\",ROUND(H43+I32-I37+(I100-H100)+I105-I43,2))","v":"OK"},"OK","OK","OK","OK","OK","OK","OK","OK","OK","OK","OK","OK","OK","OK","OK","OK","OK","OK","OK","OK","OK","OK","OK","OK","OK","OK","OK","OK","OK"]
[null,"[14.2] \"n\" =  ( [14.2]  \"n-1\" -  [14.3] \"n\" ) ","[14.2] \"n\" =  ( [14.2]  \"n-1\" -  [14.3] \"n\" ) ","Analiza zmiany kwoty długu spłacanego wydatkami budżetu \n- wartości różne od zera wymagają objaśnienia \n   - wartości większe od zera wskazują na powstanie w roku prognozy nowego długu tego typu\n   - wartości mniejsze od zera co do zasady nie powinny wystąpić","x","x","x","x",{"$f":"+IF(H100=0,\"N/D\",IF(ROUND(I100+I101-H100,2)=0,\"OK\",ROUND(I100+I101-H100,2)))","v":"N/D"},"OK","OK","OK","OK","OK","OK","N/D","N/D","N/D","N/D","N/D","N/D","N/D","N/D","N/D","N/D","N/D","N/D","N/D","N/D","N/D","N/D","N/D","N/D","N/D","N/D","N/D","N/D","N/D"]
[null,"[13.1] \"n\"  -  ( [13.3] + [13.4] + [13.5] + [13.6] ) \"n\"  =  [13.1] \"n-1\"","[13.1] \"n\"  -  ( [13.3] + [13.4] + [13.5] + [13.6] ) \"n\"  =  [13.1] \"n-1\"","Porównanie na koniec roku prognozy stanu zobowiązań przejętych przez jst po likwidowanych i przekształcanych SP ZOZ z wydatkami i umorzeniami poniesionymi na ten cel ze stanem zobowiązań z okresu N-1","x","x","x","x",{"$f":"+IF(H91=0,\"N/D\",IF(ROUND(I91+(I93+I94+I95+I96)-H91,2)=0,\"OK\",ROUND(I91+(I93+I94+I95+I96)-H91,2)))","v":"N/D"},"N/D","N/D","N/D","N/D","N/D","N/D","N/D","N/D","N/D","N/D","N/D","N/D","N/D","N/D","N/D","N/D","N/D","N/D","N/D","N/D","N/D","N/D","N/D","N/D","N/D","N/D","N/D","N/D","N/D"]
[null,"jeśli [3] < 0 to sprawdź czy [4.1.1] + [4.2.1] + [4.3.1] + [4.4.1] + [3] = 0","jeśli [3] < 0 to sprawdź czy [4.1.1] + [4.2.1] + [4.3.1] + [4.4.1] + [3] = 0","Kontrola poprawności wykazania źródeł pokrycia deficytu","x","x","x","x",{"$f":"IF(I26<0,IF(ROUND(I29+I31+I33+I35+I26,2)=0,\"OK\",ROUND(I29+I31+I33+I35+I26,2)),\"N/D\")","v":"N/D"},"N/D","N/D","N/D","N/D","N/D","N/D","N/D","N/D","N/D","N/D","N/D","N/D","N/D","N/D","N/D","N/D","N/D","N/D","N/D","N/D","N/D","N/D","N/D","N/D","N/D","N/D","N/D","N/D","N/D"]
[null,"jeśli [3] >= 0 to sprawdź czy [4.1.1]=0 i [4.2.1]=0 i [4.3.1]=0 i  [4.4.1] = 0","jeśli [3] >= 0 to sprawdź czy [4.1.1]=0 i [4.2.1]=0 i [4.3.1]=0 i  [4.4.1] = 0","Kontrola poprawności niewykazania źródeł pokrycia deficytu przy nadwyżce budżetu","x","x","x","x",{"$f":"IF(I26>=0,IF(ROUND(I29+I31+I33+I35,2)=0,\"OK\",ROUND(I29+I31+I33+I35,2)),\"N/D\")","v":"OK"},"OK","OK","OK","OK","OK","OK","OK","OK","OK","OK","OK","OK","OK","OK","OK","OK","OK","OK","OK","OK","OK","OK","OK","OK","OK","OK","OK","OK","OK"]
[null,"[1.1.3] >=  [1.1.3.1]","[1.1.3] >=  [1.1.3.1]","Reguła logiczna:  [1.1.3] >=  [1.1.3.1]","x","x","x","x",{"$f":"IF(I9>=I10,\"OK\",\"BŁĄD\")","v":"OK"},"OK","OK","OK","OK","OK","OK","OK","OK","OK","OK","OK","OK","OK","OK","OK","OK","OK","OK","OK","OK","OK","OK","OK","OK","OK","OK","OK","OK","OK"]
[null,"[1.1.5] >= [13.2]","[1.1.5] >= [13.2]","Reguła logiczna:  [1.1.5] >= [13.2]","x","x","x","x",{"$f":"IF(I12>=I92,\"OK\",\"BŁĄD\")","v":"OK"},"OK","OK","OK","OK","OK","OK","OK","OK","OK","OK","OK","OK","OK","OK","OK","OK","OK","OK","OK","OK","OK","OK","OK","OK","OK","OK","OK","OK","OK"]
[null,"[1.1] >=  ([1.1.1] + [1.1.2] + [1.1.3] + [1.1.4] + [1.1.5])","[1.1] >=  ([1.1.1] + [1.1.2] + [1.1.3] + [1.1.4] + [1.1.5])","Reguła logiczna:  [1.1] >=  ([1.1.1] + [1.1.2] + [1.1.3] + [1.1.4] + [1.1.5])","x","x","x","x",{"$f":"IF(I6>=I7+I8+I9+I11+I12,\"OK\",\"BŁĄD\")","v":"OK"},"OK","OK","OK","OK","OK","OK","OK","OK","OK","OK","OK","OK","OK","OK","OK","OK","OK","OK","OK","OK","OK","OK","OK","OK","OK","OK","OK","OK","OK"]
[null,"[1.1] >= [12.1]","[1.1] >= [12.1]","Reguła logiczna:  [1.1] >= [12.1]","x","x","x","x",{"$f":"IF(I6>=I70,\"OK\",\"BŁĄD\")","v":"OK"},"OK","OK","OK","OK","OK","OK","OK","OK","OK","OK","OK","OK","OK","OK","OK","OK","OK","OK","OK","OK","OK","OK","OK","OK","OK","OK","OK","OK","OK"]
[null,"[1.2] >= [1.2.1]","[1.2] >= [1.2.1]","Reguła logiczna:  [1.2] >= [1.2.1]","x","x","x","x",{"$f":"IF(I13>=I14,\"OK\",\"BŁĄD\")","v":"OK"},"OK","OK","OK","OK","OK","OK","OK","OK","OK","OK","OK","OK","OK","OK","OK","OK","OK","OK","OK","OK","OK","OK","OK","OK","OK","OK","OK","OK","OK"]
[null,"[1.2] >= [1.2.2]","[1.2] >= [1.2.2]","Reguła logiczna:  [1.2] >= [1.2.2]","x","x","x","x",{"$f":"IF(I13>=I15,\"OK\",\"BŁĄD\")","v":"OK"},"OK","OK","OK","OK","OK","OK","OK","OK","OK","OK","OK","OK","OK","OK","OK","OK","OK","OK","OK","OK","OK","OK","OK","OK","OK","OK","OK","OK","OK"]
[null,"[1.2] >= [12.2]","[1.2] >= [12.2]","Reguła logiczna:  [1.2] >= [12.2]","x","x","x","x",{"$f":"IF(I13>=I73,\"OK\",\"BŁĄD\")","v":"OK"},"OK","OK","OK","OK","OK","OK","OK","OK","OK","OK","OK","OK","OK","OK","OK","OK","OK","OK","OK","OK","OK","OK","OK","OK","OK","OK","OK","OK","OK"]
[null,null,null,"Reguła logiczna: jeżeli [3] >0 to [10] = [3]","x","x","x","x",{"$f":"+IF(I26>0,IF(I26=I58,\"OK\",\"Błąd\"),\"N/D\")","v":"OK"},"OK","OK","OK","OK","OK","OK","OK","OK","OK","N/D","N/D","N/D","N/D","N/D","N/D","N/D","N/D","N/D","N/D","N/D","N/D","N/D","N/D","N/D","N/D","N/D","N/D","N/D","N/D"]
[null,"[10] >= [10.1]","[10] >= [10.1]","Reguła logiczna:  [10] >= [10.1]","x","x","x","x",{"$f":"IF(I58>=I59,\"OK\",\"BŁĄD\")","v":"OK"},"OK","OK","OK","OK","OK","OK","OK","OK","OK","OK","OK","OK","OK","OK","OK","OK","OK","OK","OK","OK","OK","OK","OK","OK","OK","OK","OK","OK","OK"]
[null,null,"jeśli [10] > 0 to powinno być [10.1] > 0","Reguła logiczna:  jeżeli [10] > 0 to [10.1] >0","x","x","x","x",{"$f":"IF(I58>0,IF(I59>0,\"OK\",\"BŁĄD\"),\"N/D\")","v":"OK"},"OK","OK","OK","OK","OK","OK","OK","OK","OK","N/D","N/D","N/D","N/D","N/D","N/D","N/D","N/D","N/D","N/D","N/D","N/D","N/D","N/D","N/D","N/D","N/D","N/D","N/D","N/D"]
[null,"[12.1] >= [12.1.1]","[12.1] >= [12.1.1]","Reguła logiczna:  [12.1] >= [12.1.1]","x","x","x","x",{"$f":"IF(I70>=I71,\"OK\",\"BŁĄD\")","v":"OK"},"OK","OK","OK","OK","OK","OK","OK","OK","OK","OK","OK","OK","OK","OK","OK","OK","OK","OK","OK","OK","OK","OK","OK","OK","OK","OK","OK","OK","OK"]
[null,"[12.1.1] >= [12.1.1.1]","[12.1.1] >= [12.1.1.1]","Reguła logiczna:  [12.1.1] >= [12.1.1.1]","x","x","x","x",{"$f":"IF(I71>=I72,\"OK\",\"BŁĄD\")","v":"OK"},"OK","OK","OK","OK","OK","OK","OK","OK","OK","OK","OK","OK","OK","OK","OK","OK","OK","OK","OK","OK","OK","OK","OK","OK","OK","OK","OK","OK","OK"]
[null,"[12.2] >= [12.2.1]","[12.2] >= [12.2.1]","Reguła logiczna:  [12.2] >= [12.2.1]","x","x","x","x",{"$f":"IF(I73>=I74,\"OK\",\"BŁĄD\")","v":"OK"},"OK","OK","OK","OK","OK","OK","OK","OK","OK","OK","OK","OK","OK","OK","OK","OK","OK","OK","OK","OK","OK","OK","OK","OK","OK","OK","OK","OK","OK"]
[null,"[12.2.1] >= [12.2.1.1]","[12.2.1] >= [12.2.1.1]","Reguła logiczna:  [12.2.1] >= [12.2.1.1]","x","x","x","x",{"$f":"IF(I74>=I75,\"OK\",\"BŁĄD\")","v":"OK"},"OK","OK","OK","OK","OK","OK","OK","OK","OK","OK","OK","OK","OK","OK","OK","OK","OK","OK","OK","OK","OK","OK","OK","OK","OK","OK","OK","OK","OK"]
[null,"[12.3] >= [12.3.1]","[12.3] >= [12.3.1]","Reguła logiczna:  [12.3] >= [12.3.1]","x","x","x","x",{"$f":"IF(I76>=I77,\"OK\",\"BŁĄD\")","v":"OK"},"OK","OK","OK","OK","OK","OK","OK","OK","OK","OK","OK","OK","OK","OK","OK","OK","OK","OK","OK","OK","OK","OK","OK","OK","OK","OK","OK","OK","OK"]
[null,"[12.3] >= [12.3.2]","[12.3] >= [12.3.2]","Reguła logiczna:  [12.3] >= [12.3.2]","x","x","x","x",{"$f":"IF(I76>=I78,\"OK\",\"BŁĄD\")","v":"OK"},"OK","OK","OK","OK","OK","OK","OK","OK","OK","OK","OK","OK","OK","OK","OK","OK","OK","OK","OK","OK","OK","OK","OK","OK","OK","OK","OK","OK","OK"]
[null,"[12.4] >= [12.4.1]","[12.4] >= [12.4.1]","Reguła logiczna:  [12.4] >= [12.4.1]","x","x","x","x",{"$f":"IF(I79>=I80,\"OK\",\"BŁĄD\")","v":"OK"},"OK","OK","OK","OK","OK","OK","OK","OK","OK","OK","OK","OK","OK","OK","OK","OK","OK","OK","OK","OK","OK","OK","OK","OK","OK","OK","OK","OK","OK"]
[null,"[12.4] >= [12.4.2]","[12.4] >= [12.4.2]","Reguła logiczna:  [12.4] >= [12.4.2]","x","x","x","x",{"$f":"IF(I79>=I81,\"OK\",\"BŁĄD\")","v":"OK"},"OK","OK","OK","OK","OK","OK","OK","OK","OK","OK","OK","OK","OK","OK","OK","OK","OK","OK","OK","OK","OK","OK","OK","OK","OK","OK","OK","OK","OK"]
[null,"[12.4] >= [12.4.1]","[12.4] >= [12.4.1]","Reguła logiczna:  [12.5] >= [12.5.1]","x","x","x","x",{"$f":"IF(I82>=I83,\"OK\",\"BŁĄD\")","v":"OK"},{"$f":"IF(J82>=J83,\"OK\",\"BŁĄD\")","v":"OK"},"OK","OK","OK","OK","OK","OK","OK","OK","OK","OK","OK","OK","OK","OK","OK","OK","OK","OK","OK","OK","OK","OK","OK","OK","OK","OK","OK","OK"]
[null,"[12.4] >= [12.4.1]","[12.4] >= [12.4.1]","Reguła logiczna:  [12.6] >= [12.6.1]","x","x","x","x",{"$f":"IF(I84>=I85,\"OK\",\"BŁĄD\")","v":"OK"},{"$f":"IF(J84>=J85,\"OK\",\"BŁĄD\")","v":"OK"},"OK","OK","OK","OK","OK","OK","OK","OK","OK","OK","OK","OK","OK","OK","OK","OK","OK","OK","OK","OK","OK","OK","OK","OK","OK","OK","OK","OK"]
[null,"[12.4] >= [12.4.1]","[12.4] >= [12.4.1]","Reguła logiczna:  [12.7] >= [12.7.1]","x","x","x","x",{"$f":"IF(I86>=I87,\"OK\",\"BŁĄD\")","v":"OK"},{"$f":"IF(J86>=J87,\"OK\",\"BŁĄD\")","v":"OK"},"OK","OK","OK","OK","OK","OK","OK","OK","OK","OK","OK","OK","OK","OK","OK","OK","OK","OK","OK","OK","OK","OK","OK","OK","OK","OK","OK","OK"]
[null,"[12.4] >= [12.4.1]","[12.4] >= [12.4.1]","Reguła logiczna:  [12.8] >= [12.8.1]","x","x","x","x",{"$f":"IF(I88>=I89,\"OK\",\"BŁĄD\")","v":"OK"},{"$f":"IF(J88>=J89,\"OK\",\"BŁĄD\")","v":"OK"},"OK","OK","OK","OK","OK","OK","OK","OK","OK","OK","OK","OK","OK","OK","OK","OK","OK","OK","OK","OK","OK","OK","OK","OK","OK","OK","OK","OK"]
[null,"[13.1] >= [13.3]","[13.1] >= [13.3]","Reguła logiczna:  [13.1] >= [13.3]","x","x","x","x",{"$f":"IF(I91>=I93,\"OK\",\"BŁĄD\")","v":"OK"},"OK","OK","OK","OK","OK","OK","OK","OK","OK","OK","OK","OK","OK","OK","OK","OK","OK","OK","OK","OK","OK","OK","OK","OK","OK","OK","OK","OK","OK"]
[null,"[13.4] >= [2.1.2]","[13.4] >= [2.1.2]","Reguła logiczna:  [13.4] >= [2.1.2]","x","x","x","x",{"$f":"IF(I94>=I20,\"OK\",\"BŁĄD\")","v":"OK"},"OK","OK","OK","OK","OK","OK","OK","OK","OK","OK","OK","OK","OK","OK","OK","OK","OK","OK","OK","OK","OK","OK","OK","OK","OK","OK","OK","OK","OK"]
[null,"[14.3] >= [14.3.1] + [14.3.2] + [14.3.3]","[14.3] >= [14.3.1] + [14.3.2] + [14.3.3]","Reguła logiczna:  [14.3] >= [14.3.1] + [14.3.2] + [14.3.3]","x","x","x","x",{"$f":"IF(I101>=(I102+I103+I104),\"OK\",\"BŁĄD\")","v":"OK"},"OK","OK","OK","OK","OK","OK","OK","OK","OK","OK","OK","OK","OK","OK","OK","OK","OK","OK","OK","OK","OK","OK","OK","OK","OK","OK","OK","OK","OK"]
[null,"[13.1] >= [13.3]","[13.1] >= [13.3]","Reguła logiczna:  [15.1] >= [15.1.1]","x","x","x","x",{"$f":"IF(I107>=I108,\"OK\",\"BŁĄD\")","v":"OK"},{"$f":"IF(J107>=J108,\"OK\",\"BŁĄD\")","v":"OK"},"OK","OK","OK","OK","OK","OK","OK","OK","OK","OK","OK","OK","OK","OK","OK","OK","OK","OK","OK","OK","OK","OK","OK","OK","OK","OK","OK","OK"]
[null,"[2.1.1] >= [2.1.1.1]","[2.1.1] >= [2.1.1.1]","Reguła logiczna:  [2.1.1] >= [2.1.1.1]","x","x","x","x",{"$f":"IF(I18>=I19,\"OK\",\"BŁĄD\")","v":"OK"},"OK","OK","OK","OK","OK","OK","OK","OK","OK","OK","OK","OK","OK","OK","OK","OK","OK","OK","OK","OK","OK","OK","OK","OK","OK","OK","OK","OK","OK"]
[null,"[2.1.1] >= [14.3.3]","[2.1.1] >= [14.3.3]","Reguła logiczna:  [2.1.1] >= [14.3.3]","x","x","x","x",{"$f":"IF(I18>=I104,\"OK\",\"BŁĄD\")","v":"OK"},"OK","OK","OK","OK","OK","OK","OK","OK","OK","OK","OK","OK","OK","OK","OK","OK","OK","OK","OK","OK","OK","OK","OK","OK","OK","OK","OK","OK","OK"]
[null,"[2.1.3] >= [2.1.3.1] ","[2.1.3] >= [2.1.3.1] ","Reguła logiczna:  [2.1.3] >= [2.1.3.1] ","x","x","x","x",{"$f":"IF(I21>=I22,\"OK\",\"BŁĄD\")","v":"OK"},"OK","OK","OK","OK","OK","OK","OK","OK","OK","OK","OK","OK","OK","OK","OK","OK","OK","OK","OK","OK","OK","OK","OK","OK","OK","OK","OK","OK","OK"]
[null,"[2.1.3] >= [2.1.3.1] ","[2.1.3] >= [2.1.3.1] ","Reguła logiczna:  [2.1.3.1] >= [2.1.3.1.1]+[2.1.3.1.2] ","x","x","x","x",{"$f":"IF(I22>=(I23+I24),\"OK\",\"BŁĄD\")","v":"OK"},{"$f":"IF(J22>=J23,\"OK\",\"BŁĄD\")","v":"OK"},"OK","OK","OK","OK","OK","OK","OK","OK","OK","OK","OK","OK","OK","OK","OK","OK","OK","OK","OK","OK","OK","OK","OK","OK","OK","OK","OK","OK"]
[null,"[2.1] >= ([2.1.1] + [2.1.2] + [2.1.3])","[2.1] >= ([2.1.1] + [2.1.2] + [2.1.3])","Reguła logiczna:  [2.1] >= ([2.1.1] + [2.1.2] + [2.1.3])","x","x","x","x",{"$f":"IF(I17>=(I18+I20+I21),\"OK\",\"BŁĄD\")","v":"OK"},"OK","OK","OK","OK","OK","OK","OK","OK","OK","OK","OK","OK","OK","OK","OK","OK","OK","OK","OK","OK","OK","OK","OK","OK","OK","OK","OK","OK","OK"]
[null,"[2.1] >= [11.1]","[2.1] >= [11.1]","Reguła logiczna:  [2.1] >= [11.1]","x","x","x","x",{"$f":"IF(I17>=I61,\"OK\",\"BŁĄD\")","v":"OK"},"OK","OK","OK","OK","OK","OK","OK","OK","OK","OK","OK","OK","OK","OK","OK","OK","OK","OK","OK","OK","OK","OK","OK","OK","OK","OK","OK","OK","OK"]
[null,"[2.1] >= [11.3.1]","[2.1] >= [11.3.1]","Reguła logiczna:  [2.1] >= [11.3.1]","x","x","x","x",{"$f":"IF(I17>=I64,\"OK\",\"BŁĄD\")","v":"OK"},"OK","OK","OK","OK","OK","OK","OK","OK","OK","OK","OK","OK","OK","OK","OK","OK","OK","OK","OK","OK","OK","OK","OK","OK","OK","OK","OK","OK","OK"]
[null,"[2.1] >= [12.3]","[2.1] >= [12.3]","Reguła logiczna:  [2.1] >= [12.3]","x","x","x","x",{"$f":"IF(I17>=I76,\"OK\",\"BŁĄD\")","v":"OK"},"OK","OK","OK","OK","OK","OK","OK","OK","OK","OK","OK","OK","OK","OK","OK","OK","OK","OK","OK","OK","OK","OK","OK","OK","OK","OK","OK","OK","OK"]
[null,"[2.1] >= [13.7]","[2.1] >= [13.7]","Reguła logiczna:  [2.1] >= [13.7]","x","x","x","x",{"$f":"IF(I17>=I97,\"OK\",\"BŁĄD\")","v":"OK"},"OK","OK","OK","OK","OK","OK","OK","OK","OK","OK","OK","OK","OK","OK","OK","OK","OK","OK","OK","OK","OK","OK","OK","OK","OK","OK","OK","OK","OK"]
[null,"[2.2] >= [11.3.2]","[2.2] >= [11.3.2]","Reguła logiczna:  [2.2] >= [11.3.2]","x","x","x","x",{"$f":"IF(I25>=I65,\"OK\",\"BŁĄD\")","v":"OK"},"OK","OK","OK","OK","OK","OK","OK","OK","OK","OK","OK","OK","OK","OK","OK","OK","OK","OK","OK","OK","OK","OK","OK","OK","OK","OK","OK","OK","OK"]
[null,"[2.2] >= [11.4] + [11.5]","[2.2] >= [11.4] + [11.5]","Reguła logiczna:  [2.2] >= [11.4] + [11.5]","x","x","x","x",{"$f":"IF(I25>=I66+I67,\"OK\",\"BŁĄD\")","v":"OK"},"OK","OK","OK","OK","OK","OK","OK","OK","OK","OK","OK","OK","OK","OK","OK","OK","OK","OK","OK","OK","OK","OK","OK","OK","OK","OK","OK","OK","OK"]
[null,"[2.2] >= [11.6]","[2.2] >= [11.6]","Reguła logiczna:  [2.2] >= [11.6]","x","x","x","x",{"$f":"IF(I25>=I68,\"OK\",\"BŁĄD\")","v":"OK"},"OK","OK","OK","OK","OK","OK","OK","OK","OK","OK","OK","OK","OK","OK","OK","OK","OK","OK","OK","OK","OK","OK","OK","OK","OK","OK","OK","OK","OK"]
[null,"[2.2] >= [12.4]","[2.2] >= [12.4]","Reguła logiczna:  [2.2] >= [12.4]","x","x","x","x",{"$f":"IF(I25>=I79,\"OK\",\"BŁĄD\")","v":"OK"},"OK","OK","OK","OK","OK","OK","OK","OK","OK","OK","OK","OK","OK","OK","OK","OK","OK","OK","OK","OK","OK","OK","OK","OK","OK","OK","OK","OK","OK"]
[null,"[4.1] >= [4.1.1]","[4.1] >= [4.1.1]","Reguła logiczna:  [4.1] >= [4.1.1]","x","x","x","x",{"$f":"IF(I28>=I29,\"OK\",\"BŁĄD\")","v":"OK"},"OK","OK","OK","OK","OK","OK","OK","OK","OK","OK","OK","OK","OK","OK","OK","OK","OK","OK","OK","OK","OK","OK","OK","OK","OK","OK","OK","OK","OK"]
[null,"[4.2] >= [4.2.1]","[4.2] >= [4.2.1]","Reguła logiczna:  [4.2] >= [4.2.1]","x","x","x","x",{"$f":"IF(I30>=I31,\"OK\",\"BŁĄD\")","v":"OK"},"OK","OK","OK","OK","OK","OK","OK","OK","OK","OK","OK","OK","OK","OK","OK","OK","OK","OK","OK","OK","OK","OK","OK","OK","OK","OK","OK","OK","OK"]
[null,"[4.3] >= [4.3.1]","[4.3] >= [4.3.1]","Reguła logiczna:  [4.3] >= [4.3.1]","x","x","x","x",{"$f":"IF(I32>=I33,\"OK\",\"BŁĄD\")","v":"OK"},"OK","OK","OK","OK","OK","OK","OK","OK","OK","OK","OK","OK","OK","OK","OK","OK","OK","OK","OK","OK","OK","OK","OK","OK","OK","OK","OK","OK","OK"]
[null,"[4.4] >= [4.4.1]","[4.4] >= [4.4.1]","Reguła logiczna:  [4.4] >= [4.4.1]","x","x","x","x",{"$f":"IF(I34>=I35,\"OK\",\"BŁĄD\")","v":"OK"},"OK","OK","OK","OK","OK","OK","OK","OK","OK","OK","OK","OK","OK","OK","OK","OK","OK","OK","OK","OK","OK","OK","OK","OK","OK","OK","OK","OK","OK"]
[null,"[5.1] >= [5.1.1]","[5.1] >= [5.1.1]","Reguła logiczna:  [5.1] >= [5.1.1]","x","x","x","x",{"$f":"IF(I37>=I38,\"OK\",\"BŁĄD\")","v":"OK"},"OK","OK","OK","OK","OK","OK","OK","OK","OK","OK","OK","OK","OK","OK","OK","OK","OK","OK","OK","OK","OK","OK","OK","OK","OK","OK","OK","OK","OK"]
[null,"[5.1] >= [10.1]","[5.1] >= [10.1]","Reguła logiczna:  [5.1] >= [10.1]","x","x","x","x",{"$f":"IF(I37>=I59,\"OK\",\"BŁĄD\")","v":"OK"},"OK","OK","OK","OK","OK","OK","OK","OK","OK","OK","OK","OK","OK","OK","OK","OK","OK","OK","OK","OK","OK","OK","OK","OK","OK","OK","OK","OK","OK"]
[null,"[5.1] >= [14.1]","[5.1] >= [14.1]","Reguła logiczna:  [5.1] >= [14.1]","x","x","x","x",{"$f":"IF(I37>=I99,\"OK\",\"BŁĄD\")","v":"OK"},"OK","OK","OK","OK","OK","OK","OK","OK","OK","OK","OK","OK","OK","OK","OK","OK","OK","OK","OK","OK","OK","OK","OK","OK","OK","OK","OK","OK","OK"]
[null,"[6] >=[7]","[6] >=[7]","Reguła logiczna:  [6] >=[7]","x","x","x","x",{"$f":"IF(I43>=I44,\"OK\",\"BŁĄD\")","v":"OK"},"OK","OK","OK","OK","OK","OK","OK","OK","OK","OK","OK","OK","OK","OK","OK","OK","OK","OK","OK","OK","OK","OK","OK","OK","OK","OK","OK","OK","OK"]
[null,"[6] >= [14.2]","[6] >= [14.2]","Reguła logiczna:  [6] >= [14.2]","x","x","x","x",{"$f":"IF(I43>=I100,\"OK\",\"BŁĄD\")","v":"OK"},"OK","OK","OK","OK","OK","OK","OK","OK","OK","OK","OK","OK","OK","OK","OK","OK","OK","OK","OK","OK","OK","OK","OK","OK","OK","OK","OK","OK","OK"]
[null,"7>=13.1","7>=13.1","Reguła logiczna:  7>=13.1","x","x","x","x",{"$f":"IF(I44>=I91,\"OK\",\"BŁĄD\")","v":"OK"},"OK","OK","OK","OK","OK","OK","OK","OK","OK","OK","OK","OK","OK","OK","OK","OK","OK","OK","OK","OK","OK","OK","OK","OK","OK","OK","OK","OK","OK"]
[null,"jeżeli [2.1.3] <> 0 to  [2.1.3.1] <> 0 ","jeżeli [2.1.3] <> 0 to  [2.1.3.1] <> 0 ","Reguła logiczna:  jeżeli [2.1.3] <> 0 to  [2.1.3.1] <> 0 ","x","x","x","x",{"$f":"IF(I21<>0,IF(I22<>0,\"OK\",\"BŁĄD\"),\"N/D\")","v":"OK"},"OK","OK","OK","OK","OK","OK","OK","OK","OK","N/D","N/D","N/D","N/D","N/D","N/D","N/D","N/D","N/D","N/D","N/D","N/D","N/D","N/D","N/D","N/D","N/D","N/D","N/D","N/D"]
[]
[null,null,null,"Kontrola poprawności podstawowych kwot"]
[null,null,null,"Dochody ogółem = bieżące + majątkowe",{"$f":"E6+E13","v":17973113.919999998},17392993.420000002,17678787.150000002,17101682.73,19443564.07,21094929,20445387,20768748,20707811,20663045,21134936,21523984,21930704,22555625,0,0,0,0,0,0,0,0,0,0,0,0,0,0,0,0,0,0,0,0]
[null,null,null,"Wydatki ogółem = bieżące + majątkowe",{"$f":"E17+E25","v":17877352.149999999},17186267.02,17646787.150000002,16884782.780000001,19043564.07,20494929,19845387,19568748,19407811,19463045,19804936,20013984,20382704,21812625,0,0,0,0,0,0,0,0,0,0,0,0,0,0,0,0,0,0,0,0]
[null,null,null,"Wynik budżetu = dochody ogółem - wydatki ogółem",{"$f":"E5-E16","v":95761.770000003278},206726.40000000224,32000,216899.94999999925,400000,600000,600000,1200000,1300000,1200000,1330000,1510000,1548000,743000,0,0,0,0,0,0,0,0,0,0,0,0,0,0,0,0,0,0,0,0]
[null,null,null,"Wyliczenie kwoty długu","x",{"$f":"E43+F32-F37+(F100-E100)+F105","v":10540850},"x",{"$f":"F43+H32-H37+(H100-F100)+H105","v":10431000},{"$f":"H43+I32-I37+(I100-H100)+I105","v":10719000},9995000,9275000,7958000,6545000,5236000,3801000,2291000,743000,0,0,0,0,0,0,0,0,0,0,0,0,0,0,0,0,0,0,0,0,0]
[null,null,null,"Wyliczenie zobowiązań wynikających z przejęcia przez jst zobowiązań po likwidowanych i przekształcanych SZOZ","x",{"$f":"E91-(F93+F94+F95+F96)","v":0},"x",{"$f":"F91-(H93+H94+H95+H96)","v":0},{"$f":"H91-(I93+I94+I95+I96)","v":0},0,0,0,0,0,0,0,0,0,0,0,0,0,0,0,0,0,0,0,0,0,0,0,0,0,0,0,0,0]
[]
[null,null,null,"Analiza ryzyka niespełnienia wskaźnika z art. 243"]
[null,null,null,"Analiza składowych wzoru wskaźnika z art. 243"]
[null,null,null,0,{"$f":"+\"różnica mniejsza od \"&TEXT(D192*100,\"0,0\")&\"%\"","v":"różnica mniejsza od 0,0%"}]
[null,null,null,5.0000000000000001E-3,{"$f":"+\"różnica mniejsza od \"&TEXT(D193*100,\"0,0\")&\"%\"","v":"różnica mniejsza od 0,5%"}]
[null,null,null,0.01,{"$f":"+\"różnica mniejsza od \"&TEXT(D194*100,\"0,0\")&\"%\"","v":"różnica mniejsza od 1,0%"}]
[null,null,null,"max. limit spłat (planistyczny) - (R+O)/D (bez wyłączeń)","x","x","x","x",{"$f":"+IF(I5=0,\"\",I54-I49)","v":7.1999999999999981E-3},1.67E-2,2.4599999999999997E-2,8.9999999999999941E-3,1.9999999999999185E-4,9.999999999999995E-3,8.4999999999999937E-3,8.3000000000000018E-3,1.3200000000000003E-2,5.4200000000000005E-2,"","","","","","","","","","","","","","","","","","","",""]
[null,null,null,"max. limit spłat (planistyczny) - (R+O)/D (z wyłączeniami)","x","x","x","x",{"$f":"+IF(I5=0,\"\",I54-I50)","v":1.2700000000000003E-2},2.1200000000000004E-2,2.8199999999999996E-2,1.1999999999999997E-2,2.2999999999999965E-3,1.1200000000000002E-2,9.3999999999999917E-3,9.000000000000008E-3,1.3800000000000007E-2,5.4800000000000001E-2,"","","","","","","","","","","","","","","","","","","",""]
[null,null,null,"max. limit spłat (wg wykonania) - (R+O)/D (bez wyłączeń)","x","x","x","x",{"$f":"+IF(I5=0,\"\",I55-I49)","v":6.8000000000000005E-3},1.6300000000000002E-2,2.4199999999999999E-2,8.9999999999999941E-3,1.9999999999999185E-4,9.999999999999995E-3,8.4999999999999937E-3,8.3000000000000018E-3,1.3200000000000003E-2,5.4200000000000005E-2,"","","","","","","","","","","","","","","","","","","",""]
[null,null,null,"max. limit spłat (wg wykonania) - (R+O)/D (z wyłączeniami)","x","x","x","x",{"$f":"+IF(I5=0,\"\",I55-I50)","v":1.2300000000000005E-2},2.0800000000000006E-2,2.7799999999999998E-2,1.1999999999999997E-2,2.2999999999999965E-3,1.1200000000000002E-2,9.3999999999999917E-3,9.000000000000008E-3,1.3800000000000007E-2,5.4800000000000001E-2,"","","","","","","","","","","","","","","","","","","",""]

{"sheet":"WPF_AnalizaWsk_ProjektowanieJST","index":1,"n_rows":203,"n_cols":38,"rows_kept":203,"cut":false,"hidden":false,"merged":[[0,5,0,15],[1,5,1,15],[2,5,2,15],[7,4,7,5]]}
[null,"Raport z systemu BeSTi@ - narzędzie opracowane przez Zespół ds. rozwoju technologii IT przy KR RIO",null,null,null,"Pola z tłem tego koloru są obliczane automatycznie i nie powinny być nadpisywane w celu ochrony formuł"]
[null,"Niniejsze zestawienie można samodzielnie formatować i modyfikować wartości",null,null,null,"Pola z tłem tego koloru są obliczane automatycznie"]
[null,"Układ WPF wg Rozporządzenia Min.Fin. z 10.01.2013 po zmianie z DzU.2013.1736 oraz DzU.2014.1127",null,null,null,"Pola z tłem tego koloru można edytowac wprowadzając nowe wartości (projektowanie WPF i obliczanie wskaźników)"]
[]
[null,"Nr Uchwały:",null,{"$f":"DaneZrodlowe!B4","v":"test"},null,null,null,null,{"$f":"D6&\" - \"&\"WPF za lata \"&D7&\" - Nr Uchwały JST: \"&D5","v":"WIDUCHOWA - WPF za lata 2016 - 2025 - Nr Uchwały JST: test"}]
[null,"Nazwa JST:",null,{"$f":"DaneZrodlowe!C4","v":"WIDUCHOWA"}]
[null,"WPF za lata:",null,{"$f":"CONCATENATE(DaneZrodlowe!N1,\" - \",DaneZrodlowe!Q1)","v":"2016 - 2025"},null,null,null,null,null,"zaokrąglaj wskaźniki procentowe do liczby miejsc po przecinku:",2]
[null,null,null,null,"Wykonanie ",null,"Plan 3 kw.","Wykonanie ",{"$f":"\"\"","v":""}]
["X","Lp.","Formuła","Wyszczególnienie",{"$f":"+F9-1","v":2013},{"$f":"+G9-1","v":2014},{"$f":"+H9","v":2015},{"$f":"+I9-1","v":2015},{"$f":"+DaneZrodlowe!$N$1","v":2016},{"$f":"+I9+1","v":2017},{"$f":"+J9+1","v":2018},2019,2020,2021,2022,2023,2024,2025,2026,2027,2028,2029,2030,2031,2032,2033,2034,2035,2036,2037,2038,2039,2040,2041,2042,2043,2044,2045]
["x",1,"[1.1]+[1.2]","Dochody ogółem",{"$f":"Zał.1_WPF_bazowy!E5","v":17973113.920000002},{"$f":"Zał.1_WPF_bazowy!F5","v":17392993.420000002},{"$f":"Zał.1_WPF_bazowy!G5","v":17678787.149999999},{"$f":"+H11+H18","v":17101682.73},{"$f":"+I11+I18","v":19443564.07},{"$f":"+J11+J18","v":21094929},20445387,20768748,20707811,20663045,21134936,21523984,21930704,22555625,0,0,0,0,0,0,0,0,0,0,0,0,0,0,0,0,0,0,0,0]
["x","1.1",null,"Dochody bieżące",{"$f":"Zał.1_WPF_bazowy!E6","v":16880945.989999998},{"$f":"Zał.1_WPF_bazowy!F6","v":17056473.25},{"$f":"Zał.1_WPF_bazowy!G6","v":16787969.73},{"$f":"Zał.1_WPF_bazowy!H6","v":16811380.25},{"$f":"+Zał.1_WPF_bazowy!I6","v":18580564.07},{"$f":"+Zał.1_WPF_bazowy!J6","v":19522329},{"$f":"+Zał.1_WPF_bazowy!K6","v":20045387},{"$f":"+Zał.1_WPF_bazowy!L6","v":20368748},{"$f":"+Zał.1_WPF_bazowy!M6","v":20307811},{"$f":"+Zał.1_WPF_bazowy!N6","v":20363045},{"$f":"+Zał.1_WPF_bazowy!O6","v":20834936},{"$f":"+Zał.1_WPF_bazowy!P6","v":21223984},{"$f":"+Zał.1_WPF_bazowy!Q6","v":21630704},{"$f":"+Zał.1_WPF_bazowy!R6","v":22255625},{"$f":"+Zał.1_WPF_bazowy!S6","v":0},{"$f":"+Zał.1_WPF_bazowy!T6","v":0},{"$f":"+Zał.1_WPF_bazowy!U6","v":0},{"$f":"+Zał.1_WPF_bazowy!V6","v":0},{"$f":"+Zał.1_WPF_bazowy!W6","v":0},{"$f":"+Zał.1_WPF_bazowy!X6","v":0},{"$f":"+Zał.1_WPF_bazowy!Y6","v":0},{"$f":"+Zał.1_WPF_bazowy!Z6","v":0},{"$f":"+Zał.1_WPF_bazowy!AA6","v":0},{"$f":"+Zał.1_WPF_bazowy!AB6","v":0},{"$f":"+Zał.1_WPF_bazowy!AC6","v":0},{"$f":"+Zał.1_WPF_bazowy!AD6","v":0},{"$f":"+Zał.1_WPF_bazowy!AE6","v":0},{"$f":"+Zał.1_WPF_bazowy!AF6","v":0},{"$f":"+Zał.1_WPF_bazowy!AG6","v":0},{"$f":"+Zał.1_WPF_bazowy!AH6","v":0},{"$f":"+Zał.1_WPF_bazowy!AI6","v":0},{"$f":"+Zał.1_WPF_bazowy!AJ6","v":0},{"$f":"+Zał.1_WPF_bazowy!AK6","v":0},{"$f":"+Zał.1_WPF_bazowy!AL6","v":0}]
[null,"1.1.1",null,"dochody z tytułu udziału we wpływach z podatku dochodowego od osób fizycznych",{"$f":"Zał.1_WPF_bazowy!E7","v":1411221},{"$f":"Zał.1_WPF_bazowy!F7","v":1673051},{"$f":"Zał.1_WPF_bazowy!G7","v":1903237},{"$f":"Zał.1_WPF_bazowy!H7","v":1919798},{"$f":"+Zał.1_WPF_bazowy!I7","v":1930520},{"$f":"+Zał.1_WPF_bazowy!J7","v":2000000},{"$f":"+Zał.1_WPF_bazowy!K7","v":2100000},{"$f":"+Zał.1_WPF_bazowy!L7","v":2100000},{"$f":"+Zał.1_WPF_bazowy!M7","v":2100000},{"$f":"+Zał.1_WPF_bazowy!N7","v":2200000},{"$f":"+Zał.1_WPF_bazowy!O7","v":2250000},{"$f":"+Zał.1_WPF_bazowy!P7","v":2300000},{"$f":"+Zał.1_WPF_bazowy!Q7","v":2350000},{"$f":"+Zał.1_WPF_bazowy!R7","v":2400000},{"$f":"+Zał.1_WPF_bazowy!S7","v":0},{"$f":"+Zał.1_WPF_bazowy!T7","v":0},{"$f":"+Zał.1_WPF_bazowy!U7","v":0},{"$f":"+Zał.1_WPF_bazowy!V7","v":0},{"$f":"+Zał.1_WPF_bazowy!W7","v":0},{"$f":"+Zał.1_WPF_bazowy!X7","v":0},{"$f":"+Zał.1_WPF_bazowy!Y7","v":0},{"$f":"+Zał.1_WPF_bazowy!Z7","v":0},{"$f":"+Zał.1_WPF_bazowy!AA7","v":0},{"$f":"+Zał.1_WPF_bazowy!AB7","v":0},{"$f":"+Zał.1_WPF_bazowy!AC7","v":0},{"$f":"+Zał.1_WPF_bazowy!AD7","v":0},{"$f":"+Zał.1_WPF_bazowy!AE7","v":0},{"$f":"+Zał.1_WPF_bazowy!AF7","v":0},{"$f":"+Zał.1_WPF_bazowy!AG7","v":0},{"$f":"+Zał.1_WPF_bazowy!AH7","v":0},{"$f":"+Zał.1_WPF_bazowy!AI7","v":0},{"$f":"+Zał.1_WPF_bazowy!AJ7","v":0},{"$f":"+Zał.1_WPF_bazowy!AK7","v":0},{"$f":"+Zał.1_WPF_bazowy!AL7","v":0}]
[null,"1.1.2",null,"dochody z tytułu udziału we wpływach z podatku dochodowego od osób prawnych",{"$f":"Zał.1_WPF_bazowy!E8","v":16121.53},{"$f":"Zał.1_WPF_bazowy!F8","v":8401.41},{"$f":"Zał.1_WPF_bazowy!G8","v":13000},{"$f":"Zał.1_WPF_bazowy!H8","v":3238.59},{"$f":"+Zał.1_WPF_bazowy!I8","v":3000},{"$f":"+Zał.1_WPF_bazowy!J8","v":8000},{"$f":"+Zał.1_WPF_bazowy!K8","v":9000},{"$f":"+Zał.1_WPF_bazowy!L8","v":10000},{"$f":"+Zał.1_WPF_bazowy!M8","v":11000},{"$f":"+Zał.1_WPF_bazowy!N8","v":12000},{"$f":"+Zał.1_WPF_bazowy!O8","v":13000},{"$f":"+Zał.1_WPF_bazowy!P8","v":14000},{"$f":"+Zał.1_WPF_bazowy!Q8","v":15000},{"$f":"+Zał.1_WPF_bazowy!R8","v":16000},{"$f":"+Zał.1_WPF_bazowy!S8","v":0},{"$f":"+Zał.1_WPF_bazowy!T8","v":0},{"$f":"+Zał.1_WPF_bazowy!U8","v":0},{"$f":"+Zał.1_WPF_bazowy!V8","v":0},{"$f":"+Zał.1_WPF_bazowy!W8","v":0},{"$f":"+Zał.1_WPF_bazowy!X8","v":0},{"$f":"+Zał.1_WPF_bazowy!Y8","v":0},{"$f":"+Zał.1_WPF_bazowy!Z8","v":0},{"$f":"+Zał.1_WPF_bazowy!AA8","v":0},{"$f":"+Zał.1_WPF_bazowy!AB8","v":0},{"$f":"+Zał.1_WPF_bazowy!AC8","v":0},{"$f":"+Zał.1_WPF_bazowy!AD8","v":0},{"$f":"+Zał.1_WPF_bazowy!AE8","v":0},{"$f":"+Zał.1_WPF_bazowy!AF8","v":0},{"$f":"+Zał.1_WPF_bazowy!AG8","v":0},{"$f":"+Zał.1_WPF_bazowy!AH8","v":0},{"$f":"+Zał.1_WPF_bazowy!AI8","v":0},{"$f":"+Zał.1_WPF_bazowy!AJ8","v":0},{"$f":"+Zał.1_WPF_bazowy!AK8","v":0},{"$f":"+Zał.1_WPF_bazowy!AL8","v":0}]
[null,"1.1.3",null,"podatki i opłaty",{"$f":"Zał.1_WPF_bazowy!E9","v":4978057.92},{"$f":"Zał.1_WPF_bazowy!F9","v":4929544.8099999996},{"$f":"Zał.1_WPF_bazowy!G9","v":5065013},{"$f":"Zał.1_WPF_bazowy!H9","v":5000956.3499999996},{"$f":"+Zał.1_WPF_bazowy!I9","v":3971378},{"$f":"+Zał.1_WPF_bazowy!J9","v":4083000},{"$f":"+Zał.1_WPF_bazowy!K9","v":4242000},{"$f":"+Zał.1_WPF_bazowy!L9","v":4405000},{"$f":"+Zał.1_WPF_bazowy!M9","v":4573000},{"$f":"+Zał.1_WPF_bazowy!N9","v":4900000},{"$f":"+Zał.1_WPF_bazowy!O9","v":5000000},{"$f":"+Zał.1_WPF_bazowy!P9","v":5180000},{"$f":"+Zał.1_WPF_bazowy!Q9","v":5298000},{"$f":"+Zał.1_WPF_bazowy!R9","v":5493000},{"$f":"+Zał.1_WPF_bazowy!S9","v":0},{"$f":"+Zał.1_WPF_bazowy!T9","v":0},{"$f":"+Zał.1_WPF_bazowy!U9","v":0},{"$f":"+Zał.1_WPF_bazowy!V9","v":0},{"$f":"+Zał.1_WPF_bazowy!W9","v":0},{"$f":"+Zał.1_WPF_bazowy!X9","v":0},{"$f":"+Zał.1_WPF_bazowy!Y9","v":0},{"$f":"+Zał.1_WPF_bazowy!Z9","v":0},{"$f":"+Zał.1_WPF_bazowy!AA9","v":0},{"$f":"+Zał.1_WPF_bazowy!AB9","v":0},{"$f":"+Zał.1_WPF_bazowy!AC9","v":0},{"$f":"+Zał.1_WPF_bazowy!AD9","v":0},{"$f":"+Zał.1_WPF_bazowy!AE9","v":0},{"$f":"+Zał.1_WPF_bazowy!AF9","v":0},{"$f":"+Zał.1_WPF_bazowy!AG9","v":0},{"$f":"+Zał.1_WPF_bazowy!AH9","v":0},{"$f":"+Zał.1_WPF_bazowy!AI9","v":0},{"$f":"+Zał.1_WPF_bazowy!AJ9","v":0},{"$f":"+Zał.1_WPF_bazowy!AK9","v":0},{"$f":"+Zał.1_WPF_bazowy!AL9","v":0}]
[null,"1.1.3.1",null,"z podatku od nieruchomości",{"$f":"Zał.1_WPF_bazowy!E10","v":2987844.55},{"$f":"Zał.1_WPF_bazowy!F10","v":2990336.23},{"$f":"Zał.1_WPF_bazowy!G10","v":3016000},{"$f":"Zał.1_WPF_bazowy!H10","v":3054437.86},{"$f":"+Zał.1_WPF_bazowy!I10","v":1920000},{"$f":"+Zał.1_WPF_bazowy!J10","v":1930000},{"$f":"+Zał.1_WPF_bazowy!K10","v":2013000},{"$f":"+Zał.1_WPF_bazowy!L10","v":2109000},{"$f":"+Zał.1_WPF_bazowy!M10","v":2209000},{"$f":"+Zał.1_WPF_bazowy!N10","v":2311000},{"$f":"+Zał.1_WPF_bazowy!O10","v":2416000},{"$f":"+Zał.1_WPF_bazowy!P10","v":2525000},{"$f":"+Zał.1_WPF_bazowy!Q10","v":2636000},{"$f":"+Zał.1_WPF_bazowy!R10","v":2752000},{"$f":"+Zał.1_WPF_bazowy!S10","v":0},{"$f":"+Zał.1_WPF_bazowy!T10","v":0},{"$f":"+Zał.1_WPF_bazowy!U10","v":0},{"$f":"+Zał.1_WPF_bazowy!V10","v":0},{"$f":"+Zał.1_WPF_bazowy!W10","v":0},{"$f":"+Zał.1_WPF_bazowy!X10","v":0},{"$f":"+Zał.1_WPF_bazowy!Y10","v":0},{"$f":"+Zał.1_WPF_bazowy!Z10","v":0},{"$f":"+Zał.1_WPF_bazowy!AA10","v":0},{"$f":"+Zał.1_WPF_bazowy!AB10","v":0},{"$f":"+Zał.1_WPF_bazowy!AC10","v":0},{"$f":"+Zał.1_WPF_bazowy!AD10","v":0},{"$f":"+Zał.1_WPF_bazowy!AE10","v":0},{"$f":"+Zał.1_WPF_bazowy!AF10","v":0},{"$f":"+Zał.1_WPF_bazowy!AG10","v":0},{"$f":"+Zał.1_WPF_bazowy!AH10","v":0},{"$f":"+Zał.1_WPF_bazowy!AI10","v":0},{"$f":"+Zał.1_WPF_bazowy!AJ10","v":0},{"$f":"+Zał.1_WPF_bazowy!AK10","v":0},{"$f":"+Zał.1_WPF_bazowy!AL10","v":0}]
[null,"1.1.4",null,"z subwencji ogólnej",{"$f":"Zał.1_WPF_bazowy!E11","v":6023919},{"$f":"Zał.1_WPF_bazowy!F11","v":5676996},{"$f":"Zał.1_WPF_bazowy!G11","v":5458757},{"$f":"Zał.1_WPF_bazowy!H11","v":5458757},{"$f":"+Zał.1_WPF_bazowy!I11","v":5855736},{"$f":"+Zał.1_WPF_bazowy!J11","v":5800000},{"$f":"+Zał.1_WPF_bazowy!K11","v":5900000},{"$f":"+Zał.1_WPF_bazowy!L11","v":6000000},{"$f":"+Zał.1_WPF_bazowy!M11","v":6022000},{"$f":"+Zał.1_WPF_bazowy!N11","v":6133000},{"$f":"+Zał.1_WPF_bazowy!O11","v":6250000},{"$f":"+Zał.1_WPF_bazowy!P11","v":6400000},{"$f":"+Zał.1_WPF_bazowy!Q11","v":6450000},{"$f":"+Zał.1_WPF_bazowy!R11","v":6500000},{"$f":"+Zał.1_WPF_bazowy!S11","v":0},{"$f":"+Zał.1_WPF_bazowy!T11","v":0},{"$f":"+Zał.1_WPF_bazowy!U11","v":0},{"$f":"+Zał.1_WPF_bazowy!V11","v":0},{"$f":"+Zał.1_WPF_bazowy!W11","v":0},{"$f":"+Zał.1_WPF_bazowy!X11","v":0},{"$f":"+Zał.1_WPF_bazowy!Y11","v":0},{"$f":"+Zał.1_WPF_bazowy!Z11","v":0},{"$f":"+Zał.1_WPF_bazowy!AA11","v":0},{"$f":"+Zał.1_WPF_bazowy!AB11","v":0},{"$f":"+Zał.1_WPF_bazowy!AC11","v":0},{"$f":"+Zał.1_WPF_bazowy!AD11","v":0},{"$f":"+Zał.1_WPF_bazowy!AE11","v":0},{"$f":"+Zał.1_WPF_bazowy!AF11","v":0},{"$f":"+Zał.1_WPF_bazowy!AG11","v":0},{"$f":"+Zał.1_WPF_bazowy!AH11","v":0},{"$f":"+Zał.1_WPF_bazowy!AI11","v":0},{"$f":"+Zał.1_WPF_bazowy!AJ11","v":0},{"$f":"+Zał.1_WPF_bazowy!AK11","v":0},{"$f":"+Zał.1_WPF_bazowy!AL11","v":0}]
[null,"1.1.5",null,"z tytułu dotacji i środków przeznaczonych na cele bieżące",{"$f":"Zał.1_WPF_bazowy!E12","v":3962405.56},{"$f":"Zał.1_WPF_bazowy!F12","v":4287663.4400000004},{"$f":"Zał.1_WPF_bazowy!G12","v":3889573.73},{"$f":"Zał.1_WPF_bazowy!H12","v":4019037.08},{"$f":"+Zał.1_WPF_bazowy!I12","v":5259568.07},{"$f":"+Zał.1_WPF_bazowy!J12","v":7500000},{"$f":"+Zał.1_WPF_bazowy!K12","v":7550000},{"$f":"+Zał.1_WPF_bazowy!L12","v":7350000},{"$f":"+Zał.1_WPF_bazowy!M12","v":6900000},{"$f":"+Zał.1_WPF_bazowy!N12","v":7090000},{"$f":"+Zał.1_WPF_bazowy!O12","v":7200000},{"$f":"+Zał.1_WPF_bazowy!P12","v":7250000},{"$f":"+Zał.1_WPF_bazowy!Q12","v":7450000},{"$f":"+Zał.1_WPF_bazowy!R12","v":7600000},{"$f":"+Zał.1_WPF_bazowy!S12","v":0},{"$f":"+Zał.1_WPF_bazowy!T12","v":0},{"$f":"+Zał.1_WPF_bazowy!U12","v":0},{"$f":"+Zał.1_WPF_bazowy!V12","v":0},{"$f":"+Zał.1_WPF_bazowy!W12","v":0},{"$f":"+Zał.1_WPF_bazowy!X12","v":0},{"$f":"+Zał.1_WPF_bazowy!Y12","v":0},{"$f":"+Zał.1_WPF_bazowy!Z12","v":0},{"$f":"+Zał.1_WPF_bazowy!AA12","v":0},{"$f":"+Zał.1_WPF_bazowy!AB12","v":0},{"$f":"+Zał.1_WPF_bazowy!AC12","v":0},{"$f":"+Zał.1_WPF_bazowy!AD12","v":0},{"$f":"+Zał.1_WPF_bazowy!AE12","v":0},{"$f":"+Zał.1_WPF_bazowy!AF12","v":0},{"$f":"+Zał.1_WPF_bazowy!AG12","v":0},{"$f":"+Zał.1_WPF_bazowy!AH12","v":0},{"$f":"+Zał.1_WPF_bazowy!AI12","v":0},{"$f":"+Zał.1_WPF_bazowy!AJ12","v":0},{"$f":"+Zał.1_WPF_bazowy!AK12","v":0},{"$f":"+Zał.1_WPF_bazowy!AL12","v":0}]
["x","1.2",null,"Dochody majątkowe, w tym",{"$f":"Zał.1_WPF_bazowy!E13","v":1092167.93},{"$f":"Zał.1_WPF_bazowy!F13","v":336520.17},{"$f":"Zał.1_WPF_bazowy!G13","v":890817.42},{"$f":"Zał.1_WPF_bazowy!H13","v":290302.48},{"$f":"+Zał.1_WPF_bazowy!I13","v":863000},{"$f":"+Zał.1_WPF_bazowy!J13","v":1572600},{"$f":"+Zał.1_WPF_bazowy!K13","v":400000},{"$f":"+Zał.1_WPF_bazowy!L13","v":400000},{"$f":"+Zał.1_WPF_bazowy!M13","v":400000},{"$f":"+Zał.1_WPF_bazowy!N13","v":300000},{"$f":"+Zał.1_WPF_bazowy!O13","v":300000},{"$f":"+Zał.1_WPF_bazowy!P13","v":300000},{"$f":"+Zał.1_WPF_bazowy!Q13","v":300000},{"$f":"+Zał.1_WPF_bazowy!R13","v":300000},{"$f":"+Zał.1_WPF_bazowy!S13","v":0},{"$f":"+Zał.1_WPF_bazowy!T13","v":0},{"$f":"+Zał.1_WPF_bazowy!U13","v":0},{"$f":"+Zał.1_WPF_bazowy!V13","v":0},{"$f":"+Zał.1_WPF_bazowy!W13","v":0},{"$f":"+Zał.1_WPF_bazowy!X13","v":0},{"$f":"+Zał.1_WPF_bazowy!Y13","v":0},{"$f":"+Zał.1_WPF_bazowy!Z13","v":0},{"$f":"+Zał.1_WPF_bazowy!AA13","v":0},{"$f":"+Zał.1_WPF_bazowy!AB13","v":0},{"$f":"+Zał.1_WPF_bazowy!AC13","v":0},{"$f":"+Zał.1_WPF_bazowy!AD13","v":0},{"$f":"+Zał.1_WPF_bazowy!AE13","v":0},{"$f":"+Zał.1_WPF_bazowy!AF13","v":0},{"$f":"+Zał.1_WPF_bazowy!AG13","v":0},{"$f":"+Zał.1_WPF_bazowy!AH13","v":0},{"$f":"+Zał.1_WPF_bazowy!AI13","v":0},{"$f":"+Zał.1_WPF_bazowy!AJ13","v":0},{"$f":"+Zał.1_WPF_bazowy!AK13","v":0},{"$f":"+Zał.1_WPF_bazowy!AL13","v":0}]
["x","1.2.1",null,"ze sprzedaży majątku",{"$f":"Zał.1_WPF_bazowy!E14","v":138368.5},{"$f":"Zał.1_WPF_bazowy!F14","v":179740.6},{"$f":"Zał.1_WPF_bazowy!G14","v":596000},{"$f":"Zał.1_WPF_bazowy!H14","v":222848.13},{"$f":"+Zał.1_WPF_bazowy!I14","v":391378},{"$f":"+Zał.1_WPF_bazowy!J14","v":300000},{"$f":"+Zał.1_WPF_bazowy!K14","v":400000},{"$f":"+Zał.1_WPF_bazowy!L14","v":400000},{"$f":"+Zał.1_WPF_bazowy!M14","v":400000},{"$f":"+Zał.1_WPF_bazowy!N14","v":300000},{"$f":"+Zał.1_WPF_bazowy!O14","v":300000},{"$f":"+Zał.1_WPF_bazowy!P14","v":300000},{"$f":"+Zał.1_WPF_bazowy!Q14","v":300000},{"$f":"+Zał.1_WPF_bazowy!R14","v":300000},{"$f":"+Zał.1_WPF_bazowy!S14","v":0},{"$f":"+Zał.1_WPF_bazowy!T14","v":0},{"$f":"+Zał.1_WPF_bazowy!U14","v":0},{"$f":"+Zał.1_WPF_bazowy!V14","v":0},{"$f":"+Zał.1_WPF_bazowy!W14","v":0},{"$f":"+Zał.1_WPF_bazowy!X14","v":0},{"$f":"+Zał.1_WPF_bazowy!Y14","v":0},{"$f":"+Zał.1_WPF_bazowy!Z14","v":0},{"$f":"+Zał.1_WPF_bazowy!AA14","v":0},{"$f":"+Zał.1_WPF_bazowy!AB14","v":0},{"$f":"+Zał.1_WPF_bazowy!AC14","v":0},{"$f":"+Zał.1_WPF_bazowy!AD14","v":0},{"$f":"+Zał.1_WPF_bazowy!AE14","v":0},{"$f":"+Zał.1_WPF_bazowy!AF14","v":0},{"$f":"+Zał.1_WPF_bazowy!AG14","v":0},{"$f":"+Zał.1_WPF_bazowy!AH14","v":0},{"$f":"+Zał.1_WPF_bazowy!AI14","v":0},{"$f":"+Zał.1_WPF_bazowy!AJ14","v":0},{"$f":"+Zał.1_WPF_bazowy!AK14","v":0},{"$f":"+Zał.1_WPF_bazowy!AL14","v":0}]
[null,"1.2.2",null,"z tytułu dotacji oraz środków przeznaczonych na inwestycje",{"$f":"Zał.1_WPF_bazowy!E15","v":941977.06},{"$f":"Zał.1_WPF_bazowy!F15","v":148162.29999999999},{"$f":"Zał.1_WPF_bazowy!G15","v":286278.42},{"$f":"Zał.1_WPF_bazowy!H15","v":55441.71},{"$f":"+Zał.1_WPF_bazowy!I15","v":462622},{"$f":"+Zał.1_WPF_bazowy!J15","v":1272600},{"$f":"+Zał.1_WPF_bazowy!K15","v":0},{"$f":"+Zał.1_WPF_bazowy!L15","v":0},{"$f":"+Zał.1_WPF_bazowy!M15","v":0},{"$f":"+Zał.1_WPF_bazowy!N15","v":0},{"$f":"+Zał.1_WPF_bazowy!O15","v":0},{"$f":"+Zał.1_WPF_bazowy!P15","v":0},{"$f":"+Zał.1_WPF_bazowy!Q15","v":0},{"$f":"+Zał.1_WPF_bazowy!R15","v":0},{"$f":"+Zał.1_WPF_bazowy!S15","v":0},{"$f":"+Zał.1_WPF_bazowy!T15","v":0},{"$f":"+Zał.1_WPF_bazowy!U15","v":0},{"$f":"+Zał.1_WPF_bazowy!V15","v":0},{"$f":"+Zał.1_WPF_bazowy!W15","v":0},{"$f":"+Zał.1_WPF_bazowy!X15","v":0},{"$f":"+Zał.1_WPF_bazowy!Y15","v":0},{"$f":"+Zał.1_WPF_bazowy!Z15","v":0},{"$f":"+Zał.1_WPF_bazowy!AA15","v":0},{"$f":"+Zał.1_WPF_bazowy!AB15","v":0},{"$f":"+Zał.1_WPF_bazowy!AC15","v":0},{"$f":"+Zał.1_WPF_bazowy!AD15","v":0},{"$f":"+Zał.1_WPF_bazowy!AE15","v":0},{"$f":"+Zał.1_WPF_bazowy!AF15","v":0},{"$f":"+Zał.1_WPF_bazowy!AG15","v":0},{"$f":"+Zał.1_WPF_bazowy!AH15","v":0},{"$f":"+Zał.1_WPF_bazowy!AI15","v":0},{"$f":"+Zał.1_WPF_bazowy!AJ15","v":0},{"$f":"+Zał.1_WPF_bazowy!AK15","v":0},{"$f":"+Zał.1_WPF_bazowy!AL15","v":0}]
["x",2,"[2.1]+[2.2]","Wydatki ogółem",{"$f":"Zał.1_WPF_bazowy!E16","v":17877352.149999999},{"$f":"Zał.1_WPF_bazowy!F16","v":17186267.02},{"$f":"Zał.1_WPF_bazowy!G16","v":17646787.149999999},{"$f":"+H22+H30","v":16884782.780000001},{"$f":"+I22+I30","v":19043564.07},{"$f":"+J22+J30","v":20494929},19845387,19568748,19407811,19463045,19804936,20013984,20382704,21812625,0,0,0,0,0,0,0,0,0,0,0,0,0,0,0,0,0,0,0,0]
["x","2.1",null,"Wydatki bieżące, w tym:",{"$f":"Zał.1_WPF_bazowy!E17","v":16184466.65},{"$f":"Zał.1_WPF_bazowy!F17","v":16441428.08},{"$f":"Zał.1_WPF_bazowy!G17","v":16609410.73},{"$f":"Zał.1_WPF_bazowy!H17","v":16307675.050000001},{"$f":"+Zał.1_WPF_bazowy!I17","v":17135413.07},{"$f":"+Zał.1_WPF_bazowy!J17","v":18333929},{"$f":"+Zał.1_WPF_bazowy!K17","v":18841237},{"$f":"+Zał.1_WPF_bazowy!L17","v":19161844},{"$f":"+Zał.1_WPF_bazowy!M17","v":19060149},{"$f":"+Zał.1_WPF_bazowy!N17","v":18966564},{"$f":"+Zał.1_WPF_bazowy!O17","v":19193510},{"$f":"+Zał.1_WPF_bazowy!P17","v":19627425},{"$f":"+Zał.1_WPF_bazowy!Q17","v":20066759},{"$f":"+Zał.1_WPF_bazowy!R17","v":20518971},{"$f":"+Zał.1_WPF_bazowy!S17","v":0},{"$f":"+Zał.1_WPF_bazowy!T17","v":0},{"$f":"+Zał.1_WPF_bazowy!U17","v":0},{"$f":"+Zał.1_WPF_bazowy!V17","v":0},{"$f":"+Zał.1_WPF_bazowy!W17","v":0},{"$f":"+Zał.1_WPF_bazowy!X17","v":0},{"$f":"+Zał.1_WPF_bazowy!Y17","v":0},{"$f":"+Zał.1_WPF_bazowy!Z17","v":0},{"$f":"+Zał.1_WPF_bazowy!AA17","v":0},{"$f":"+Zał.1_WPF_bazowy!AB17","v":0},{"$f":"+Zał.1_WPF_bazowy!AC17","v":0},{"$f":"+Zał.1_WPF_bazowy!AD17","v":0},{"$f":"+Zał.1_WPF_bazowy!AE17","v":0},{"$f":"+Zał.1_WPF_bazowy!AF17","v":0},{"$f":"+Zał.1_WPF_bazowy!AG17","v":0},{"$f":"+Zał.1_WPF_bazowy!AH17","v":0},{"$f":"+Zał.1_WPF_bazowy!AI17","v":0},{"$f":"+Zał.1_WPF_bazowy!AJ17","v":0},{"$f":"+Zał.1_WPF_bazowy!AK17","v":0},{"$f":"+Zał.1_WPF_bazowy!AL17","v":0}]
["x","2.1.1",null,"z tytułu poręczeń i gwarancji",{"$f":"Zał.1_WPF_bazowy!E18","v":0},{"$f":"Zał.1_WPF_bazowy!F18","v":0},{"$f":"Zał.1_WPF_bazowy!G18","v":0},{"$f":"Zał.1_WPF_bazowy!H18","v":0},{"$f":"+Zał.1_WPF_bazowy!I18","v":0},{"$f":"+Zał.1_WPF_bazowy!J18","v":0},{"$f":"+Zał.1_WPF_bazowy!K18","v":0},{"$f":"+Zał.1_WPF_bazowy!L18","v":0},{"$f":"+Zał.1_WPF_bazowy!M18","v":0},{"$f":"+Zał.1_WPF_bazowy!N18","v":0},{"$f":"+Zał.1_WPF_bazowy!O18","v":0},{"$f":"+Zał.1_WPF_bazowy!P18","v":0},{"$f":"+Zał.1_WPF_bazowy!Q18","v":0},{"$f":"+Zał.1_WPF_bazowy!R18","v":0},{"$f":"+Zał.1_WPF_bazowy!S18","v":0},{"$f":"+Zał.1_WPF_bazowy!T18","v":0},{"$f":"+Zał.1_WPF_bazowy!U18","v":0},{"$f":"+Zał.1_WPF_bazowy!V18","v":0},{"$f":"+Zał.1_WPF_bazowy!W18","v":0},{"$f":"+Zał.1_WPF_bazowy!X18","v":0},{"$f":"+Zał.1_WPF_bazowy!Y18","v":0},{"$f":"+Zał.1_WPF_bazowy!Z18","v":0},{"$f":"+Zał.1_WPF_bazowy!AA18","v":0},{"$f":"+Zał.1_WPF_bazowy!AB18","v":0},{"$f":"+Zał.1_WPF_bazowy!AC18","v":0},{"$f":"+Zał.1_WPF_bazowy!AD18","v":0},{"$f":"+Zał.1_WPF_bazowy!AE18","v":0},{"$f":"+Zał.1_WPF_bazowy!AF18","v":0},{"$f":"+Zał.1_WPF_bazowy!AG18","v":0},{"$f":"+Zał.1_WPF_bazowy!AH18","v":0},{"$f":"+Zał.1_WPF_bazowy!AI18","v":0},{"$f":"+Zał.1_WPF_bazowy!AJ18","v":0},{"$f":"+Zał.1_WPF_bazowy!AK18","v":0},{"$f":"+Zał.1_WPF_bazowy!AL18","v":0}]
["x","2.1.1.1",null,"w tym: gwarancje i poręczenia podlegające wyłączeniu z limitu spłaty zobowiązań, o którym mowa w art. 243 ustawy",{"$f":"Zał.1_WPF_bazowy!E19","v":0},{"$f":"Zał.1_WPF_bazowy!F19","v":0},{"$f":"Zał.1_WPF_bazowy!G19","v":0},{"$f":"Zał.1_WPF_bazowy!H19","v":0},{"$f":"+Zał.1_WPF_bazowy!I19","v":0},{"$f":"+Zał.1_WPF_bazowy!J19","v":0},{"$f":"+Zał.1_WPF_bazowy!K19","v":0},{"$f":"+Zał.1_WPF_bazowy!L19","v":0},{"$f":"+Zał.1_WPF_bazowy!M19","v":0},{"$f":"+Zał.1_WPF_bazowy!N19","v":0},{"$f":"+Zał.1_WPF_bazowy!O19","v":0},{"$f":"+Zał.1_WPF_bazowy!P19","v":0},{"$f":"+Zał.1_WPF_bazowy!Q19","v":0},{"$f":"+Zał.1_WPF_bazowy!R19","v":0},{"$f":"+Zał.1_WPF_bazowy!S19","v":0},{"$f":"+Zał.1_WPF_bazowy!T19","v":0},{"$f":"+Zał.1_WPF_bazowy!U19","v":0},{"$f":"+Zał.1_WPF_bazowy!V19","v":0},{"$f":"+Zał.1_WPF_bazowy!W19","v":0},{"$f":"+Zał.1_WPF_bazowy!X19","v":0},{"$f":"+Zał.1_WPF_bazowy!Y19","v":0},{"$f":"+Zał.1_WPF_bazowy!Z19","v":0},{"$f":"+Zał.1_WPF_bazowy!AA19","v":0},{"$f":"+Zał.1_WPF_bazowy!AB19","v":0},{"$f":"+Zał.1_WPF_bazowy!AC19","v":0},{"$f":"+Zał.1_WPF_bazowy!AD19","v":0},{"$f":"+Zał.1_WPF_bazowy!AE19","v":0},{"$f":"+Zał.1_WPF_bazowy!AF19","v":0},{"$f":"+Zał.1_WPF_bazowy!AG19","v":0},{"$f":"+Zał.1_WPF_bazowy!AH19","v":0},{"$f":"+Zał.1_WPF_bazowy!AI19","v":0},{"$f":"+Zał.1_WPF_bazowy!AJ19","v":0},{"$f":"+Zał.1_WPF_bazowy!AK19","v":0},{"$f":"+Zał.1_WPF_bazowy!AL19","v":0}]
[null,"2.1.2",null,"na spłatę przejętych zobowiązań samodzielnego publicznego zakładu opieki zdrowotnej przekształconego na zasadach określonych w przepisach  o działalności leczniczej, w wysokości w jakiej nie podlegają sfinansowaniu dotacją z budżetu państwa",{"$f":"+Zał.1_WPF_bazowy!E20","v":0},{"$f":"+Zał.1_WPF_bazowy!F20","v":0},{"$f":"+Zał.1_WPF_bazowy!G20","v":0},{"$f":"+Zał.1_WPF_bazowy!H20","v":0},{"$f":"+Zał.1_WPF_bazowy!I20","v":0},{"$f":"+Zał.1_WPF_bazowy!J20","v":0},{"$f":"+Zał.1_WPF_bazowy!K20","v":0},{"$f":"+Zał.1_WPF_bazowy!L20","v":0},{"$f":"+Zał.1_WPF_bazowy!M20","v":0},{"$f":"+Zał.1_WPF_bazowy!N20","v":0},{"$f":"+Zał.1_WPF_bazowy!O20","v":0},{"$f":"+Zał.1_WPF_bazowy!P20","v":0},{"$f":"+Zał.1_WPF_bazowy!Q20","v":0},{"$f":"+Zał.1_WPF_bazowy!R20","v":0},{"$f":"+Zał.1_WPF_bazowy!S20","v":0},{"$f":"+Zał.1_WPF_bazowy!T20","v":0},{"$f":"+Zał.1_WPF_bazowy!U20","v":0},{"$f":"+Zał.1_WPF_bazowy!V20","v":0},{"$f":"+Zał.1_WPF_bazowy!W20","v":0},{"$f":"+Zał.1_WPF_bazowy!X20","v":0},{"$f":"+Zał.1_WPF_bazowy!Y20","v":0},{"$f":"+Zał.1_WPF_bazowy!Z20","v":0},{"$f":"+Zał.1_WPF_bazowy!AA20","v":0},{"$f":"+Zał.1_WPF_bazowy!AB20","v":0},{"$f":"+Zał.1_WPF_bazowy!AC20","v":0},{"$f":"+Zał.1_WPF_bazowy!AD20","v":0},{"$f":"+Zał.1_WPF_bazowy!AE20","v":0},{"$f":"+Zał.1_WPF_bazowy!AF20","v":0},{"$f":"+Zał.1_WPF_bazowy!AG20","v":0},{"$f":"+Zał.1_WPF_bazowy!AH20","v":0},{"$f":"+Zał.1_WPF_bazowy!AI20","v":0},{"$f":"+Zał.1_WPF_bazowy!AJ20","v":0},{"$f":"+Zał.1_WPF_bazowy!AK20","v":0},{"$f":"+Zał.1_WPF_bazowy!AL20","v":0}]
["x","2.1.3",null,"wydatki na obsługę długu, w tym:",{"$f":"Zał.1_WPF_bazowy!E21","v":572021.53},{"$f":"Zał.1_WPF_bazowy!F21","v":430171.93},{"$f":"Zał.1_WPF_bazowy!G21","v":360000},{"$f":"Zał.1_WPF_bazowy!H21","v":352254.63},{"$f":"+Zał.1_WPF_bazowy!I21","v":340000},{"$f":"+Zał.1_WPF_bazowy!J21","v":340000},{"$f":"+Zał.1_WPF_bazowy!K21","v":320000},{"$f":"+Zał.1_WPF_bazowy!L21","v":300000},{"$f":"+Zał.1_WPF_bazowy!M21","v":260000},{"$f":"+Zał.1_WPF_bazowy!N21","v":215000},{"$f":"+Zał.1_WPF_bazowy!O21","v":175000},{"$f":"+Zał.1_WPF_bazowy!P21","v":130000},{"$f":"+Zał.1_WPF_bazowy!Q21","v":79000},{"$f":"+Zał.1_WPF_bazowy!R21","v":26000},{"$f":"+Zał.1_WPF_bazowy!S21","v":0},{"$f":"+Zał.1_WPF_bazowy!T21","v":0},{"$f":"+Zał.1_WPF_bazowy!U21","v":0},{"$f":"+Zał.1_WPF_bazowy!V21","v":0},{"$f":"+Zał.1_WPF_bazowy!W21","v":0},{"$f":"+Zał.1_WPF_bazowy!X21","v":0},{"$f":"+Zał.1_WPF_bazowy!Y21","v":0},{"$f":"+Zał.1_WPF_bazowy!Z21","v":0},{"$f":"+Zał.1_WPF_bazowy!AA21","v":0},{"$f":"+Zał.1_WPF_bazowy!AB21","v":0},{"$f":"+Zał.1_WPF_bazowy!AC21","v":0},{"$f":"+Zał.1_WPF_bazowy!AD21","v":0},{"$f":"+Zał.1_WPF_bazowy!AE21","v":0},{"$f":"+Zał.1_WPF_bazowy!AF21","v":0},{"$f":"+Zał.1_WPF_bazowy!AG21","v":0},{"$f":"+Zał.1_WPF_bazowy!AH21","v":0},{"$f":"+Zał.1_WPF_bazowy!AI21","v":0},{"$f":"+Zał.1_WPF_bazowy!AJ21","v":0},{"$f":"+Zał.1_WPF_bazowy!AK21","v":0},{"$f":"+Zał.1_WPF_bazowy!AL21","v":0}]
["x","2.1.3.1",null,"odsetki i dyskonto określone w art. 243 ust. 1 ustawy, w tym:",{"$f":"Zał.1_WPF_bazowy!E22","v":567021.53},{"$f":"Zał.1_WPF_bazowy!F22","v":430171.93},{"$f":"Zał.1_WPF_bazowy!G22","v":360000},{"$f":"Zał.1_WPF_bazowy!H22","v":352254.63},{"$f":"+Zał.1_WPF_bazowy!I22","v":340000},{"$f":"+Zał.1_WPF_bazowy!J22","v":340000},{"$f":"+Zał.1_WPF_bazowy!K22","v":320000},{"$f":"+Zał.1_WPF_bazowy!L22","v":300000},{"$f":"+Zał.1_WPF_bazowy!M22","v":260000},{"$f":"+Zał.1_WPF_bazowy!N22","v":215000},{"$f":"+Zał.1_WPF_bazowy!O22","v":175000},{"$f":"+Zał.1_WPF_bazowy!P22","v":130000},{"$f":"+Zał.1_WPF_bazowy!Q22","v":79000},{"$f":"+Zał.1_WPF_bazowy!R22","v":26000},{"$f":"+Zał.1_WPF_bazowy!S22","v":0},{"$f":"+Zał.1_WPF_bazowy!T22","v":0},{"$f":"+Zał.1_WPF_bazowy!U22","v":0},{"$f":"+Zał.1_WPF_bazowy!V22","v":0},{"$f":"+Zał.1_WPF_bazowy!W22","v":0},{"$f":"+Zał.1_WPF_bazowy!X22","v":0},{"$f":"+Zał.1_WPF_bazowy!Y22","v":0},{"$f":"+Zał.1_WPF_bazowy!Z22","v":0},{"$f":"+Zał.1_WPF_bazowy!AA22","v":0},{"$f":"+Zał.1_WPF_bazowy!AB22","v":0},{"$f":"+Zał.1_WPF_bazowy!AC22","v":0},{"$f":"+Zał.1_WPF_bazowy!AD22","v":0},{"$f":"+Zał.1_WPF_bazowy!AE22","v":0},{"$f":"+Zał.1_WPF_bazowy!AF22","v":0},{"$f":"+Zał.1_WPF_bazowy!AG22","v":0},{"$f":"+Zał.1_WPF_bazowy!AH22","v":0},{"$f":"+Zał.1_WPF_bazowy!AI22","v":0},{"$f":"+Zał.1_WPF_bazowy!AJ22","v":0},{"$f":"+Zał.1_WPF_bazowy!AK22","v":0},{"$f":"+Zał.1_WPF_bazowy!AL22","v":0}]
["x","2.1.3.1.1",null,"odsetki i dyskonto podlegające wyłączeniu z limitu spłaty zobowiązań, o którym mowa w art. 243 ustawy, w terminie nie dłuższym niż 90 dni po zakończeniu programu, projektu lub zadania i otrzymaniu refundacji z tych środków (bez odsetek i dyskonta od zobowiązań na wkład krajowy)",{"$f":"Zał.1_WPF_bazowy!E23","v":0},{"$f":"Zał.1_WPF_bazowy!F23","v":40000},{"$f":"Zał.1_WPF_bazowy!G23","v":0},{"$f":"Zał.1_WPF_bazowy!H23","v":0},{"$f":"+Zał.1_WPF_bazowy!I23","v":0},{"$f":"+Zał.1_WPF_bazowy!J23","v":0},{"$f":"+Zał.1_WPF_bazowy!K23","v":0},{"$f":"+Zał.1_WPF_bazowy!L23","v":0},{"$f":"+Zał.1_WPF_bazowy!M23","v":0},{"$f":"+Zał.1_WPF_bazowy!N23","v":0},{"$f":"+Zał.1_WPF_bazowy!O23","v":0},{"$f":"+Zał.1_WPF_bazowy!P23","v":0},{"$f":"+Zał.1_WPF_bazowy!Q23","v":0},{"$f":"+Zał.1_WPF_bazowy!R23","v":0},{"$f":"+Zał.1_WPF_bazowy!S23","v":0},{"$f":"+Zał.1_WPF_bazowy!T23","v":0},{"$f":"+Zał.1_WPF_bazowy!U23","v":0},{"$f":"+Zał.1_WPF_bazowy!V23","v":0},{"$f":"+Zał.1_WPF_bazowy!W23","v":0},{"$f":"+Zał.1_WPF_bazowy!X23","v":0},{"$f":"+Zał.1_WPF_bazowy!Y23","v":0},{"$f":"+Zał.1_WPF_bazowy!Z23","v":0},{"$f":"+Zał.1_WPF_bazowy!AA23","v":0},{"$f":"+Zał.1_WPF_bazowy!AB23","v":0},{"$f":"+Zał.1_WPF_bazowy!AC23","v":0},{"$f":"+Zał.1_WPF_bazowy!AD23","v":0},{"$f":"+Zał.1_WPF_bazowy!AE23","v":0},{"$f":"+Zał.1_WPF_bazowy!AF23","v":0},{"$f":"+Zał.1_WPF_bazowy!AG23","v":0},{"$f":"+Zał.1_WPF_bazowy!AH23","v":0},{"$f":"+Zał.1_WPF_bazowy!AI23","v":0},{"$f":"+Zał.1_WPF_bazowy!AJ23","v":0},{"$f":"+Zał.1_WPF_bazowy!AK23","v":0},{"$f":"+Zał.1_WPF_bazowy!AL23","v":0}]
["x","2.1.3.1.2",null,"odsetki i dyskonto podlegające wyłączeniu z limitu spłaty zobowiązań, o którym mowa w art. 243 ustawy, z tytułu zobowiązań  zaciągniętych na wkład krajowy",{"$f":"Zał.1_WPF_bazowy!E24","v":0},{"$f":"Zał.1_WPF_bazowy!F24","v":130000},{"$f":"Zał.1_WPF_bazowy!G24","v":0},{"$f":"Zał.1_WPF_bazowy!H24","v":107230.61},{"$f":"+Zał.1_WPF_bazowy!I24","v":105951.71},{"$f":"+Zał.1_WPF_bazowy!J24","v":93200},{"$f":"+Zał.1_WPF_bazowy!K24","v":74000},{"$f":"+Zał.1_WPF_bazowy!L24","v":63000},{"$f":"+Zał.1_WPF_bazowy!M24","v":44000},{"$f":"+Zał.1_WPF_bazowy!N24","v":24000},{"$f":"+Zał.1_WPF_bazowy!O24","v":20000},{"$f":"+Zał.1_WPF_bazowy!P24","v":14000},{"$f":"+Zał.1_WPF_bazowy!Q24","v":13000},{"$f":"+Zał.1_WPF_bazowy!R24","v":13000},{"$f":"+Zał.1_WPF_bazowy!S24","v":0},{"$f":"+Zał.1_WPF_bazowy!T24","v":0},{"$f":"+Zał.1_WPF_bazowy!U24","v":0},{"$f":"+Zał.1_WPF_bazowy!V24","v":0},{"$f":"+Zał.1_WPF_bazowy!W24","v":0},{"$f":"+Zał.1_WPF_bazowy!X24","v":0},{"$f":"+Zał.1_WPF_bazowy!Y24","v":0},{"$f":"+Zał.1_WPF_bazowy!Z24","v":0},{"$f":"+Zał.1_WPF_bazowy!AA24","v":0},{"$f":"+Zał.1_WPF_bazowy!AB24","v":0},{"$f":"+Zał.1_WPF_bazowy!AC24","v":0},{"$f":"+Zał.1_WPF_bazowy!AD24","v":0},{"$f":"+Zał.1_WPF_bazowy!AE24","v":0},{"$f":"+Zał.1_WPF_bazowy!AF24","v":0},{"$f":"+Zał.1_WPF_bazowy!AG24","v":0},{"$f":"+Zał.1_WPF_bazowy!AH24","v":0},{"$f":"+Zał.1_WPF_bazowy!AI24","v":0},{"$f":"+Zał.1_WPF_bazowy!AJ24","v":0},{"$f":"+Zał.1_WPF_bazowy!AK24","v":0},{"$f":"+Zał.1_WPF_bazowy!AL24","v":0}]
["x","2.2",null,"Wydatki majątkowe",{"$f":"Zał.1_WPF_bazowy!E25","v":1692885.5},{"$f":"Zał.1_WPF_bazowy!F25","v":744838.94},{"$f":"Zał.1_WPF_bazowy!G25","v":1037376.42},{"$f":"Zał.1_WPF_bazowy!H25","v":577107.73},{"$f":"+Zał.1_WPF_bazowy!I25","v":1908151},{"$f":"+Zał.1_WPF_bazowy!J25","v":2161000},{"$f":"+Zał.1_WPF_bazowy!K25","v":1004150},{"$f":"+Zał.1_WPF_bazowy!L25","v":406904},{"$f":"+Zał.1_WPF_bazowy!M25","v":347662},{"$f":"+Zał.1_WPF_bazowy!N25","v":496481},{"$f":"+Zał.1_WPF_bazowy!O25","v":611426},{"$f":"+Zał.1_WPF_bazowy!P25","v":386559},{"$f":"+Zał.1_WPF_bazowy!Q25","v":315945},{"$f":"+Zał.1_WPF_bazowy!R25","v":1293654},{"$f":"+Zał.1_WPF_bazowy!S25","v":0},{"$f":"+Zał.1_WPF_bazowy!T25","v":0},{"$f":"+Zał.1_WPF_bazowy!U25","v":0},{"$f":"+Zał.1_WPF_bazowy!V25","v":0},{"$f":"+Zał.1_WPF_bazowy!W25","v":0},{"$f":"+Zał.1_WPF_bazowy!X25","v":0},{"$f":"+Zał.1_WPF_bazowy!Y25","v":0},{"$f":"+Zał.1_WPF_bazowy!Z25","v":0},{"$f":"+Zał.1_WPF_bazowy!AA25","v":0},{"$f":"+Zał.1_WPF_bazowy!AB25","v":0},{"$f":"+Zał.1_WPF_bazowy!AC25","v":0},{"$f":"+Zał.1_WPF_bazowy!AD25","v":0},{"$f":"+Zał.1_WPF_bazowy!AE25","v":0},{"$f":"+Zał.1_WPF_bazowy!AF25","v":0},{"$f":"+Zał.1_WPF_bazowy!AG25","v":0},{"$f":"+Zał.1_WPF_bazowy!AH25","v":0},{"$f":"+Zał.1_WPF_bazowy!AI25","v":0},{"$f":"+Zał.1_WPF_bazowy!AJ25","v":0},{"$f":"+Zał.1_WPF_bazowy!AK25","v":0},{"$f":"+Zał.1_WPF_bazowy!AL25","v":0}]
["x",3,"[1] -[2]","Wynik budżetu",{"$f":"Zał.1_WPF_bazowy!E26","v":95761.77},{"$f":"Zał.1_WPF_bazowy!F26","v":206726.39999999999},{"$f":"Zał.1_WPF_bazowy!G26","v":32000},{"$f":"+H10-H21","v":216899.94999999925},{"$f":"+I10-I21","v":400000},{"$f":"+J10-J21","v":600000},600000,1200000,1300000,1200000,1330000,1510000,1548000,743000,0,0,0,0,0,0,0,0,0,0,0,0,0,0,0,0,0,0,0,0]
["x",4,"[4.1] + [4.2] + [4.3] + [4.4]","Przychody budżetu",{"$f":"Zał.1_WPF_bazowy!E27","v":3413397.21},{"$f":"Zał.1_WPF_bazowy!F27","v":1405350.74},{"$f":"Zał.1_WPF_bazowy!G27","v":68000},{"$f":"+H33+H35+H37+H39","v":555077.14},{"$f":"+I33+I35+I37+I39","v":0},{"$f":"+J33+J35+J37+J39","v":0},0,0,0,0,0,0,0,0,0,0,0,0,0,0,0,0,0,0,0,0,0,0,0,0,0,0,0,0]
["x","4.1",null,"Nadwyżka budżetowa z lat ubiegłych",{"$f":"Zał.1_WPF_bazowy!E28","v":0},{"$f":"Zał.1_WPF_bazowy!F28","v":0},{"$f":"Zał.1_WPF_bazowy!G28","v":0},{"$f":"Zał.1_WPF_bazowy!H28","v":0},{"$f":"+Zał.1_WPF_bazowy!I28","v":0},{"$f":"+Zał.1_WPF_bazowy!J28","v":0},{"$f":"+Zał.1_WPF_bazowy!K28","v":0},{"$f":"+Zał.1_WPF_bazowy!L28","v":0},{"$f":"+Zał.1_WPF_bazowy!M28","v":0},{"$f":"+Zał.1_WPF_bazowy!N28","v":0},{"$f":"+Zał.1_WPF_bazowy!O28","v":0},{"$f":"+Zał.1_WPF_bazowy!P28","v":0},{"$f":"+Zał.1_WPF_bazowy!Q28","v":0},{"$f":"+Zał.1_WPF_bazowy!R28","v":0},{"$f":"+Zał.1_WPF_bazowy!S28","v":0},{"$f":"+Zał.1_WPF_bazowy!T28","v":0},{"$f":"+Zał.1_WPF_bazowy!U28","v":0},{"$f":"+Zał.1_WPF_bazowy!V28","v":0},{"$f":"+Zał.1_WPF_bazowy!W28","v":0},{"$f":"+Zał.1_WPF_bazowy!X28","v":0},{"$f":"+Zał.1_WPF_bazowy!Y28","v":0},{"$f":"+Zał.1_WPF_bazowy!Z28","v":0},{"$f":"+Zał.1_WPF_bazowy!AA28","v":0},{"$f":"+Zał.1_WPF_bazowy!AB28","v":0},{"$f":"+Zał.1_WPF_bazowy!AC28","v":0},{"$f":"+Zał.1_WPF_bazowy!AD28","v":0},{"$f":"+Zał.1_WPF_bazowy!AE28","v":0},{"$f":"+Zał.1_WPF_bazowy!AF28","v":0},{"$f":"+Zał.1_WPF_bazowy!AG28","v":0},{"$f":"+Zał.1_WPF_bazowy!AH28","v":0},{"$f":"+Zał.1_WPF_bazowy!AI28","v":0},{"$f":"+Zał.1_WPF_bazowy!AJ28","v":0},{"$f":"+Zał.1_WPF_bazowy!AK28","v":0},{"$f":"+Zał.1_WPF_bazowy!AL28","v":0}]
["x","4.1.1",null,"w tym na pokrycie deficytu budżetu",{"$f":"Zał.1_WPF_bazowy!E29","v":0},{"$f":"Zał.1_WPF_bazowy!F29","v":0},{"$f":"Zał.1_WPF_bazowy!G29","v":0},{"$f":"Zał.1_WPF_bazowy!H29","v":0},{"$f":"+Zał.1_WPF_bazowy!I29","v":0},{"$f":"+Zał.1_WPF_bazowy!J29","v":0},{"$f":"+Zał.1_WPF_bazowy!K29","v":0},{"$f":"+Zał.1_WPF_bazowy!L29","v":0},{"$f":"+Zał.1_WPF_bazowy!M29","v":0},{"$f":"+Zał.1_WPF_bazowy!N29","v":0},{"$f":"+Zał.1_WPF_bazowy!O29","v":0},{"$f":"+Zał.1_WPF_bazowy!P29","v":0},{"$f":"+Zał.1_WPF_bazowy!Q29","v":0},{"$f":"+Zał.1_WPF_bazowy!R29","v":0},{"$f":"+Zał.1_WPF_bazowy!S29","v":0},{"$f":"+Zał.1_WPF_bazowy!T29","v":0},{"$f":"+Zał.1_WPF_bazowy!U29","v":0},{"$f":"+Zał.1_WPF_bazowy!V29","v":0},{"$f":"+Zał.1_WPF_bazowy!W29","v":0},{"$f":"+Zał.1_WPF_bazowy!X29","v":0},{"$f":"+Zał.1_WPF_bazowy!Y29","v":0},{"$f":"+Zał.1_WPF_bazowy!Z29","v":0},{"$f":"+Zał.1_WPF_bazowy!AA29","v":0},{"$f":"+Zał.1_WPF_bazowy!AB29","v":0},{"$f":"+Zał.1_WPF_bazowy!AC29","v":0},{"$f":"+Zał.1_WPF_bazowy!AD29","v":0},{"$f":"+Zał.1_WPF_bazowy!AE29","v":0},{"$f":"+Zał.1_WPF_bazowy!AF29","v":0},{"$f":"+Zał.1_WPF_bazowy!AG29","v":0},{"$f":"+Zał.1_WPF_bazowy!AH29","v":0},{"$f":"+Zał.1_WPF_bazowy!AI29","v":0},{"$f":"+Zał.1_WPF_bazowy!AJ29","v":0},{"$f":"+Zał.1_WPF_bazowy!AK29","v":0},{"$f":"+Zał.1_WPF_bazowy!AL29","v":0}]
["x","4.2",null,"Wolne środki, o których mowa w art. 217 ust.2 pkt 6 ustawy",{"$f":"Zał.1_WPF_bazowy!E30","v":2113397.21},{"$f":"Zał.1_WPF_bazowy!F30","v":1405350.74},{"$f":"Zał.1_WPF_bazowy!G30","v":68000},{"$f":"Zał.1_WPF_bazowy!H30","v":555077.14},{"$f":"+Zał.1_WPF_bazowy!I30","v":0},{"$f":"+Zał.1_WPF_bazowy!J30","v":0},{"$f":"+Zał.1_WPF_bazowy!K30","v":0},{"$f":"+Zał.1_WPF_bazowy!L30","v":0},{"$f":"+Zał.1_WPF_bazowy!M30","v":0},{"$f":"+Zał.1_WPF_bazowy!N30","v":0},{"$f":"+Zał.1_WPF_bazowy!O30","v":0},{"$f":"+Zał.1_WPF_bazowy!P30","v":0},{"$f":"+Zał.1_WPF_bazowy!Q30","v":0},{"$f":"+Zał.1_WPF_bazowy!R30","v":0},{"$f":"+Zał.1_WPF_bazowy!S30","v":0},{"$f":"+Zał.1_WPF_bazowy!T30","v":0},{"$f":"+Zał.1_WPF_bazowy!U30","v":0},{"$f":"+Zał.1_WPF_bazowy!V30","v":0},{"$f":"+Zał.1_WPF_bazowy!W30","v":0},{"$f":"+Zał.1_WPF_bazowy!X30","v":0},{"$f":"+Zał.1_WPF_bazowy!Y30","v":0},{"$f":"+Zał.1_WPF_bazowy!Z30","v":0},{"$f":"+Zał.1_WPF_bazowy!AA30","v":0},{"$f":"+Zał.1_WPF_bazowy!AB30","v":0},{"$f":"+Zał.1_WPF_bazowy!AC30","v":0},{"$f":"+Zał.1_WPF_bazowy!AD30","v":0},{"$f":"+Zał.1_WPF_bazowy!AE30","v":0},{"$f":"+Zał.1_WPF_bazowy!AF30","v":0},{"$f":"+Zał.1_WPF_bazowy!AG30","v":0},{"$f":"+Zał.1_WPF_bazowy!AH30","v":0},{"$f":"+Zał.1_WPF_bazowy!AI30","v":0},{"$f":"+Zał.1_WPF_bazowy!AJ30","v":0},{"$f":"+Zał.1_WPF_bazowy!AK30","v":0},{"$f":"+Zał.1_WPF_bazowy!AL30","v":0}]
["x","4.2.1",null,"w tym na pokrycie deficytu budżetu",{"$f":"Zał.1_WPF_bazowy!E31","v":0},{"$f":"Zał.1_WPF_bazowy!F31","v":0},{"$f":"Zał.1_WPF_bazowy!G31","v":0},{"$f":"Zał.1_WPF_bazowy!H31","v":0},{"$f":"+Zał.1_WPF_bazowy!I31","v":0},{"$f":"+Zał.1_WPF_bazowy!J31","v":0},{"$f":"+Zał.1_WPF_bazowy!K31","v":0},{"$f":"+Zał.1_WPF_bazowy!L31","v":0},{"$f":"+Zał.1_WPF_bazowy!M31","v":0},{"$f":"+Zał.1_WPF_bazowy!N31","v":0},{"$f":"+Zał.1_WPF_bazowy!O31","v":0},{"$f":"+Zał.1_WPF_bazowy!P31","v":0},{"$f":"+Zał.1_WPF_bazowy!Q31","v":0},{"$f":"+Zał.1_WPF_bazowy!R31","v":0},{"$f":"+Zał.1_WPF_bazowy!S31","v":0},{"$f":"+Zał.1_WPF_bazowy!T31","v":0},{"$f":"+Zał.1_WPF_bazowy!U31","v":0},{"$f":"+Zał.1_WPF_bazowy!V31","v":0},{"$f":"+Zał.1_WPF_bazowy!W31","v":0},{"$f":"+Zał.1_WPF_bazowy!X31","v":0},{"$f":"+Zał.1_WPF_bazowy!Y31","v":0},{"$f":"+Zał.1_WPF_bazowy!Z31","v":0},{"$f":"+Zał.1_WPF_bazowy!AA31","v":0},{"$f":"+Zał.1_WPF_bazowy!AB31","v":0},{"$f":"+Zał.1_WPF_bazowy!AC31","v":0},{"$f":"+Zał.1_WPF_bazowy!AD31","v":0},{"$f":"+Zał.1_WPF_bazowy!AE31","v":0},{"$f":"+Zał.1_WPF_bazowy!AF31","v":0},{"$f":"+Zał.1_WPF_bazowy!AG31","v":0},{"$f":"+Zał.1_WPF_bazowy!AH31","v":0},{"$f":"+Zał.1_WPF_bazowy!AI31","v":0},{"$f":"+Zał.1_WPF_bazowy!AJ31","v":0},{"$f":"+Zał.1_WPF_bazowy!AK31","v":0},{"$f":"+Zał.1_WPF_bazowy!AL31","v":0}]
["x","4.3",null,"Kredyty, pożyczki, emisja papierów wartościowych",{"$f":"Zał.1_WPF_bazowy!E32","v":1300000},{"$f":"Zał.1_WPF_bazowy!F32","v":0},{"$f":"Zał.1_WPF_bazowy!G32","v":0},{"$f":"Zał.1_WPF_bazowy!H32","v":0},{"$f":"+Zał.1_WPF_bazowy!I32","v":0},{"$f":"+Zał.1_WPF_bazowy!J32","v":0},{"$f":"+Zał.1_WPF_bazowy!K32","v":0},{"$f":"+Zał.1_WPF_bazowy!L32","v":0},{"$f":"+Zał.1_WPF_bazowy!M32","v":0},{"$f":"+Zał.1_WPF_bazowy!N32","v":0},{"$f":"+Zał.1_WPF_bazowy!O32","v":0},{"$f":"+Zał.1_WPF_bazowy!P32","v":0},{"$f":"+Zał.1_WPF_bazowy!Q32","v":0},{"$f":"+Zał.1_WPF_bazowy!R32","v":0},{"$f":"+Zał.1_WPF_bazowy!S32","v":0},{"$f":"+Zał.1_WPF_bazowy!T32","v":0},{"$f":"+Zał.1_WPF_bazowy!U32","v":0},{"$f":"+Zał.1_WPF_bazowy!V32","v":0},{"$f":"+Zał.1_WPF_bazowy!W32","v":0},{"$f":"+Zał.1_WPF_bazowy!X32","v":0},{"$f":"+Zał.1_WPF_bazowy!Y32","v":0},{"$f":"+Zał.1_WPF_bazowy!Z32","v":0},{"$f":"+Zał.1_WPF_bazowy!AA32","v":0},{"$f":"+Zał.1_WPF_bazowy!AB32","v":0},{"$f":"+Zał.1_WPF_bazowy!AC32","v":0},{"$f":"+Zał.1_WPF_bazowy!AD32","v":0},{"$f":"+Zał.1_WPF_bazowy!AE32","v":0},{"$f":"+Zał.1_WPF_bazowy!AF32","v":0},{"$f":"+Zał.1_WPF_bazowy!AG32","v":0},{"$f":"+Zał.1_WPF_bazowy!AH32","v":0},{"$f":"+Zał.1_WPF_bazowy!AI32","v":0},{"$f":"+Zał.1_WPF_bazowy!AJ32","v":0},{"$f":"+Zał.1_WPF_bazowy!AK32","v":0},{"$f":"+Zał.1_WPF_bazowy!AL32","v":0}]
["x","4.3.1",null,"w tym na pokrycie deficytu budżetu",{"$f":"Zał.1_WPF_bazowy!E33","v":0},{"$f":"Zał.1_WPF_bazowy!F33","v":0},{"$f":"Zał.1_WPF_bazowy!G33","v":0},{"$f":"Zał.1_WPF_bazowy!H33","v":0},{"$f":"+Zał.1_WPF_bazowy!I33","v":0},{"$f":"+Zał.1_WPF_bazowy!J33","v":0},{"$f":"+Zał.1_WPF_bazowy!K33","v":0},{"$f":"+Zał.1_WPF_bazowy!L33","v":0},{"$f":"+Zał.1_WPF_bazowy!M33","v":0},{"$f":"+Zał.1_WPF_bazowy!N33","v":0},{"$f":"+Zał.1_WPF_bazowy!O33","v":0},{"$f":"+Zał.1_WPF_bazowy!P33","v":0},{"$f":"+Zał.1_WPF_bazowy!Q33","v":0},{"$f":"+Zał.1_WPF_bazowy!R33","v":0},{"$f":"+Zał.1_WPF_bazowy!S33","v":0},{"$f":"+Zał.1_WPF_bazowy!T33","v":0},{"$f":"+Zał.1_WPF_bazowy!U33","v":0},{"$f":"+Zał.1_WPF_bazowy!V33","v":0},{"$f":"+Zał.1_WPF_bazowy!W33","v":0},{"$f":"+Zał.1_WPF_bazowy!X33","v":0},{"$f":"+Zał.1_WPF_bazowy!Y33","v":0},{"$f":"+Zał.1_WPF_bazowy!Z33","v":0},{"$f":"+Zał.1_WPF_bazowy!AA33","v":0},{"$f":"+Zał.1_WPF_bazowy!AB33","v":0},{"$f":"+Zał.1_WPF_bazowy!AC33","v":0},{"$f":"+Zał.1_WPF_bazowy!AD33","v":0},{"$f":"+Zał.1_WPF_bazowy!AE33","v":0},{"$f":"+Zał.1_WPF_bazowy!AF33","v":0},{"$f":"+Zał.1_WPF_bazowy!AG33","v":0},{"$f":"+Zał.1_WPF_bazowy!AH33","v":0},{"$f":"+Zał.1_WPF_bazowy!AI33","v":0},{"$f":"+Zał.1_WPF_bazowy!AJ33","v":0},{"$f":"+Zał.1_WPF_bazowy!AK33","v":0},{"$f":"+Zał.1_WPF_bazowy!AL33","v":0}]
["x","4.4",null," Inne przychody niezwiązane z zaciągnięciem długu",{"$f":"Zał.1_WPF_bazowy!E34","v":0},{"$f":"Zał.1_WPF_bazowy!F34","v":0},{"$f":"Zał.1_WPF_bazowy!G34","v":0},{"$f":"Zał.1_WPF_bazowy!H34","v":0},{"$f":"+Zał.1_WPF_bazowy!I34","v":0},{"$f":"+Zał.1_WPF_bazowy!J34","v":0},{"$f":"+Zał.1_WPF_bazowy!K34","v":0},{"$f":"+Zał.1_WPF_bazowy!L34","v":0},{"$f":"+Zał.1_WPF_bazowy!M34","v":0},{"$f":"+Zał.1_WPF_bazowy!N34","v":0},{"$f":"+Zał.1_WPF_bazowy!O34","v":0},{"$f":"+Zał.1_WPF_bazowy!P34","v":0},{"$f":"+Zał.1_WPF_bazowy!Q34","v":0},{"$f":"+Zał.1_WPF_bazowy!R34","v":0},{"$f":"+Zał.1_WPF_bazowy!S34","v":0},{"$f":"+Zał.1_WPF_bazowy!T34","v":0},{"$f":"+Zał.1_WPF_bazowy!U34","v":0},{"$f":"+Zał.1_WPF_bazowy!V34","v":0},{"$f":"+Zał.1_WPF_bazowy!W34","v":0},{"$f":"+Zał.1_WPF_bazowy!X34","v":0},{"$f":"+Zał.1_WPF_bazowy!Y34","v":0},{"$f":"+Zał.1_WPF_bazowy!Z34","v":0},{"$f":"+Zał.1_WPF_bazowy!AA34","v":0},{"$f":"+Zał.1_WPF_bazowy!AB34","v":0},{"$f":"+Zał.1_WPF_bazowy!AC34","v":0},{"$f":"+Zał.1_WPF_bazowy!AD34","v":0},{"$f":"+Zał.1_WPF_bazowy!AE34","v":0},{"$f":"+Zał.1_WPF_bazowy!AF34","v":0},{"$f":"+Zał.1_WPF_bazowy!AG34","v":0},{"$f":"+Zał.1_WPF_bazowy!AH34","v":0},{"$f":"+Zał.1_WPF_bazowy!AI34","v":0},{"$f":"+Zał.1_WPF_bazowy!AJ34","v":0},{"$f":"+Zał.1_WPF_bazowy!AK34","v":0},{"$f":"+Zał.1_WPF_bazowy!AL34","v":0}]
["x","4.4.1",null,"w tym na pokrycie deficytu budżetu",{"$f":"Zał.1_WPF_bazowy!E35","v":0},{"$f":"Zał.1_WPF_bazowy!F35","v":0},{"$f":"Zał.1_WPF_bazowy!G35","v":0},{"$f":"Zał.1_WPF_bazowy!H35","v":0},{"$f":"+Zał.1_WPF_bazowy!I35","v":0},{"$f":"+Zał.1_WPF_bazowy!J35","v":0},{"$f":"+Zał.1_WPF_bazowy!K35","v":0},{"$f":"+Zał.1_WPF_bazowy!L35","v":0},{"$f":"+Zał.1_WPF_bazowy!M35","v":0},{"$f":"+Zał.1_WPF_bazowy!N35","v":0},{"$f":"+Zał.1_WPF_bazowy!O35","v":0},{"$f":"+Zał.1_WPF_bazowy!P35","v":0},{"$f":"+Zał.1_WPF_bazowy!Q35","v":0},{"$f":"+Zał.1_WPF_bazowy!R35","v":0},{"$f":"+Zał.1_WPF_bazowy!S35","v":0},{"$f":"+Zał.1_WPF_bazowy!T35","v":0},{"$f":"+Zał.1_WPF_bazowy!U35","v":0},{"$f":"+Zał.1_WPF_bazowy!V35","v":0},{"$f":"+Zał.1_WPF_bazowy!W35","v":0},{"$f":"+Zał.1_WPF_bazowy!X35","v":0},{"$f":"+Zał.1_WPF_bazowy!Y35","v":0},{"$f":"+Zał.1_WPF_bazowy!Z35","v":0},{"$f":"+Zał.1_WPF_bazowy!AA35","v":0},{"$f":"+Zał.1_WPF_bazowy!AB35","v":0},{"$f":"+Zał.1_WPF_bazowy!AC35","v":0},{"$f":"+Zał.1_WPF_bazowy!AD35","v":0},{"$f":"+Zał.1_WPF_bazowy!AE35","v":0},{"$f":"+Zał.1_WPF_bazowy!AF35","v":0},{"$f":"+Zał.1_WPF_bazowy!AG35","v":0},{"$f":"+Zał.1_WPF_bazowy!AH35","v":0},{"$f":"+Zał.1_WPF_bazowy!AI35","v":0},{"$f":"+Zał.1_WPF_bazowy!AJ35","v":0},{"$f":"+Zał.1_WPF_bazowy!AK35","v":0},{"$f":"+Zał.1_WPF_bazowy!AL35","v":0}]
["x",5,"[5.1] + [5.2]","Rozchody budżetu",{"$f":"Zał.1_WPF_bazowy!E36","v":2103808.2400000002},{"$f":"Zał.1_WPF_bazowy!F36","v":1057000},{"$f":"Zał.1_WPF_bazowy!G36","v":100000},{"$f":"+H42+H47","v":100000},400000,600000,600000,1200000,1300000,1200000,1330000,1510000,1548000,743000,0,0,0,0,0,0,0,0,0,0,0,0,0,0,0,0,0,0,0,0]
["x","5.1",null,"Spłaty rat kapitałowych kredytów i pożyczek oraz wykup papierów wartościowych",{"$f":"Zał.1_WPF_bazowy!E37","v":2103808.2400000002},{"$f":"Zał.1_WPF_bazowy!F37","v":1057000},{"$f":"Zał.1_WPF_bazowy!G37","v":100000},{"$f":"Zał.1_WPF_bazowy!H37","v":100000},{"$f":"+Zał.1_WPF_bazowy!I37","v":400000},{"$f":"+Zał.1_WPF_bazowy!J37","v":600000},{"$f":"+Zał.1_WPF_bazowy!K37","v":600000},{"$f":"+Zał.1_WPF_bazowy!L37","v":1200000},{"$f":"+Zał.1_WPF_bazowy!M37","v":1300000},{"$f":"+Zał.1_WPF_bazowy!N37","v":1200000},{"$f":"+Zał.1_WPF_bazowy!O37","v":1330000},{"$f":"+Zał.1_WPF_bazowy!P37","v":1510000},{"$f":"+Zał.1_WPF_bazowy!Q37","v":1548000},{"$f":"+Zał.1_WPF_bazowy!R37","v":743000},{"$f":"+Zał.1_WPF_bazowy!S37","v":0},{"$f":"+Zał.1_WPF_bazowy!T37","v":0},{"$f":"+Zał.1_WPF_bazowy!U37","v":0},{"$f":"+Zał.1_WPF_bazowy!V37","v":0},{"$f":"+Zał.1_WPF_bazowy!W37","v":0},{"$f":"+Zał.1_WPF_bazowy!X37","v":0},{"$f":"+Zał.1_WPF_bazowy!Y37","v":0},{"$f":"+Zał.1_WPF_bazowy!Z37","v":0},{"$f":"+Zał.1_WPF_bazowy!AA37","v":0},{"$f":"+Zał.1_WPF_bazowy!AB37","v":0},{"$f":"+Zał.1_WPF_bazowy!AC37","v":0},{"$f":"+Zał.1_WPF_bazowy!AD37","v":0},{"$f":"+Zał.1_WPF_bazowy!AE37","v":0},{"$f":"+Zał.1_WPF_bazowy!AF37","v":0},{"$f":"+Zał.1_WPF_bazowy!AG37","v":0},{"$f":"+Zał.1_WPF_bazowy!AH37","v":0},{"$f":"+Zał.1_WPF_bazowy!AI37","v":0},{"$f":"+Zał.1_WPF_bazowy!AJ37","v":0},{"$f":"+Zał.1_WPF_bazowy!AK37","v":0},{"$f":"+Zał.1_WPF_bazowy!AL37","v":0}]
["x","5.1.1","[5.1.1.1] + [5.1.1.2] + [5.1.1.3]","w tym łączna kwota przypadających na dany rok kwot ustawowych wyłączeń z limitu spłaty zobowiązań, o którym mowa w art. 243 ustawy, z tego:",{"$f":"Zał.1_WPF_bazowy!E38","v":0},{"$f":"Zał.1_WPF_bazowy!F38","v":1057000},{"$f":"Zał.1_WPF_bazowy!G38","v":100000},{"$f":"+H44+H45+H46","v":0},{"$f":"+I44+I45+I46","v":0},0,0,0,0,0,0,0,0,0,0,0,0,0,0,0,0,0,0,0,0,0,0,0,0,0,0,0,0,0]
["x","5.1.1.1",null,"kwota przypadających na dany rok kwot ustawowych wyłączeń określonych w art. 243 ust. 3 ustawy",{"$f":"Zał.1_WPF_bazowy!E39","v":0},{"$f":"Zał.1_WPF_bazowy!F39","v":1057000},{"$f":"Zał.1_WPF_bazowy!G39","v":0},{"$f":"Zał.1_WPF_bazowy!H39","v":0},{"$f":"+Zał.1_WPF_bazowy!I39","v":0},{"$f":"+Zał.1_WPF_bazowy!J39","v":0},{"$f":"+Zał.1_WPF_bazowy!K39","v":0},{"$f":"+Zał.1_WPF_bazowy!L39","v":0},{"$f":"+Zał.1_WPF_bazowy!M39","v":0},{"$f":"+Zał.1_WPF_bazowy!N39","v":0},{"$f":"+Zał.1_WPF_bazowy!O39","v":0},{"$f":"+Zał.1_WPF_bazowy!P39","v":0},{"$f":"+Zał.1_WPF_bazowy!Q39","v":0},{"$f":"+Zał.1_WPF_bazowy!R39","v":0},{"$f":"+Zał.1_WPF_bazowy!S39","v":0},{"$f":"+Zał.1_WPF_bazowy!T39","v":0},{"$f":"+Zał.1_WPF_bazowy!U39","v":0},{"$f":"+Zał.1_WPF_bazowy!V39","v":0},{"$f":"+Zał.1_WPF_bazowy!W39","v":0},{"$f":"+Zał.1_WPF_bazowy!X39","v":0},{"$f":"+Zał.1_WPF_bazowy!Y39","v":0},{"$f":"+Zał.1_WPF_bazowy!Z39","v":0},{"$f":"+Zał.1_WPF_bazowy!AA39","v":0},{"$f":"+Zał.1_WPF_bazowy!AB39","v":0},{"$f":"+Zał.1_WPF_bazowy!AC39","v":0},{"$f":"+Zał.1_WPF_bazowy!AD39","v":0},{"$f":"+Zał.1_WPF_bazowy!AE39","v":0},{"$f":"+Zał.1_WPF_bazowy!AF39","v":0},{"$f":"+Zał.1_WPF_bazowy!AG39","v":0},{"$f":"+Zał.1_WPF_bazowy!AH39","v":0},{"$f":"+Zał.1_WPF_bazowy!AI39","v":0},{"$f":"+Zał.1_WPF_bazowy!AJ39","v":0},{"$f":"+Zał.1_WPF_bazowy!AK39","v":0},{"$f":"+Zał.1_WPF_bazowy!AL39","v":0}]
["x","5.1.1.2",null,"kwota przypadających na dany rok kwot ustawowych wyłączeń określonych w art. 243 ust. 3a ustawy",{"$f":"Zał.1_WPF_bazowy!E40","v":0},{"$f":"Zał.1_WPF_bazowy!F40","v":0},{"$f":"Zał.1_WPF_bazowy!G40","v":100000},{"$f":"Zał.1_WPF_bazowy!H40","v":0},{"$f":"+Zał.1_WPF_bazowy!I40","v":0},{"$f":"+Zał.1_WPF_bazowy!J40","v":0},{"$f":"+Zał.1_WPF_bazowy!K40","v":0},{"$f":"+Zał.1_WPF_bazowy!L40","v":0},{"$f":"+Zał.1_WPF_bazowy!M40","v":0},{"$f":"+Zał.1_WPF_bazowy!N40","v":0},{"$f":"+Zał.1_WPF_bazowy!O40","v":0},{"$f":"+Zał.1_WPF_bazowy!P40","v":0},{"$f":"+Zał.1_WPF_bazowy!Q40","v":0},{"$f":"+Zał.1_WPF_bazowy!R40","v":0},{"$f":"+Zał.1_WPF_bazowy!S40","v":0},{"$f":"+Zał.1_WPF_bazowy!T40","v":0},{"$f":"+Zał.1_WPF_bazowy!U40","v":0},{"$f":"+Zał.1_WPF_bazowy!V40","v":0},{"$f":"+Zał.1_WPF_bazowy!W40","v":0},{"$f":"+Zał.1_WPF_bazowy!X40","v":0},{"$f":"+Zał.1_WPF_bazowy!Y40","v":0},{"$f":"+Zał.1_WPF_bazowy!Z40","v":0},{"$f":"+Zał.1_WPF_bazowy!AA40","v":0},{"$f":"+Zał.1_WPF_bazowy!AB40","v":0},{"$f":"+Zał.1_WPF_bazowy!AC40","v":0},{"$f":"+Zał.1_WPF_bazowy!AD40","v":0},{"$f":"+Zał.1_WPF_bazowy!AE40","v":0},{"$f":"+Zał.1_WPF_bazowy!AF40","v":0},{"$f":"+Zał.1_WPF_bazowy!AG40","v":0},{"$f":"+Zał.1_WPF_bazowy!AH40","v":0},{"$f":"+Zał.1_WPF_bazowy!AI40","v":0},{"$f":"+Zał.1_WPF_bazowy!AJ40","v":0},{"$f":"+Zał.1_WPF_bazowy!AK40","v":0},{"$f":"+Zał.1_WPF_bazowy!AL40","v":0}]
["x","5.1.1.3",null,"kwota przypadających na dany rok kwot ustawowych wyłączeń innych niż określone w art. 243 ustawy",{"$f":"Zał.1_WPF_bazowy!E41","v":0},{"$f":"Zał.1_WPF_bazowy!F41","v":0},{"$f":"Zał.1_WPF_bazowy!G41","v":0},{"$f":"Zał.1_WPF_bazowy!H41","v":0},{"$f":"+Zał.1_WPF_bazowy!I41","v":0},{"$f":"+Zał.1_WPF_bazowy!J41","v":0},{"$f":"+Zał.1_WPF_bazowy!K41","v":0},{"$f":"+Zał.1_WPF_bazowy!L41","v":0},{"$f":"+Zał.1_WPF_bazowy!M41","v":0},{"$f":"+Zał.1_WPF_bazowy!N41","v":0},{"$f":"+Zał.1_WPF_bazowy!O41","v":0},{"$f":"+Zał.1_WPF_bazowy!P41","v":0},{"$f":"+Zał.1_WPF_bazowy!Q41","v":0},{"$f":"+Zał.1_WPF_bazowy!R41","v":0},{"$f":"+Zał.1_WPF_bazowy!S41","v":0},{"$f":"+Zał.1_WPF_bazowy!T41","v":0},{"$f":"+Zał.1_WPF_bazowy!U41","v":0},{"$f":"+Zał.1_WPF_bazowy!V41","v":0},{"$f":"+Zał.1_WPF_bazowy!W41","v":0},{"$f":"+Zał.1_WPF_bazowy!X41","v":0},{"$f":"+Zał.1_WPF_bazowy!Y41","v":0},{"$f":"+Zał.1_WPF_bazowy!Z41","v":0},{"$f":"+Zał.1_WPF_bazowy!AA41","v":0},{"$f":"+Zał.1_WPF_bazowy!AB41","v":0},{"$f":"+Zał.1_WPF_bazowy!AC41","v":0},{"$f":"+Zał.1_WPF_bazowy!AD41","v":0},{"$f":"+Zał.1_WPF_bazowy!AE41","v":0},{"$f":"+Zał.1_WPF_bazowy!AF41","v":0},{"$f":"+Zał.1_WPF_bazowy!AG41","v":0},{"$f":"+Zał.1_WPF_bazowy!AH41","v":0},{"$f":"+Zał.1_WPF_bazowy!AI41","v":0},{"$f":"+Zał.1_WPF_bazowy!AJ41","v":0},{"$f":"+Zał.1_WPF_bazowy!AK41","v":0},{"$f":"+Zał.1_WPF_bazowy!AL41","v":0}]
[null,"5.2",null," Inne rozchody niezwiązane ze spłatą długu",{"$f":"Zał.1_WPF_bazowy!E42","v":0},{"$f":"Zał.1_WPF_bazowy!F42","v":0},{"$f":"Zał.1_WPF_bazowy!G42","v":0},{"$f":"Zał.1_WPF_bazowy!H42","v":0},{"$f":"+Zał.1_WPF_bazowy!I42","v":0},{"$f":"+Zał.1_WPF_bazowy!J42","v":0},{"$f":"+Zał.1_WPF_bazowy!K42","v":0},{"$f":"+Zał.1_WPF_bazowy!L42","v":0},{"$f":"+Zał.1_WPF_bazowy!M42","v":0},{"$f":"+Zał.1_WPF_bazowy!N42","v":0},{"$f":"+Zał.1_WPF_bazowy!O42","v":0},{"$f":"+Zał.1_WPF_bazowy!P42","v":0},{"$f":"+Zał.1_WPF_bazowy!Q42","v":0},{"$f":"+Zał.1_WPF_bazowy!R42","v":0},{"$f":"+Zał.1_WPF_bazowy!S42","v":0},{"$f":"+Zał.1_WPF_bazowy!T42","v":0},{"$f":"+Zał.1_WPF_bazowy!U42","v":0},{"$f":"+Zał.1_WPF_bazowy!V42","v":0},{"$f":"+Zał.1_WPF_bazowy!W42","v":0},{"$f":"+Zał.1_WPF_bazowy!X42","v":0},{"$f":"+Zał.1_WPF_bazowy!Y42","v":0},{"$f":"+Zał.1_WPF_bazowy!Z42","v":0},{"$f":"+Zał.1_WPF_bazowy!AA42","v":0},{"$f":"+Zał.1_WPF_bazowy!AB42","v":0},{"$f":"+Zał.1_WPF_bazowy!AC42","v":0},{"$f":"+Zał.1_WPF_bazowy!AD42","v":0},{"$f":"+Zał.1_WPF_bazowy!AE42","v":0},{"$f":"+Zał.1_WPF_bazowy!AF42","v":0},{"$f":"+Zał.1_WPF_bazowy!AG42","v":0},{"$f":"+Zał.1_WPF_bazowy!AH42","v":0},{"$f":"+Zał.1_WPF_bazowy!AI42","v":0},{"$f":"+Zał.1_WPF_bazowy!AJ42","v":0},{"$f":"+Zał.1_WPF_bazowy!AK42","v":0},{"$f":"+Zał.1_WPF_bazowy!AL42","v":0}]
["x",6,null,"Kwota długu",{"$f":"Zał.1_WPF_bazowy!E43","v":11617700},{"$f":"Zał.1_WPF_bazowy!F43","v":10540850},{"$f":"Zał.1_WPF_bazowy!G43","v":10431000},{"$f":"Zał.1_WPF_bazowy!H43","v":10431000},{"$f":"+IF(I10<>0,H48+I37-I42+(I105-H105)+I110,0)","v":10719000},9995000,9275000,7958000,6545000,5236000,3801000,2291000,743000,0,0,0,0,0,0,0,0,0,0,0,0,0,0,0,0,0,0,0,0,0]
[null,7,null,"Kwota zobowiązań wynikających z przejęcia przez jednostkę samorządu terytorialnego zobowiązań po likwidowanych i przekształcanych jednostkach zaliczanych do sektora  finansów publicznych",{"$f":"Zał.1_WPF_bazowy!E44","v":0},{"$f":"Zał.1_WPF_bazowy!F44","v":0},{"$f":"Zał.1_WPF_bazowy!G44","v":0},{"$f":"Zał.1_WPF_bazowy!H44","v":0},{"$f":"+Zał.1_WPF_bazowy!I44","v":0},{"$f":"+Zał.1_WPF_bazowy!J44","v":0},{"$f":"+Zał.1_WPF_bazowy!K44","v":0},{"$f":"+Zał.1_WPF_bazowy!L44","v":0},{"$f":"+Zał.1_WPF_bazowy!M44","v":0},{"$f":"+Zał.1_WPF_bazowy!N44","v":0},{"$f":"+Zał.1_WPF_bazowy!O44","v":0},{"$f":"+Zał.1_WPF_bazowy!P44","v":0},{"$f":"+Zał.1_WPF_bazowy!Q44","v":0},{"$f":"+Zał.1_WPF_bazowy!R44","v":0},{"$f":"+Zał.1_WPF_bazowy!S44","v":0},{"$f":"+Zał.1_WPF_bazowy!T44","v":0},{"$f":"+Zał.1_WPF_bazowy!U44","v":0},{"$f":"+Zał.1_WPF_bazowy!V44","v":0},{"$f":"+Zał.1_WPF_bazowy!W44","v":0},{"$f":"+Zał.1_WPF_bazowy!X44","v":0},{"$f":"+Zał.1_WPF_bazowy!Y44","v":0},{"$f":"+Zał.1_WPF_bazowy!Z44","v":0},{"$f":"+Zał.1_WPF_bazowy!AA44","v":0},{"$f":"+Zał.1_WPF_bazowy!AB44","v":0},{"$f":"+Zał.1_WPF_bazowy!AC44","v":0},{"$f":"+Zał.1_WPF_bazowy!AD44","v":0},{"$f":"+Zał.1_WPF_bazowy!AE44","v":0},{"$f":"+Zał.1_WPF_bazowy!AF44","v":0},{"$f":"+Zał.1_WPF_bazowy!AG44","v":0},{"$f":"+Zał.1_WPF_bazowy!AH44","v":0},{"$f":"+Zał.1_WPF_bazowy!AI44","v":0},{"$f":"+Zał.1_WPF_bazowy!AJ44","v":0},{"$f":"+Zał.1_WPF_bazowy!AK44","v":0},{"$f":"+Zał.1_WPF_bazowy!AL44","v":0}]
[null,8,null,"Relacja zrównoważenia wydatków bieżących, o której mowa w art. 242 ustawy","x","x","x","x","x","x","x","x","x","x","x","x","x","x","x","x","x","x","x","x","x","x","x","x","x","x","x","x","x","x","x","x","x","x"]
[null,"8.1","[1.1] - [2.1]","Różnica między dochodami bieżącymi a  wydatkami bieżącymi",{"$f":"Zał.1_WPF_bazowy!E46","v":696479.34},{"$f":"Zał.1_WPF_bazowy!F46","v":615045.17000000004},{"$f":"Zał.1_WPF_bazowy!G46","v":178559},{"$f":"+H11-H22","v":503705.19999999925},1445151,1188400,1204150,1206904,1247662,1396481,1641426,1596559,1563945,1736654,0,0,0,0,0,0,0,0,0,0,0,0,0,0,0,0,0,0,0,0]
[null,"8.2","[1.1] + [4.1] + [4.2] - (  [2.1] - [2.1.2]  )","Różnica między dochodami bieżącymi, skorygowanymi o środki a wydatkami bieżącymi, pomniejszonymi  o wydatki",{"$f":"+IF(AND(E9>=2013,E9<=2015),+E11+E33+E35-(E22-E25),+E11+E33+E35-E22)","v":2809876.5499999989},2020395.9099999983,246559,1058782.3399999999,1445151,1188400,1204150,1206904,1247662,1396481,1641426,1596559,1563945,1736654,0,0,0,0,0,0,0,0,0,0,0,0,0,0,0,0,0,0,0,0]
["x",9,null,"Wskaźnik spłaty zobowiązań","x","x","x","x","x","x","x","x","x","x","x","x","x","x","x","x","x","x","x","x","x","x","x","x","x","x","x","x","x","x","x","x","x","x"]
["x","9.1","([2.1.1] + [2.1.3.1] + [5.1] ) / [1]","Wskaźnik planowanej łącznej kwoty spłaty zobowiązań, o której mowa w art. 243 ust. 1 ustawy do dochodów, bez uwzględnienia zobowiązań związku współtworzonego przez jednostkę samorządu terytorialnego  i bez uwzględnienia ustawowych wyłączeń przypadających na dany rok.",{"$f":"Zał.1_WPF_bazowy!E49","v":0.14860000000000001},{"$f":"Zał.1_WPF_bazowy!F49","v":8.5500000000000007E-2},{"$f":"Zał.1_WPF_bazowy!G49","v":2.5999999999999999E-2},{"$f":"+IF(H10<>0,ROUND((H23+H27+H42)/H10,$K$7+2),\"-\")","v":2.64E-2},3.8100000000000002E-2,4.4600000000000001E-2,4.4999999999999998E-2,7.22E-2,7.5300000000000006E-2,6.8500000000000005E-2,7.1199999999999999E-2,7.6200000000000004E-2,7.4200000000000002E-2,3.4099999999999998E-2,"-","-","-","-","-","-","-","-","-","-","-","-","-","-","-","-","-","-","-","-"]
["x","9.2","( ([2.1.1]-[2.1.1.1])+([2.1.3.1]-[2.1.3.1.1]-[2.1.3.1.2])+([5.1]-[5.1.1]) )/([1]-[15.1.1])","Wskaźnik planowanej łącznej kwoty spłaty zobowiązań, o której mowa w art. 243 ust. 1 ustawy do dochodów, bez uwzględnienia zobowiązań związku współtworzonego przez jednostkę samorządu terytorialnego, po uwzględnieniu ustawowych wyłączeń przypadających na dany rok.",{"$f":"Zał.1_WPF_bazowy!E50","v":0.14860000000000001},{"$f":"Zał.1_WPF_bazowy!F50","v":1.4999999999999999E-2},{"$f":"Zał.1_WPF_bazowy!G50","v":2.0400000000000001E-2},{"$f":"+IF(H10<>0,ROUND((H23-H24+H27-H28-H29+H42-H43)/(H10-H113),$K$7+2),\"-\")","v":2.0199999999999999E-2},{"$f":"+IF(I10<>0,ROUND((I23-I24+I27-I28-I29+I42-I43)/(I10-I113),$K$7+2),\"-\")","v":3.2599999999999997E-2},4.0099999999999997E-2,4.1399999999999999E-2,6.9199999999999998E-2,7.3200000000000001E-2,6.7299999999999999E-2,7.0300000000000001E-2,7.5499999999999998E-2,7.3599999999999999E-2,3.3500000000000002E-2,"-","-","-","-","-","-","-","-","-","-","-","-","-","-","-","-","-","-","-","-"]
["x","9.3",null,"Kwota zobowiązań związku współtworzonego przez jednostkę samorządu terytorialnego przypadających do spłaty w danym roku budżetowym, podlegająca doliczeniu zgodnie z art. 244 ustawy",{"$f":"Zał.1_WPF_bazowy!E51","v":0},{"$f":"Zał.1_WPF_bazowy!F51","v":0},{"$f":"Zał.1_WPF_bazowy!G51","v":0},{"$f":"Zał.1_WPF_bazowy!H51","v":0},{"$f":"+Zał.1_WPF_bazowy!I51","v":0},{"$f":"+Zał.1_WPF_bazowy!J51","v":0},{"$f":"+Zał.1_WPF_bazowy!K51","v":0},{"$f":"+Zał.1_WPF_bazowy!L51","v":0},{"$f":"+Zał.1_WPF_bazowy!M51","v":0},{"$f":"+Zał.1_WPF_bazowy!N51","v":0},{"$f":"+Zał.1_WPF_bazowy!O51","v":0},{"$f":"+Zał.1_WPF_bazowy!P51","v":0},{"$f":"+Zał.1_WPF_bazowy!Q51","v":0},{"$f":"+Zał.1_WPF_bazowy!R51","v":0},{"$f":"+Zał.1_WPF_bazowy!S51","v":0},{"$f":"+Zał.1_WPF_bazowy!T51","v":0},{"$f":"+Zał.1_WPF_bazowy!U51","v":0},{"$f":"+Zał.1_WPF_bazowy!V51","v":0},{"$f":"+Zał.1_WPF_bazowy!W51","v":0},{"$f":"+Zał.1_WPF_bazowy!X51","v":0},{"$f":"+Zał.1_WPF_bazowy!Y51","v":0},{"$f":"+Zał.1_WPF_bazowy!Z51","v":0},{"$f":"+Zał.1_WPF_bazowy!AA51","v":0},{"$f":"+Zał.1_WPF_bazowy!AB51","v":0},{"$f":"+Zał.1_WPF_bazowy!AC51","v":0},{"$f":"+Zał.1_WPF_bazowy!AD51","v":0},{"$f":"+Zał.1_WPF_bazowy!AE51","v":0},{"$f":"+Zał.1_WPF_bazowy!AF51","v":0},{"$f":"+Zał.1_WPF_bazowy!AG51","v":0},{"$f":"+Zał.1_WPF_bazowy!AH51","v":0},{"$f":"+Zał.1_WPF_bazowy!AI51","v":0},{"$f":"+Zał.1_WPF_bazowy!AJ51","v":0},{"$f":"+Zał.1_WPF_bazowy!AK51","v":0},{"$f":"+Zał.1_WPF_bazowy!AL51","v":0}]
["x","9.4","(([2.1.1]-[2.1.1.1]) + ([2.1.3.1]-[2.1.3.1.1]-[2.1.3.1.2])+([5.1]-[5.1.1])+[9.3]) /([1]-[15.1.1])","Wskaźnik planowanej łącznej kwoty spłaty zobowiązań, o której mowa w art. 243 ust. 1 ustawy do dochodów, po uwzględnieniu zobowiązań związku współtworzonego przez jednostkę samorządu terytorialnego oraz po uwzględnieniu ustawowych wyłączeń przypadających na dany rok",{"$f":"Zał.1_WPF_bazowy!E52","v":0.14860000000000001},{"$f":"Zał.1_WPF_bazowy!F52","v":1.4999999999999999E-2},{"$f":"Zał.1_WPF_bazowy!G52","v":2.0400000000000001E-2},{"$f":"+IF(H10<>0,ROUND((H23-H24+H27-H28-H29+H42-H43+H56)/(H10-H113),$K$7+2),\"-\")","v":2.0199999999999999E-2},{"$f":"+IF(I10<>0,ROUND((I23-I24+I27-I28-I29+I42-I43+I56)/(I10-I113),$K$7+2),\"-\")","v":3.2599999999999997E-2},4.0099999999999997E-2,4.1399999999999999E-2,6.9199999999999998E-2,7.3200000000000001E-2,6.7299999999999999E-2,7.0300000000000001E-2,7.5499999999999998E-2,7.3599999999999999E-2,3.3500000000000002E-2,"-","-","-","-","-","-","-","-","-","-","-","-","-","-","-","-","-","-","-","-"]
["x","9.5","(([1.1] - [15.1.1])+[1.2.1] - ([2.1]-[2.1.2]-[15.2]))/ ([1]-[15.1.1])","Wskaźnik dochodów bieżących powiększonych o dochody ze sprzedaży majątku oraz pomniejszonych o wydatki bieżące, do dochodów budżetu, ustalony dla danego roku (wskaźnik jednoroczny)",{"$f":"+ROUND(IF(AND(E9>=2013,E9<=2018),IF(E10<>0,(E11-E113+E19-E22+E25+E114)/(E10-E113),0),IF(E10<>0,(E11-E113+E19-E22+E114)/(E10-E113),0)),$K$7+2)","v":4.6399999999999997E-2},{"$f":"+ROUND(IF(AND(F9>=2013,F9<=2018),IF(F10<>0,(F11-F113+F19-F22+F25+F114)/(F10-F113),0),IF(F10<>0,(F11-F113+F19-F22+F114)/(F10-F113),0)),$K$7+2)","v":4.5699999999999998E-2},4.3799999999999999E-2,4.2500000000000003E-2,9.4500000000000001E-2,7.0599999999999996E-2,7.85E-2,7.7399999999999997E-2,7.9600000000000004E-2,8.2100000000000006E-2,9.1899999999999996E-2,8.8099999999999998E-2,8.5000000000000006E-2,9.0300000000000005E-2,0,0,0,0,0,0,0,0,0,0,0,0,0,0,0,0,0,0,0,0]
["x","9.6","średnia z trzech poprzednich lat [9.5]","Dopuszczalny wskaźnik spłaty zobowiązań określony w art. 243 ustawy, po uwzględnieniu ustawowych wyłączeń , obliczony w oparciu o plan 3 kwartału roku poprzedzającego pierwszy rok prognozy (wskaźnik ustalony w oparciu o średnią arytmetyczną z 3 poprzednich lat) ",{"$f":"Zał.1_WPF_bazowy!E54","v":"x"},{"$f":"Zał.1_WPF_bazowy!F54","v":"x"},{"$f":"Zał.1_WPF_bazowy!G54","v":"x"},{"$f":"Zał.1_WPF_bazowy!H54","v":"x"},{"$f":"+IF(I10<>0,(G58+F58+E58)/3,\"-\")","v":4.53E-2},{"$f":"+IF(J10<>0,(I58+G58+F58)/3,\"-\")","v":6.133333333333333E-2},{"$f":"+IF(K10<>0,(J58+I58+G58)/3,\"-\")","v":6.9633333333333339E-2},{"$f":"+IF(L10<>0,(K58+J58+I58)/3,\"-\")","v":8.1200000000000008E-2},7.5499999999999998E-2,7.85E-2,7.9700000000000007E-2,8.4533333333333335E-2,8.7366666666666662E-2,8.8333333333333333E-2,"-","-","-","-","-","-","-","-","-","-","-","-","-","-","-","-","-","-","-","-"]
["x","9.6.1","średnia z trzech poprzednich lat [9.5]","Dopuszczalny wskaźnik spłaty zobowiązań określony w art. 243 ustawy, po uwzględnieniu ustawowych wyłączeń, obliczony w oparciu o wykonanie roku poprzedzającego pierwszy rok prognozy (wskaźnik ustalony w oparciu o średnią arytmetyczną z 3 poprzednich lat) ",{"$f":"Zał.1_WPF_bazowy!E55","v":"x"},{"$f":"Zał.1_WPF_bazowy!F55","v":"x"},{"$f":"Zał.1_WPF_bazowy!G55","v":"x"},{"$f":"Zał.1_WPF_bazowy!H55","v":"x"},{"$f":"+IF(I10<>0,ROUND((H58+F58+E58)/3,$K$7+2),\"-\")","v":4.4900000000000002E-2},{"$f":"+IF(J10<>0,ROUND((I58+H58+F58)/3,$K$7+2),\"-\")","v":6.0900000000000003E-2},{"$f":"+IF(K10<>0,ROUND((J58+I58+H58)/3,$K$7+2),\"-\")","v":6.9199999999999998E-2},8.1199999999999994E-2,7.5499999999999998E-2,7.85E-2,7.9699999999999993E-2,8.4500000000000006E-2,8.7400000000000005E-2,8.8300000000000003E-2,"-","-","-","-","-","-","-","-","-","-","-","-","-","-","-","-","-","-","-","-"]
["x","9.7","[9.4]-[9.6]","Informacja o spełnieniu wskaźnika spłaty zobowiązań określonego w art. 243 ustawy, po uwzględnieniu zobowiązań związku współtworzonego przez jednostkę samorządu terytorialnego oraz po uwzględnieniu ustawowych wyłączeń, obliczonego w oparciu o plan 3 kwartałów roku poprzedzającego rok budżetowy",{"$f":"Zał.1_WPF_bazowy!E56","v":"x"},{"$f":"Zał.1_WPF_bazowy!F56","v":"x"},{"$f":"Zał.1_WPF_bazowy!G56","v":"x"},{"$f":"Zał.1_WPF_bazowy!H56","v":"x"},{"$f":"+IF(I10<>0,IF(I59>=I57,\"Spełniona\",\"Nie spełniona\"),\"-\")","v":"Spełniona"},"Spełniona","Spełniona","Spełniona","Spełniona","Spełniona","Spełniona","Spełniona","Spełniona","Spełniona","-","-","-","-","-","-","-","-","-","-","-","-","-","-","-","-","-","-","-","-"]
["x","9.7.1","[9.4]-[9.6.1]","Informacja o spełnieniu wskaźnika spłaty zobowiązań określonego w art. 243 ustawy, po uwzględnieniu zobowiązań związku współtworzonego przez jednostkę samorządu terytorialnego oraz po uwzględnieniu ustawowych wyłączeń, obliczonego w oparciu o wykonanie roku poprzedzającego rok budżetowy",{"$f":"Zał.1_WPF_bazowy!E57","v":"x"},{"$f":"Zał.1_WPF_bazowy!F57","v":"x"},{"$f":"Zał.1_WPF_bazowy!G57","v":"x"},{"$f":"Zał.1_WPF_bazowy!H57","v":"x"},{"$f":"+IF(I10<>0,IF(I60>=I57,\"Spełniona\",\"Nie spełniona\"),\"-\")","v":"Spełniona"},"Spełniona","Spełniona","Spełniona","Spełniona","Spełniona","Spełniona","Spełniona","Spełniona","Spełniona","-","-","-","-","-","-","-","-","-","-","-","-","-","-","-","-","-","-","-","-"]
[null,10,null,"Przeznaczenie prognozowanej nadwyżki budżetowej,  w tym na:",{"$f":"Zał.1_WPF_bazowy!E58","v":0},{"$f":"Zał.1_WPF_bazowy!F58","v":0},{"$f":"Zał.1_WPF_bazowy!G58","v":0},{"$f":"Zał.1_WPF_bazowy!H58","v":0},{"$f":"+Zał.1_WPF_bazowy!I58","v":400000},{"$f":"+Zał.1_WPF_bazowy!J58","v":600000},{"$f":"+Zał.1_WPF_bazowy!K58","v":600000},{"$f":"+Zał.1_WPF_bazowy!L58","v":1200000},{"$f":"+Zał.1_WPF_bazowy!M58","v":1300000},{"$f":"+Zał.1_WPF_bazowy!N58","v":1200000},{"$f":"+Zał.1_WPF_bazowy!O58","v":1330000},{"$f":"+Zał.1_WPF_bazowy!P58","v":1510000},{"$f":"+Zał.1_WPF_bazowy!Q58","v":1548000},{"$f":"+Zał.1_WPF_bazowy!R58","v":743000},{"$f":"+Zał.1_WPF_bazowy!S58","v":0},{"$f":"+Zał.1_WPF_bazowy!T58","v":0},{"$f":"+Zał.1_WPF_bazowy!U58","v":0},{"$f":"+Zał.1_WPF_bazowy!V58","v":0},{"$f":"+Zał.1_WPF_bazowy!W58","v":0},{"$f":"+Zał.1_WPF_bazowy!X58","v":0},{"$f":"+Zał.1_WPF_bazowy!Y58","v":0},{"$f":"+Zał.1_WPF_bazowy!Z58","v":0},{"$f":"+Zał.1_WPF_bazowy!AA58","v":0},{"$f":"+Zał.1_WPF_bazowy!AB58","v":0},{"$f":"+Zał.1_WPF_bazowy!AC58","v":0},{"$f":"+Zał.1_WPF_bazowy!AD58","v":0},{"$f":"+Zał.1_WPF_bazowy!AE58","v":0},{"$f":"+Zał.1_WPF_bazowy!AF58","v":0},{"$f":"+Zał.1_WPF_bazowy!AG58","v":0},{"$f":"+Zał.1_WPF_bazowy!AH58","v":0},{"$f":"+Zał.1_WPF_bazowy!AI58","v":0},{"$f":"+Zał.1_WPF_bazowy!AJ58","v":0},{"$f":"+Zał.1_WPF_bazowy!AK58","v":0},{"$f":"+Zał.1_WPF_bazowy!AL58","v":0}]
[null,"10.1",null,"Spłaty kredytów, pożyczek i wykup papierów wartościowych",{"$f":"Zał.1_WPF_bazowy!E59","v":0},{"$f":"Zał.1_WPF_bazowy!F59","v":406000},{"$f":"Zał.1_WPF_bazowy!G59","v":100000},{"$f":"Zał.1_WPF_bazowy!H59","v":100000},{"$f":"+Zał.1_WPF_bazowy!I59","v":400000},{"$f":"+Zał.1_WPF_bazowy!J59","v":600000},{"$f":"+Zał.1_WPF_bazowy!K59","v":600000},{"$f":"+Zał.1_WPF_bazowy!L59","v":1200000},{"$f":"+Zał.1_WPF_bazowy!M59","v":1300000},{"$f":"+Zał.1_WPF_bazowy!N59","v":1200000},{"$f":"+Zał.1_WPF_bazowy!O59","v":1330000},{"$f":"+Zał.1_WPF_bazowy!P59","v":1510000},{"$f":"+Zał.1_WPF_bazowy!Q59","v":1548000},{"$f":"+Zał.1_WPF_bazowy!R59","v":743000},{"$f":"+Zał.1_WPF_bazowy!S59","v":0},{"$f":"+Zał.1_WPF_bazowy!T59","v":0},{"$f":"+Zał.1_WPF_bazowy!U59","v":0},{"$f":"+Zał.1_WPF_bazowy!V59","v":0},{"$f":"+Zał.1_WPF_bazowy!W59","v":0},{"$f":"+Zał.1_WPF_bazowy!X59","v":0},{"$f":"+Zał.1_WPF_bazowy!Y59","v":0},{"$f":"+Zał.1_WPF_bazowy!Z59","v":0},{"$f":"+Zał.1_WPF_bazowy!AA59","v":0},{"$f":"+Zał.1_WPF_bazowy!AB59","v":0},{"$f":"+Zał.1_WPF_bazowy!AC59","v":0},{"$f":"+Zał.1_WPF_bazowy!AD59","v":0},{"$f":"+Zał.1_WPF_bazowy!AE59","v":0},{"$f":"+Zał.1_WPF_bazowy!AF59","v":0},{"$f":"+Zał.1_WPF_bazowy!AG59","v":0},{"$f":"+Zał.1_WPF_bazowy!AH59","v":0},{"$f":"+Zał.1_WPF_bazowy!AI59","v":0},{"$f":"+Zał.1_WPF_bazowy!AJ59","v":0},{"$f":"+Zał.1_WPF_bazowy!AK59","v":0},{"$f":"+Zał.1_WPF_bazowy!AL59","v":0}]
[null,11,null,"Informacje uzupełniające o wybranych rodzajach wydatków budżetowych","x","x","x","x","x","x","x","x","x","x","x","x","x","x","x","x","x","x","x","x","x","x","x","x","x","x","x","x","x","x","x","x","x","x"]
[null,"11.1",null,"Wydatki bieżące na wynagrodzenia i składki od nich naliczane",{"$f":"Zał.1_WPF_bazowy!E61","v":6833507.9400000004},{"$f":"Zał.1_WPF_bazowy!F61","v":6698815.0899999999},{"$f":"Zał.1_WPF_bazowy!G61","v":7165654.9400000004},{"$f":"Zał.1_WPF_bazowy!H61","v":7091945.1100000003},{"$f":"+Zał.1_WPF_bazowy!I61","v":7238062.4400000004},{"$f":"+Zał.1_WPF_bazowy!J61","v":7385532},{"$f":"+Zał.1_WPF_bazowy!K61","v":7607098},{"$f":"+Zał.1_WPF_bazowy!L61","v":7835311},{"$f":"+Zał.1_WPF_bazowy!M61","v":8070371},{"$f":"+Zał.1_WPF_bazowy!N61","v":8312482},{"$f":"+Zał.1_WPF_bazowy!O61","v":8561856},{"$f":"+Zał.1_WPF_bazowy!P61","v":8818712},{"$f":"+Zał.1_WPF_bazowy!Q61","v":9083273},{"$f":"+Zał.1_WPF_bazowy!R61","v":9355771},{"$f":"+Zał.1_WPF_bazowy!S61","v":0},{"$f":"+Zał.1_WPF_bazowy!T61","v":0},{"$f":"+Zał.1_WPF_bazowy!U61","v":0},{"$f":"+Zał.1_WPF_bazowy!V61","v":0},{"$f":"+Zał.1_WPF_bazowy!W61","v":0},{"$f":"+Zał.1_WPF_bazowy!X61","v":0},{"$f":"+Zał.1_WPF_bazowy!Y61","v":0},{"$f":"+Zał.1_WPF_bazowy!Z61","v":0},{"$f":"+Zał.1_WPF_bazowy!AA61","v":0},{"$f":"+Zał.1_WPF_bazowy!AB61","v":0},{"$f":"+Zał.1_WPF_bazowy!AC61","v":0},{"$f":"+Zał.1_WPF_bazowy!AD61","v":0},{"$f":"+Zał.1_WPF_bazowy!AE61","v":0},{"$f":"+Zał.1_WPF_bazowy!AF61","v":0},{"$f":"+Zał.1_WPF_bazowy!AG61","v":0},{"$f":"+Zał.1_WPF_bazowy!AH61","v":0},{"$f":"+Zał.1_WPF_bazowy!AI61","v":0},{"$f":"+Zał.1_WPF_bazowy!AJ61","v":0},{"$f":"+Zał.1_WPF_bazowy!AK61","v":0},{"$f":"+Zał.1_WPF_bazowy!AL61","v":0}]
[null,"11.2",null,"Wydatki związane z funkcjonowaniem organów jednostki samorządu terytorialnego",{"$f":"Zał.1_WPF_bazowy!E62","v":2900368.74},{"$f":"Zał.1_WPF_bazowy!F62","v":2100000},{"$f":"Zał.1_WPF_bazowy!G62","v":2347855.59},{"$f":"Zał.1_WPF_bazowy!H62","v":2269710.14},{"$f":"+Zał.1_WPF_bazowy!I62","v":2448925},{"$f":"+Zał.1_WPF_bazowy!J62","v":2400000},{"$f":"+Zał.1_WPF_bazowy!K62","v":2500000},{"$f":"+Zał.1_WPF_bazowy!L62","v":2600000},{"$f":"+Zał.1_WPF_bazowy!M62","v":2700000},{"$f":"+Zał.1_WPF_bazowy!N62","v":2800000},{"$f":"+Zał.1_WPF_bazowy!O62","v":2900000},{"$f":"+Zał.1_WPF_bazowy!P62","v":3000000},{"$f":"+Zał.1_WPF_bazowy!Q62","v":3100000},{"$f":"+Zał.1_WPF_bazowy!R62","v":3200000},{"$f":"+Zał.1_WPF_bazowy!S62","v":0},{"$f":"+Zał.1_WPF_bazowy!T62","v":0},{"$f":"+Zał.1_WPF_bazowy!U62","v":0},{"$f":"+Zał.1_WPF_bazowy!V62","v":0},{"$f":"+Zał.1_WPF_bazowy!W62","v":0},{"$f":"+Zał.1_WPF_bazowy!X62","v":0},{"$f":"+Zał.1_WPF_bazowy!Y62","v":0},{"$f":"+Zał.1_WPF_bazowy!Z62","v":0},{"$f":"+Zał.1_WPF_bazowy!AA62","v":0},{"$f":"+Zał.1_WPF_bazowy!AB62","v":0},{"$f":"+Zał.1_WPF_bazowy!AC62","v":0},{"$f":"+Zał.1_WPF_bazowy!AD62","v":0},{"$f":"+Zał.1_WPF_bazowy!AE62","v":0},{"$f":"+Zał.1_WPF_bazowy!AF62","v":0},{"$f":"+Zał.1_WPF_bazowy!AG62","v":0},{"$f":"+Zał.1_WPF_bazowy!AH62","v":0},{"$f":"+Zał.1_WPF_bazowy!AI62","v":0},{"$f":"+Zał.1_WPF_bazowy!AJ62","v":0},{"$f":"+Zał.1_WPF_bazowy!AK62","v":0},{"$f":"+Zał.1_WPF_bazowy!AL62","v":0}]
[null,"11.3","[11.3.1] + [11.3.2]","Wydatki objęte limitem, o którym mowa w art. 226 ust. 3 pkt 4 ustawy",{"$f":"Zał.1_WPF_bazowy!E63","v":1434026.7},{"$f":"Zał.1_WPF_bazowy!F63","v":315833.26},{"$f":"Zał.1_WPF_bazowy!G63","v":0},{"$f":"+H69+H70","v":0},{"$f":"+I69+I70","v":1315050},{"$f":"+J69+J70","v":2431100},157000,153000,149000,183000,179000,0,0,0,0,0,0,0,0,0,0,0,0,0,0,0,0,0,0,0,0,0,0,0]
[null,"11.3.1",null,"bieżące",{"$f":"Zał.1_WPF_bazowy!E64","v":193481.61},{"$f":"Zał.1_WPF_bazowy!F64","v":116605.57},{"$f":"Zał.1_WPF_bazowy!G64","v":0},{"$f":"Zał.1_WPF_bazowy!H64","v":0},{"$f":"+Zał.1_WPF_bazowy!I64","v":418000},{"$f":"+Zał.1_WPF_bazowy!J64","v":270100},{"$f":"+Zał.1_WPF_bazowy!K64","v":0},{"$f":"+Zał.1_WPF_bazowy!L64","v":0},{"$f":"+Zał.1_WPF_bazowy!M64","v":0},{"$f":"+Zał.1_WPF_bazowy!N64","v":0},{"$f":"+Zał.1_WPF_bazowy!O64","v":0},{"$f":"+Zał.1_WPF_bazowy!P64","v":0},{"$f":"+Zał.1_WPF_bazowy!Q64","v":0},{"$f":"+Zał.1_WPF_bazowy!R64","v":0},{"$f":"+Zał.1_WPF_bazowy!S64","v":0},{"$f":"+Zał.1_WPF_bazowy!T64","v":0},{"$f":"+Zał.1_WPF_bazowy!U64","v":0},{"$f":"+Zał.1_WPF_bazowy!V64","v":0},{"$f":"+Zał.1_WPF_bazowy!W64","v":0},{"$f":"+Zał.1_WPF_bazowy!X64","v":0},{"$f":"+Zał.1_WPF_bazowy!Y64","v":0},{"$f":"+Zał.1_WPF_bazowy!Z64","v":0},{"$f":"+Zał.1_WPF_bazowy!AA64","v":0},{"$f":"+Zał.1_WPF_bazowy!AB64","v":0},{"$f":"+Zał.1_WPF_bazowy!AC64","v":0},{"$f":"+Zał.1_WPF_bazowy!AD64","v":0},{"$f":"+Zał.1_WPF_bazowy!AE64","v":0},{"$f":"+Zał.1_WPF_bazowy!AF64","v":0},{"$f":"+Zał.1_WPF_bazowy!AG64","v":0},{"$f":"+Zał.1_WPF_bazowy!AH64","v":0},{"$f":"+Zał.1_WPF_bazowy!AI64","v":0},{"$f":"+Zał.1_WPF_bazowy!AJ64","v":0},{"$f":"+Zał.1_WPF_bazowy!AK64","v":0},{"$f":"+Zał.1_WPF_bazowy!AL64","v":0}]
[null,"11.3.2",null,"majątkowe",{"$f":"Zał.1_WPF_bazowy!E65","v":1240545.0900000001},{"$f":"Zał.1_WPF_bazowy!F65","v":199227.69},{"$f":"Zał.1_WPF_bazowy!G65","v":0},{"$f":"Zał.1_WPF_bazowy!H65","v":0},{"$f":"+Zał.1_WPF_bazowy!I65","v":897050},{"$f":"+Zał.1_WPF_bazowy!J65","v":2161000},{"$f":"+Zał.1_WPF_bazowy!K65","v":157000},{"$f":"+Zał.1_WPF_bazowy!L65","v":153000},{"$f":"+Zał.1_WPF_bazowy!M65","v":149000},{"$f":"+Zał.1_WPF_bazowy!N65","v":183000},{"$f":"+Zał.1_WPF_bazowy!O65","v":179000},{"$f":"+Zał.1_WPF_bazowy!P65","v":0},{"$f":"+Zał.1_WPF_bazowy!Q65","v":0},{"$f":"+Zał.1_WPF_bazowy!R65","v":0},{"$f":"+Zał.1_WPF_bazowy!S65","v":0},{"$f":"+Zał.1_WPF_bazowy!T65","v":0},{"$f":"+Zał.1_WPF_bazowy!U65","v":0},{"$f":"+Zał.1_WPF_bazowy!V65","v":0},{"$f":"+Zał.1_WPF_bazowy!W65","v":0},{"$f":"+Zał.1_WPF_bazowy!X65","v":0},{"$f":"+Zał.1_WPF_bazowy!Y65","v":0},{"$f":"+Zał.1_WPF_bazowy!Z65","v":0},{"$f":"+Zał.1_WPF_bazowy!AA65","v":0},{"$f":"+Zał.1_WPF_bazowy!AB65","v":0},{"$f":"+Zał.1_WPF_bazowy!AC65","v":0},{"$f":"+Zał.1_WPF_bazowy!AD65","v":0},{"$f":"+Zał.1_WPF_bazowy!AE65","v":0},{"$f":"+Zał.1_WPF_bazowy!AF65","v":0},{"$f":"+Zał.1_WPF_bazowy!AG65","v":0},{"$f":"+Zał.1_WPF_bazowy!AH65","v":0},{"$f":"+Zał.1_WPF_bazowy!AI65","v":0},{"$f":"+Zał.1_WPF_bazowy!AJ65","v":0},{"$f":"+Zał.1_WPF_bazowy!AK65","v":0},{"$f":"+Zał.1_WPF_bazowy!AL65","v":0}]
[null,"11.4",null,"Wydatki inwestycyjne kontynuowane ",{"$f":"Zał.1_WPF_bazowy!E66","v":1056960.55},{"$f":"Zał.1_WPF_bazowy!F66","v":261062},{"$f":"Zał.1_WPF_bazowy!G66","v":0},{"$f":"Zał.1_WPF_bazowy!H66","v":0},{"$f":"+Zał.1_WPF_bazowy!I66","v":0},{"$f":"+Zał.1_WPF_bazowy!J66","v":0},{"$f":"+Zał.1_WPF_bazowy!K66","v":0},{"$f":"+Zał.1_WPF_bazowy!L66","v":0},{"$f":"+Zał.1_WPF_bazowy!M66","v":0},{"$f":"+Zał.1_WPF_bazowy!N66","v":0},{"$f":"+Zał.1_WPF_bazowy!O66","v":0},{"$f":"+Zał.1_WPF_bazowy!P66","v":0},{"$f":"+Zał.1_WPF_bazowy!Q66","v":0},{"$f":"+Zał.1_WPF_bazowy!R66","v":0},{"$f":"+Zał.1_WPF_bazowy!S66","v":0},{"$f":"+Zał.1_WPF_bazowy!T66","v":0},{"$f":"+Zał.1_WPF_bazowy!U66","v":0},{"$f":"+Zał.1_WPF_bazowy!V66","v":0},{"$f":"+Zał.1_WPF_bazowy!W66","v":0},{"$f":"+Zał.1_WPF_bazowy!X66","v":0},{"$f":"+Zał.1_WPF_bazowy!Y66","v":0},{"$f":"+Zał.1_WPF_bazowy!Z66","v":0},{"$f":"+Zał.1_WPF_bazowy!AA66","v":0},{"$f":"+Zał.1_WPF_bazowy!AB66","v":0},{"$f":"+Zał.1_WPF_bazowy!AC66","v":0},{"$f":"+Zał.1_WPF_bazowy!AD66","v":0},{"$f":"+Zał.1_WPF_bazowy!AE66","v":0},{"$f":"+Zał.1_WPF_bazowy!AF66","v":0},{"$f":"+Zał.1_WPF_bazowy!AG66","v":0},{"$f":"+Zał.1_WPF_bazowy!AH66","v":0},{"$f":"+Zał.1_WPF_bazowy!AI66","v":0},{"$f":"+Zał.1_WPF_bazowy!AJ66","v":0},{"$f":"+Zał.1_WPF_bazowy!AK66","v":0},{"$f":"+Zał.1_WPF_bazowy!AL66","v":0}]
[null,"11.5",null,"Nowe wydatki inwestycyjne",{"$f":"Zał.1_WPF_bazowy!E67","v":570924.94999999995},{"$f":"Zał.1_WPF_bazowy!F67","v":383938},{"$f":"Zał.1_WPF_bazowy!G67","v":0},{"$f":"Zał.1_WPF_bazowy!H67","v":512107.73},{"$f":"+Zał.1_WPF_bazowy!I67","v":1256151},{"$f":"+Zał.1_WPF_bazowy!J67","v":2000000},{"$f":"+Zał.1_WPF_bazowy!K67","v":0},{"$f":"+Zał.1_WPF_bazowy!L67","v":0},{"$f":"+Zał.1_WPF_bazowy!M67","v":0},{"$f":"+Zał.1_WPF_bazowy!N67","v":0},{"$f":"+Zał.1_WPF_bazowy!O67","v":0},{"$f":"+Zał.1_WPF_bazowy!P67","v":0},{"$f":"+Zał.1_WPF_bazowy!Q67","v":0},{"$f":"+Zał.1_WPF_bazowy!R67","v":0},{"$f":"+Zał.1_WPF_bazowy!S67","v":0},{"$f":"+Zał.1_WPF_bazowy!T67","v":0},{"$f":"+Zał.1_WPF_bazowy!U67","v":0},{"$f":"+Zał.1_WPF_bazowy!V67","v":0},{"$f":"+Zał.1_WPF_bazowy!W67","v":0},{"$f":"+Zał.1_WPF_bazowy!X67","v":0},{"$f":"+Zał.1_WPF_bazowy!Y67","v":0},{"$f":"+Zał.1_WPF_bazowy!Z67","v":0},{"$f":"+Zał.1_WPF_bazowy!AA67","v":0},{"$f":"+Zał.1_WPF_bazowy!AB67","v":0},{"$f":"+Zał.1_WPF_bazowy!AC67","v":0},{"$f":"+Zał.1_WPF_bazowy!AD67","v":0},{"$f":"+Zał.1_WPF_bazowy!AE67","v":0},{"$f":"+Zał.1_WPF_bazowy!AF67","v":0},{"$f":"+Zał.1_WPF_bazowy!AG67","v":0},{"$f":"+Zał.1_WPF_bazowy!AH67","v":0},{"$f":"+Zał.1_WPF_bazowy!AI67","v":0},{"$f":"+Zał.1_WPF_bazowy!AJ67","v":0},{"$f":"+Zał.1_WPF_bazowy!AK67","v":0},{"$f":"+Zał.1_WPF_bazowy!AL67","v":0}]
[null,"11.6",null,"Wydatki majątkowe w formie dotacji ",{"$f":"Zał.1_WPF_bazowy!E68","v":65000},{"$f":"Zał.1_WPF_bazowy!F68","v":55000},{"$f":"Zał.1_WPF_bazowy!G68","v":105000},{"$f":"Zał.1_WPF_bazowy!H68","v":65000},{"$f":"+Zał.1_WPF_bazowy!I68","v":50000},{"$f":"+Zał.1_WPF_bazowy!J68","v":0},{"$f":"+Zał.1_WPF_bazowy!K68","v":0},{"$f":"+Zał.1_WPF_bazowy!L68","v":0},{"$f":"+Zał.1_WPF_bazowy!M68","v":0},{"$f":"+Zał.1_WPF_bazowy!N68","v":0},{"$f":"+Zał.1_WPF_bazowy!O68","v":0},{"$f":"+Zał.1_WPF_bazowy!P68","v":0},{"$f":"+Zał.1_WPF_bazowy!Q68","v":0},{"$f":"+Zał.1_WPF_bazowy!R68","v":0},{"$f":"+Zał.1_WPF_bazowy!S68","v":0},{"$f":"+Zał.1_WPF_bazowy!T68","v":0},{"$f":"+Zał.1_WPF_bazowy!U68","v":0},{"$f":"+Zał.1_WPF_bazowy!V68","v":0},{"$f":"+Zał.1_WPF_bazowy!W68","v":0},{"$f":"+Zał.1_WPF_bazowy!X68","v":0},{"$f":"+Zał.1_WPF_bazowy!Y68","v":0},{"$f":"+Zał.1_WPF_bazowy!Z68","v":0},{"$f":"+Zał.1_WPF_bazowy!AA68","v":0},{"$f":"+Zał.1_WPF_bazowy!AB68","v":0},{"$f":"+Zał.1_WPF_bazowy!AC68","v":0},{"$f":"+Zał.1_WPF_bazowy!AD68","v":0},{"$f":"+Zał.1_WPF_bazowy!AE68","v":0},{"$f":"+Zał.1_WPF_bazowy!AF68","v":0},{"$f":"+Zał.1_WPF_bazowy!AG68","v":0},{"$f":"+Zał.1_WPF_bazowy!AH68","v":0},{"$f":"+Zał.1_WPF_bazowy!AI68","v":0},{"$f":"+Zał.1_WPF_bazowy!AJ68","v":0},{"$f":"+Zał.1_WPF_bazowy!AK68","v":0},{"$f":"+Zał.1_WPF_bazowy!AL68","v":0}]
[null,12,null,"Finansowanie programów, projektów lub zadań realizowanych z udziałem środków, o których mowa w art. 5 ust. 1 pkt 2 i 3 ustawy","x","x","x","x","x","x","x","x","x","x","x","x","x","x","x","x","x","x","x","x","x","x","x","x","x","x","x","x","x","x","x","x","x","x"]
[null,"12.1",null,"Dochody bieżące  na programy, projekty lub zadania finansowane z udziałem środków, o których mowa w art. 5 ust. 1 pkt 2 i 3 ustawy",{"$f":"Zał.1_WPF_bazowy!E70","v":229514.4},{"$f":"Zał.1_WPF_bazowy!F70","v":0},{"$f":"Zał.1_WPF_bazowy!G70","v":0},{"$f":"Zał.1_WPF_bazowy!H70","v":0},{"$f":"+Zał.1_WPF_bazowy!I70","v":0},{"$f":"+Zał.1_WPF_bazowy!J70","v":0},{"$f":"+Zał.1_WPF_bazowy!K70","v":0},{"$f":"+Zał.1_WPF_bazowy!L70","v":0},{"$f":"+Zał.1_WPF_bazowy!M70","v":0},{"$f":"+Zał.1_WPF_bazowy!N70","v":0},{"$f":"+Zał.1_WPF_bazowy!O70","v":0},{"$f":"+Zał.1_WPF_bazowy!P70","v":0},{"$f":"+Zał.1_WPF_bazowy!Q70","v":0},{"$f":"+Zał.1_WPF_bazowy!R70","v":0},{"$f":"+Zał.1_WPF_bazowy!S70","v":0},{"$f":"+Zał.1_WPF_bazowy!T70","v":0},{"$f":"+Zał.1_WPF_bazowy!U70","v":0},{"$f":"+Zał.1_WPF_bazowy!V70","v":0},{"$f":"+Zał.1_WPF_bazowy!W70","v":0},{"$f":"+Zał.1_WPF_bazowy!X70","v":0},{"$f":"+Zał.1_WPF_bazowy!Y70","v":0},{"$f":"+Zał.1_WPF_bazowy!Z70","v":0},{"$f":"+Zał.1_WPF_bazowy!AA70","v":0},{"$f":"+Zał.1_WPF_bazowy!AB70","v":0},{"$f":"+Zał.1_WPF_bazowy!AC70","v":0},{"$f":"+Zał.1_WPF_bazowy!AD70","v":0},{"$f":"+Zał.1_WPF_bazowy!AE70","v":0},{"$f":"+Zał.1_WPF_bazowy!AF70","v":0},{"$f":"+Zał.1_WPF_bazowy!AG70","v":0},{"$f":"+Zał.1_WPF_bazowy!AH70","v":0},{"$f":"+Zał.1_WPF_bazowy!AI70","v":0},{"$f":"+Zał.1_WPF_bazowy!AJ70","v":0},{"$f":"+Zał.1_WPF_bazowy!AK70","v":0},{"$f":"+Zał.1_WPF_bazowy!AL70","v":0}]
[null,"12.1.1",null,"-  w tym środki określone w art. 5 ust. 1 pkt 2 ustawy",{"$f":"Zał.1_WPF_bazowy!E71","v":208926.15},{"$f":"Zał.1_WPF_bazowy!F71","v":0},{"$f":"Zał.1_WPF_bazowy!G71","v":0},{"$f":"Zał.1_WPF_bazowy!H71","v":0},{"$f":"+Zał.1_WPF_bazowy!I71","v":0},{"$f":"+Zał.1_WPF_bazowy!J71","v":0},{"$f":"+Zał.1_WPF_bazowy!K71","v":0},{"$f":"+Zał.1_WPF_bazowy!L71","v":0},{"$f":"+Zał.1_WPF_bazowy!M71","v":0},{"$f":"+Zał.1_WPF_bazowy!N71","v":0},{"$f":"+Zał.1_WPF_bazowy!O71","v":0},{"$f":"+Zał.1_WPF_bazowy!P71","v":0},{"$f":"+Zał.1_WPF_bazowy!Q71","v":0},{"$f":"+Zał.1_WPF_bazowy!R71","v":0},{"$f":"+Zał.1_WPF_bazowy!S71","v":0},{"$f":"+Zał.1_WPF_bazowy!T71","v":0},{"$f":"+Zał.1_WPF_bazowy!U71","v":0},{"$f":"+Zał.1_WPF_bazowy!V71","v":0},{"$f":"+Zał.1_WPF_bazowy!W71","v":0},{"$f":"+Zał.1_WPF_bazowy!X71","v":0},{"$f":"+Zał.1_WPF_bazowy!Y71","v":0},{"$f":"+Zał.1_WPF_bazowy!Z71","v":0},{"$f":"+Zał.1_WPF_bazowy!AA71","v":0},{"$f":"+Zał.1_WPF_bazowy!AB71","v":0},{"$f":"+Zał.1_WPF_bazowy!AC71","v":0},{"$f":"+Zał.1_WPF_bazowy!AD71","v":0},{"$f":"+Zał.1_WPF_bazowy!AE71","v":0},{"$f":"+Zał.1_WPF_bazowy!AF71","v":0},{"$f":"+Zał.1_WPF_bazowy!AG71","v":0},{"$f":"+Zał.1_WPF_bazowy!AH71","v":0},{"$f":"+Zał.1_WPF_bazowy!AI71","v":0},{"$f":"+Zał.1_WPF_bazowy!AJ71","v":0},{"$f":"+Zał.1_WPF_bazowy!AK71","v":0},{"$f":"+Zał.1_WPF_bazowy!AL71","v":0}]
[null,"12.1.1.1",null,"- w tym środki określone w art. 5 ust. 1 pkt 2 ustawy wynikające wyłącznie z  zawartych umów na realizację programu, projektu lub zadania",{"$f":"Zał.1_WPF_bazowy!E72","v":208926.15},{"$f":"Zał.1_WPF_bazowy!F72","v":0},{"$f":"Zał.1_WPF_bazowy!G72","v":0},{"$f":"Zał.1_WPF_bazowy!H72","v":0},{"$f":"+Zał.1_WPF_bazowy!I72","v":0},{"$f":"+Zał.1_WPF_bazowy!J72","v":0},{"$f":"+Zał.1_WPF_bazowy!K72","v":0},{"$f":"+Zał.1_WPF_bazowy!L72","v":0},{"$f":"+Zał.1_WPF_bazowy!M72","v":0},{"$f":"+Zał.1_WPF_bazowy!N72","v":0},{"$f":"+Zał.1_WPF_bazowy!O72","v":0},{"$f":"+Zał.1_WPF_bazowy!P72","v":0},{"$f":"+Zał.1_WPF_bazowy!Q72","v":0},{"$f":"+Zał.1_WPF_bazowy!R72","v":0},{"$f":"+Zał.1_WPF_bazowy!S72","v":0},{"$f":"+Zał.1_WPF_bazowy!T72","v":0},{"$f":"+Zał.1_WPF_bazowy!U72","v":0},{"$f":"+Zał.1_WPF_bazowy!V72","v":0},{"$f":"+Zał.1_WPF_bazowy!W72","v":0},{"$f":"+Zał.1_WPF_bazowy!X72","v":0},{"$f":"+Zał.1_WPF_bazowy!Y72","v":0},{"$f":"+Zał.1_WPF_bazowy!Z72","v":0},{"$f":"+Zał.1_WPF_bazowy!AA72","v":0},{"$f":"+Zał.1_WPF_bazowy!AB72","v":0},{"$f":"+Zał.1_WPF_bazowy!AC72","v":0},{"$f":"+Zał.1_WPF_bazowy!AD72","v":0},{"$f":"+Zał.1_WPF_bazowy!AE72","v":0},{"$f":"+Zał.1_WPF_bazowy!AF72","v":0},{"$f":"+Zał.1_WPF_bazowy!AG72","v":0},{"$f":"+Zał.1_WPF_bazowy!AH72","v":0},{"$f":"+Zał.1_WPF_bazowy!AI72","v":0},{"$f":"+Zał.1_WPF_bazowy!AJ72","v":0},{"$f":"+Zał.1_WPF_bazowy!AK72","v":0},{"$f":"+Zał.1_WPF_bazowy!AL72","v":0}]
[null,"12.2",null,"Dochody majątkowe  na programy, projekty lub zadania finansowane z udziałem środków, o których mowa w art. 5 ust. 1 pkt 2 i 3 ustawy",{"$f":"Zał.1_WPF_bazowy!E73","v":936216.81},{"$f":"Zał.1_WPF_bazowy!F73","v":0},{"$f":"Zał.1_WPF_bazowy!G73","v":0},{"$f":"Zał.1_WPF_bazowy!H73","v":0},{"$f":"+Zał.1_WPF_bazowy!I73","v":462622},{"$f":"+Zał.1_WPF_bazowy!J73","v":1272600},{"$f":"+Zał.1_WPF_bazowy!K73","v":0},{"$f":"+Zał.1_WPF_bazowy!L73","v":0},{"$f":"+Zał.1_WPF_bazowy!M73","v":0},{"$f":"+Zał.1_WPF_bazowy!N73","v":0},{"$f":"+Zał.1_WPF_bazowy!O73","v":0},{"$f":"+Zał.1_WPF_bazowy!P73","v":0},{"$f":"+Zał.1_WPF_bazowy!Q73","v":0},{"$f":"+Zał.1_WPF_bazowy!R73","v":0},{"$f":"+Zał.1_WPF_bazowy!S73","v":0},{"$f":"+Zał.1_WPF_bazowy!T73","v":0},{"$f":"+Zał.1_WPF_bazowy!U73","v":0},{"$f":"+Zał.1_WPF_bazowy!V73","v":0},{"$f":"+Zał.1_WPF_bazowy!W73","v":0},{"$f":"+Zał.1_WPF_bazowy!X73","v":0},{"$f":"+Zał.1_WPF_bazowy!Y73","v":0},{"$f":"+Zał.1_WPF_bazowy!Z73","v":0},{"$f":"+Zał.1_WPF_bazowy!AA73","v":0},{"$f":"+Zał.1_WPF_bazowy!AB73","v":0},{"$f":"+Zał.1_WPF_bazowy!AC73","v":0},{"$f":"+Zał.1_WPF_bazowy!AD73","v":0},{"$f":"+Zał.1_WPF_bazowy!AE73","v":0},{"$f":"+Zał.1_WPF_bazowy!AF73","v":0},{"$f":"+Zał.1_WPF_bazowy!AG73","v":0},{"$f":"+Zał.1_WPF_bazowy!AH73","v":0},{"$f":"+Zał.1_WPF_bazowy!AI73","v":0},{"$f":"+Zał.1_WPF_bazowy!AJ73","v":0},{"$f":"+Zał.1_WPF_bazowy!AK73","v":0},{"$f":"+Zał.1_WPF_bazowy!AL73","v":0}]
[null,"12.2.1",null,"-  w tym środki określone w art. 5 ust. 1 pkt 2 ustawy",{"$f":"Zał.1_WPF_bazowy!E74","v":936216.81},{"$f":"Zał.1_WPF_bazowy!F74","v":0},{"$f":"Zał.1_WPF_bazowy!G74","v":0},{"$f":"Zał.1_WPF_bazowy!H74","v":0},{"$f":"+Zał.1_WPF_bazowy!I74","v":462622},{"$f":"+Zał.1_WPF_bazowy!J74","v":1272600},{"$f":"+Zał.1_WPF_bazowy!K74","v":0},{"$f":"+Zał.1_WPF_bazowy!L74","v":0},{"$f":"+Zał.1_WPF_bazowy!M74","v":0},{"$f":"+Zał.1_WPF_bazowy!N74","v":0},{"$f":"+Zał.1_WPF_bazowy!O74","v":0},{"$f":"+Zał.1_WPF_bazowy!P74","v":0},{"$f":"+Zał.1_WPF_bazowy!Q74","v":0},{"$f":"+Zał.1_WPF_bazowy!R74","v":0},{"$f":"+Zał.1_WPF_bazowy!S74","v":0},{"$f":"+Zał.1_WPF_bazowy!T74","v":0},{"$f":"+Zał.1_WPF_bazowy!U74","v":0},{"$f":"+Zał.1_WPF_bazowy!V74","v":0},{"$f":"+Zał.1_WPF_bazowy!W74","v":0},{"$f":"+Zał.1_WPF_bazowy!X74","v":0},{"$f":"+Zał.1_WPF_bazowy!Y74","v":0},{"$f":"+Zał.1_WPF_bazowy!Z74","v":0},{"$f":"+Zał.1_WPF_bazowy!AA74","v":0},{"$f":"+Zał.1_WPF_bazowy!AB74","v":0},{"$f":"+Zał.1_WPF_bazowy!AC74","v":0},{"$f":"+Zał.1_WPF_bazowy!AD74","v":0},{"$f":"+Zał.1_WPF_bazowy!AE74","v":0},{"$f":"+Zał.1_WPF_bazowy!AF74","v":0},{"$f":"+Zał.1_WPF_bazowy!AG74","v":0},{"$f":"+Zał.1_WPF_bazowy!AH74","v":0},{"$f":"+Zał.1_WPF_bazowy!AI74","v":0},{"$f":"+Zał.1_WPF_bazowy!AJ74","v":0},{"$f":"+Zał.1_WPF_bazowy!AK74","v":0},{"$f":"+Zał.1_WPF_bazowy!AL74","v":0}]
[null,"12.2.1.1",null,"- w tym środki określone w art. 5 ust. 1 pkt 2 ustawy wynikające wyłącznie z zawartych umów na realizację programu, projektu lub zadania",{"$f":"Zał.1_WPF_bazowy!E75","v":936216.81},{"$f":"Zał.1_WPF_bazowy!F75","v":0},{"$f":"Zał.1_WPF_bazowy!G75","v":0},{"$f":"Zał.1_WPF_bazowy!H75","v":0},{"$f":"+Zał.1_WPF_bazowy!I75","v":0},{"$f":"+Zał.1_WPF_bazowy!J75","v":0},{"$f":"+Zał.1_WPF_bazowy!K75","v":0},{"$f":"+Zał.1_WPF_bazowy!L75","v":0},{"$f":"+Zał.1_WPF_bazowy!M75","v":0},{"$f":"+Zał.1_WPF_bazowy!N75","v":0},{"$f":"+Zał.1_WPF_bazowy!O75","v":0},{"$f":"+Zał.1_WPF_bazowy!P75","v":0},{"$f":"+Zał.1_WPF_bazowy!Q75","v":0},{"$f":"+Zał.1_WPF_bazowy!R75","v":0},{"$f":"+Zał.1_WPF_bazowy!S75","v":0},{"$f":"+Zał.1_WPF_bazowy!T75","v":0},{"$f":"+Zał.1_WPF_bazowy!U75","v":0},{"$f":"+Zał.1_WPF_bazowy!V75","v":0},{"$f":"+Zał.1_WPF_bazowy!W75","v":0},{"$f":"+Zał.1_WPF_bazowy!X75","v":0},{"$f":"+Zał.1_WPF_bazowy!Y75","v":0},{"$f":"+Zał.1_WPF_bazowy!Z75","v":0},{"$f":"+Zał.1_WPF_bazowy!AA75","v":0},{"$f":"+Zał.1_WPF_bazowy!AB75","v":0},{"$f":"+Zał.1_WPF_bazowy!AC75","v":0},{"$f":"+Zał.1_WPF_bazowy!AD75","v":0},{"$f":"+Zał.1_WPF_bazowy!AE75","v":0},{"$f":"+Zał.1_WPF_bazowy!AF75","v":0},{"$f":"+Zał.1_WPF_bazowy!AG75","v":0},{"$f":"+Zał.1_WPF_bazowy!AH75","v":0},{"$f":"+Zał.1_WPF_bazowy!AI75","v":0},{"$f":"+Zał.1_WPF_bazowy!AJ75","v":0},{"$f":"+Zał.1_WPF_bazowy!AK75","v":0},{"$f":"+Zał.1_WPF_bazowy!AL75","v":0}]
[null,"12.3",null,"Wydatki bieżące na programy, projekty lub zadania finansowane z udziałem środków, o których mowa w art. 5 ust. 1 pkt 2 i 3 ustawy",{"$f":"Zał.1_WPF_bazowy!E76","v":363661.35},{"$f":"Zał.1_WPF_bazowy!F76","v":0},{"$f":"Zał.1_WPF_bazowy!G76","v":0},{"$f":"Zał.1_WPF_bazowy!H76","v":0},{"$f":"+Zał.1_WPF_bazowy!I76","v":0},{"$f":"+Zał.1_WPF_bazowy!J76","v":0},{"$f":"+Zał.1_WPF_bazowy!K76","v":0},{"$f":"+Zał.1_WPF_bazowy!L76","v":0},{"$f":"+Zał.1_WPF_bazowy!M76","v":0},{"$f":"+Zał.1_WPF_bazowy!N76","v":0},{"$f":"+Zał.1_WPF_bazowy!O76","v":0},{"$f":"+Zał.1_WPF_bazowy!P76","v":0},{"$f":"+Zał.1_WPF_bazowy!Q76","v":0},{"$f":"+Zał.1_WPF_bazowy!R76","v":0},{"$f":"+Zał.1_WPF_bazowy!S76","v":0},{"$f":"+Zał.1_WPF_bazowy!T76","v":0},{"$f":"+Zał.1_WPF_bazowy!U76","v":0},{"$f":"+Zał.1_WPF_bazowy!V76","v":0},{"$f":"+Zał.1_WPF_bazowy!W76","v":0},{"$f":"+Zał.1_WPF_bazowy!X76","v":0},{"$f":"+Zał.1_WPF_bazowy!Y76","v":0},{"$f":"+Zał.1_WPF_bazowy!Z76","v":0},{"$f":"+Zał.1_WPF_bazowy!AA76","v":0},{"$f":"+Zał.1_WPF_bazowy!AB76","v":0},{"$f":"+Zał.1_WPF_bazowy!AC76","v":0},{"$f":"+Zał.1_WPF_bazowy!AD76","v":0},{"$f":"+Zał.1_WPF_bazowy!AE76","v":0},{"$f":"+Zał.1_WPF_bazowy!AF76","v":0},{"$f":"+Zał.1_WPF_bazowy!AG76","v":0},{"$f":"+Zał.1_WPF_bazowy!AH76","v":0},{"$f":"+Zał.1_WPF_bazowy!AI76","v":0},{"$f":"+Zał.1_WPF_bazowy!AJ76","v":0},{"$f":"+Zał.1_WPF_bazowy!AK76","v":0},{"$f":"+Zał.1_WPF_bazowy!AL76","v":0}]
[null,"12.3.1",null,"-  w tym finansowane środkami określonymi w art. 5 ust. 1 pkt 2 ustawy ",{"$f":"Zał.1_WPF_bazowy!E77","v":293435.14},{"$f":"Zał.1_WPF_bazowy!F77","v":0},{"$f":"Zał.1_WPF_bazowy!G77","v":0},{"$f":"Zał.1_WPF_bazowy!H77","v":0},{"$f":"+Zał.1_WPF_bazowy!I77","v":0},{"$f":"+Zał.1_WPF_bazowy!J77","v":0},{"$f":"+Zał.1_WPF_bazowy!K77","v":0},{"$f":"+Zał.1_WPF_bazowy!L77","v":0},{"$f":"+Zał.1_WPF_bazowy!M77","v":0},{"$f":"+Zał.1_WPF_bazowy!N77","v":0},{"$f":"+Zał.1_WPF_bazowy!O77","v":0},{"$f":"+Zał.1_WPF_bazowy!P77","v":0},{"$f":"+Zał.1_WPF_bazowy!Q77","v":0},{"$f":"+Zał.1_WPF_bazowy!R77","v":0},{"$f":"+Zał.1_WPF_bazowy!S77","v":0},{"$f":"+Zał.1_WPF_bazowy!T77","v":0},{"$f":"+Zał.1_WPF_bazowy!U77","v":0},{"$f":"+Zał.1_WPF_bazowy!V77","v":0},{"$f":"+Zał.1_WPF_bazowy!W77","v":0},{"$f":"+Zał.1_WPF_bazowy!X77","v":0},{"$f":"+Zał.1_WPF_bazowy!Y77","v":0},{"$f":"+Zał.1_WPF_bazowy!Z77","v":0},{"$f":"+Zał.1_WPF_bazowy!AA77","v":0},{"$f":"+Zał.1_WPF_bazowy!AB77","v":0},{"$f":"+Zał.1_WPF_bazowy!AC77","v":0},{"$f":"+Zał.1_WPF_bazowy!AD77","v":0},{"$f":"+Zał.1_WPF_bazowy!AE77","v":0},{"$f":"+Zał.1_WPF_bazowy!AF77","v":0},{"$f":"+Zał.1_WPF_bazowy!AG77","v":0},{"$f":"+Zał.1_WPF_bazowy!AH77","v":0},{"$f":"+Zał.1_WPF_bazowy!AI77","v":0},{"$f":"+Zał.1_WPF_bazowy!AJ77","v":0},{"$f":"+Zał.1_WPF_bazowy!AK77","v":0},{"$f":"+Zał.1_WPF_bazowy!AL77","v":0}]
[null,"12.3.2",null,"Wydatki bieżące na realizację programu, projektu lub zadania wynikające wyłącznie z zawartych umów z podmiotem dysponującym środkami, o których mowa w art. 5 ust. 1 pkt 2 ustawy ",{"$f":"Zał.1_WPF_bazowy!E78","v":363661.35},{"$f":"Zał.1_WPF_bazowy!F78","v":0},{"$f":"Zał.1_WPF_bazowy!G78","v":0},{"$f":"Zał.1_WPF_bazowy!H78","v":0},{"$f":"+Zał.1_WPF_bazowy!I78","v":0},{"$f":"+Zał.1_WPF_bazowy!J78","v":0},{"$f":"+Zał.1_WPF_bazowy!K78","v":0},{"$f":"+Zał.1_WPF_bazowy!L78","v":0},{"$f":"+Zał.1_WPF_bazowy!M78","v":0},{"$f":"+Zał.1_WPF_bazowy!N78","v":0},{"$f":"+Zał.1_WPF_bazowy!O78","v":0},{"$f":"+Zał.1_WPF_bazowy!P78","v":0},{"$f":"+Zał.1_WPF_bazowy!Q78","v":0},{"$f":"+Zał.1_WPF_bazowy!R78","v":0},{"$f":"+Zał.1_WPF_bazowy!S78","v":0},{"$f":"+Zał.1_WPF_bazowy!T78","v":0},{"$f":"+Zał.1_WPF_bazowy!U78","v":0},{"$f":"+Zał.1_WPF_bazowy!V78","v":0},{"$f":"+Zał.1_WPF_bazowy!W78","v":0},{"$f":"+Zał.1_WPF_bazowy!X78","v":0},{"$f":"+Zał.1_WPF_bazowy!Y78","v":0},{"$f":"+Zał.1_WPF_bazowy!Z78","v":0},{"$f":"+Zał.1_WPF_bazowy!AA78","v":0},{"$f":"+Zał.1_WPF_bazowy!AB78","v":0},{"$f":"+Zał.1_WPF_bazowy!AC78","v":0},{"$f":"+Zał.1_WPF_bazowy!AD78","v":0},{"$f":"+Zał.1_WPF_bazowy!AE78","v":0},{"$f":"+Zał.1_WPF_bazowy!AF78","v":0},{"$f":"+Zał.1_WPF_bazowy!AG78","v":0},{"$f":"+Zał.1_WPF_bazowy!AH78","v":0},{"$f":"+Zał.1_WPF_bazowy!AI78","v":0},{"$f":"+Zał.1_WPF_bazowy!AJ78","v":0},{"$f":"+Zał.1_WPF_bazowy!AK78","v":0},{"$f":"+Zał.1_WPF_bazowy!AL78","v":0}]
[null,"12.4",null,"Wydatki majątkowe na programy, projekty lub zadania finansowane z udziałem środków, o których mowa w art. 5 ust. 1 pkt 2 i 3 ustawy",{"$f":"Zał.1_WPF_bazowy!E79","v":847834.76},{"$f":"Zał.1_WPF_bazowy!F79","v":0},{"$f":"Zał.1_WPF_bazowy!G79","v":0},{"$f":"Zał.1_WPF_bazowy!H79","v":0},{"$f":"+Zał.1_WPF_bazowy!I79","v":727050},{"$f":"+Zał.1_WPF_bazowy!J79","v":2000000},{"$f":"+Zał.1_WPF_bazowy!K79","v":0},{"$f":"+Zał.1_WPF_bazowy!L79","v":0},{"$f":"+Zał.1_WPF_bazowy!M79","v":0},{"$f":"+Zał.1_WPF_bazowy!N79","v":0},{"$f":"+Zał.1_WPF_bazowy!O79","v":0},{"$f":"+Zał.1_WPF_bazowy!P79","v":0},{"$f":"+Zał.1_WPF_bazowy!Q79","v":0},{"$f":"+Zał.1_WPF_bazowy!R79","v":0},{"$f":"+Zał.1_WPF_bazowy!S79","v":0},{"$f":"+Zał.1_WPF_bazowy!T79","v":0},{"$f":"+Zał.1_WPF_bazowy!U79","v":0},{"$f":"+Zał.1_WPF_bazowy!V79","v":0},{"$f":"+Zał.1_WPF_bazowy!W79","v":0},{"$f":"+Zał.1_WPF_bazowy!X79","v":0},{"$f":"+Zał.1_WPF_bazowy!Y79","v":0},{"$f":"+Zał.1_WPF_bazowy!Z79","v":0},{"$f":"+Zał.1_WPF_bazowy!AA79","v":0},{"$f":"+Zał.1_WPF_bazowy!AB79","v":0},{"$f":"+Zał.1_WPF_bazowy!AC79","v":0},{"$f":"+Zał.1_WPF_bazowy!AD79","v":0},{"$f":"+Zał.1_WPF_bazowy!AE79","v":0},{"$f":"+Zał.1_WPF_bazowy!AF79","v":0},{"$f":"+Zał.1_WPF_bazowy!AG79","v":0},{"$f":"+Zał.1_WPF_bazowy!AH79","v":0},{"$f":"+Zał.1_WPF_bazowy!AI79","v":0},{"$f":"+Zał.1_WPF_bazowy!AJ79","v":0},{"$f":"+Zał.1_WPF_bazowy!AK79","v":0},{"$f":"+Zał.1_WPF_bazowy!AL79","v":0}]
[null,"12.4.1",null,"-  w tym finansowane środkami określonymi w art. 5 ust. 1 pkt 2 ustawy",{"$f":"Zał.1_WPF_bazowy!E80","v":545174.4},{"$f":"Zał.1_WPF_bazowy!F80","v":0},{"$f":"Zał.1_WPF_bazowy!G80","v":0},{"$f":"Zał.1_WPF_bazowy!H80","v":0},{"$f":"+Zał.1_WPF_bazowy!I80","v":462622},{"$f":"+Zał.1_WPF_bazowy!J80","v":1272600},{"$f":"+Zał.1_WPF_bazowy!K80","v":0},{"$f":"+Zał.1_WPF_bazowy!L80","v":0},{"$f":"+Zał.1_WPF_bazowy!M80","v":0},{"$f":"+Zał.1_WPF_bazowy!N80","v":0},{"$f":"+Zał.1_WPF_bazowy!O80","v":0},{"$f":"+Zał.1_WPF_bazowy!P80","v":0},{"$f":"+Zał.1_WPF_bazowy!Q80","v":0},{"$f":"+Zał.1_WPF_bazowy!R80","v":0},{"$f":"+Zał.1_WPF_bazowy!S80","v":0},{"$f":"+Zał.1_WPF_bazowy!T80","v":0},{"$f":"+Zał.1_WPF_bazowy!U80","v":0},{"$f":"+Zał.1_WPF_bazowy!V80","v":0},{"$f":"+Zał.1_WPF_bazowy!W80","v":0},{"$f":"+Zał.1_WPF_bazowy!X80","v":0},{"$f":"+Zał.1_WPF_bazowy!Y80","v":0},{"$f":"+Zał.1_WPF_bazowy!Z80","v":0},{"$f":"+Zał.1_WPF_bazowy!AA80","v":0},{"$f":"+Zał.1_WPF_bazowy!AB80","v":0},{"$f":"+Zał.1_WPF_bazowy!AC80","v":0},{"$f":"+Zał.1_WPF_bazowy!AD80","v":0},{"$f":"+Zał.1_WPF_bazowy!AE80","v":0},{"$f":"+Zał.1_WPF_bazowy!AF80","v":0},{"$f":"+Zał.1_WPF_bazowy!AG80","v":0},{"$f":"+Zał.1_WPF_bazowy!AH80","v":0},{"$f":"+Zał.1_WPF_bazowy!AI80","v":0},{"$f":"+Zał.1_WPF_bazowy!AJ80","v":0},{"$f":"+Zał.1_WPF_bazowy!AK80","v":0},{"$f":"+Zał.1_WPF_bazowy!AL80","v":0}]
[null,"12.4.2",null,"Wydatki majątkowe na realizację programu, projektu lub zadania wynikające wyłącznie z zawartych umów z podmiotem dysponującym środkami, o których mowa w art. 5 ust. 1 pkt 2 ustawy ",{"$f":"Zał.1_WPF_bazowy!E81","v":847834.76},{"$f":"Zał.1_WPF_bazowy!F81","v":0},{"$f":"Zał.1_WPF_bazowy!G81","v":0},{"$f":"Zał.1_WPF_bazowy!H81","v":0},{"$f":"+Zał.1_WPF_bazowy!I81","v":0},{"$f":"+Zał.1_WPF_bazowy!J81","v":0},{"$f":"+Zał.1_WPF_bazowy!K81","v":0},{"$f":"+Zał.1_WPF_bazowy!L81","v":0},{"$f":"+Zał.1_WPF_bazowy!M81","v":0},{"$f":"+Zał.1_WPF_bazowy!N81","v":0},{"$f":"+Zał.1_WPF_bazowy!O81","v":0},{"$f":"+Zał.1_WPF_bazowy!P81","v":0},{"$f":"+Zał.1_WPF_bazowy!Q81","v":0},{"$f":"+Zał.1_WPF_bazowy!R81","v":0},{"$f":"+Zał.1_WPF_bazowy!S81","v":0},{"$f":"+Zał.1_WPF_bazowy!T81","v":0},{"$f":"+Zał.1_WPF_bazowy!U81","v":0},{"$f":"+Zał.1_WPF_bazowy!V81","v":0},{"$f":"+Zał.1_WPF_bazowy!W81","v":0},{"$f":"+Zał.1_WPF_bazowy!X81","v":0},{"$f":"+Zał.1_WPF_bazowy!Y81","v":0},{"$f":"+Zał.1_WPF_bazowy!Z81","v":0},{"$f":"+Zał.1_WPF_bazowy!AA81","v":0},{"$f":"+Zał.1_WPF_bazowy!AB81","v":0},{"$f":"+Zał.1_WPF_bazowy!AC81","v":0},{"$f":"+Zał.1_WPF_bazowy!AD81","v":0},{"$f":"+Zał.1_WPF_bazowy!AE81","v":0},{"$f":"+Zał.1_WPF_bazowy!AF81","v":0},{"$f":"+Zał.1_WPF_bazowy!AG81","v":0},{"$f":"+Zał.1_WPF_bazowy!AH81","v":0},{"$f":"+Zał.1_WPF_bazowy!AI81","v":0},{"$f":"+Zał.1_WPF_bazowy!AJ81","v":0},{"$f":"+Zał.1_WPF_bazowy!AK81","v":0},{"$f":"+Zał.1_WPF_bazowy!AL81","v":0}]
[null,"12.5",null,"Wydatki na wkład krajowy w związku z umową na realizację programu, projektu lub zadania finansowanego z udziałem środków, o których mowa w art. 5 ust. 1 pkt 2 ustawy bez względu na stopień finansowania tymi środkami ",{"$f":"Zał.1_WPF_bazowy!E82","v":0},{"$f":"Zał.1_WPF_bazowy!F82","v":0},{"$f":"Zał.1_WPF_bazowy!G82","v":0},{"$f":"Zał.1_WPF_bazowy!H82","v":0},{"$f":"+Zał.1_WPF_bazowy!I82","v":264428},{"$f":"+Zał.1_WPF_bazowy!J82","v":727400},{"$f":"+Zał.1_WPF_bazowy!K82","v":0},{"$f":"+Zał.1_WPF_bazowy!L82","v":0},{"$f":"+Zał.1_WPF_bazowy!M82","v":0},{"$f":"+Zał.1_WPF_bazowy!N82","v":0},{"$f":"+Zał.1_WPF_bazowy!O82","v":0},{"$f":"+Zał.1_WPF_bazowy!P82","v":0},{"$f":"+Zał.1_WPF_bazowy!Q82","v":0},{"$f":"+Zał.1_WPF_bazowy!R82","v":0},{"$f":"+Zał.1_WPF_bazowy!S82","v":0},{"$f":"+Zał.1_WPF_bazowy!T82","v":0},{"$f":"+Zał.1_WPF_bazowy!U82","v":0},{"$f":"+Zał.1_WPF_bazowy!V82","v":0},{"$f":"+Zał.1_WPF_bazowy!W82","v":0},{"$f":"+Zał.1_WPF_bazowy!X82","v":0},{"$f":"+Zał.1_WPF_bazowy!Y82","v":0},{"$f":"+Zał.1_WPF_bazowy!Z82","v":0},{"$f":"+Zał.1_WPF_bazowy!AA82","v":0},{"$f":"+Zał.1_WPF_bazowy!AB82","v":0},{"$f":"+Zał.1_WPF_bazowy!AC82","v":0},{"$f":"+Zał.1_WPF_bazowy!AD82","v":0},{"$f":"+Zał.1_WPF_bazowy!AE82","v":0},{"$f":"+Zał.1_WPF_bazowy!AF82","v":0},{"$f":"+Zał.1_WPF_bazowy!AG82","v":0},{"$f":"+Zał.1_WPF_bazowy!AH82","v":0},{"$f":"+Zał.1_WPF_bazowy!AI82","v":0},{"$f":"+Zał.1_WPF_bazowy!AJ82","v":0},{"$f":"+Zał.1_WPF_bazowy!AK82","v":0},{"$f":"+Zał.1_WPF_bazowy!AL82","v":0}]
[null,"12.5.1",null,"w tym w związku z już zawartą umową na realizację programu, projektu lub zadania",{"$f":"Zał.1_WPF_bazowy!E83","v":0},{"$f":"Zał.1_WPF_bazowy!F83","v":0},{"$f":"Zał.1_WPF_bazowy!G83","v":0},{"$f":"Zał.1_WPF_bazowy!H83","v":0},{"$f":"+Zał.1_WPF_bazowy!I83","v":0},{"$f":"+Zał.1_WPF_bazowy!J83","v":0},{"$f":"+Zał.1_WPF_bazowy!K83","v":0},{"$f":"+Zał.1_WPF_bazowy!L83","v":0},{"$f":"+Zał.1_WPF_bazowy!M83","v":0},{"$f":"+Zał.1_WPF_bazowy!N83","v":0},{"$f":"+Zał.1_WPF_bazowy!O83","v":0},{"$f":"+Zał.1_WPF_bazowy!P83","v":0},{"$f":"+Zał.1_WPF_bazowy!Q83","v":0},{"$f":"+Zał.1_WPF_bazowy!R83","v":0},{"$f":"+Zał.1_WPF_bazowy!S83","v":0},{"$f":"+Zał.1_WPF_bazowy!T83","v":0},{"$f":"+Zał.1_WPF_bazowy!U83","v":0},{"$f":"+Zał.1_WPF_bazowy!V83","v":0},{"$f":"+Zał.1_WPF_bazowy!W83","v":0},{"$f":"+Zał.1_WPF_bazowy!X83","v":0},{"$f":"+Zał.1_WPF_bazowy!Y83","v":0},{"$f":"+Zał.1_WPF_bazowy!Z83","v":0},{"$f":"+Zał.1_WPF_bazowy!AA83","v":0},{"$f":"+Zał.1_WPF_bazowy!AB83","v":0},{"$f":"+Zał.1_WPF_bazowy!AC83","v":0},{"$f":"+Zał.1_WPF_bazowy!AD83","v":0},{"$f":"+Zał.1_WPF_bazowy!AE83","v":0},{"$f":"+Zał.1_WPF_bazowy!AF83","v":0},{"$f":"+Zał.1_WPF_bazowy!AG83","v":0},{"$f":"+Zał.1_WPF_bazowy!AH83","v":0},{"$f":"+Zał.1_WPF_bazowy!AI83","v":0},{"$f":"+Zał.1_WPF_bazowy!AJ83","v":0},{"$f":"+Zał.1_WPF_bazowy!AK83","v":0},{"$f":"+Zał.1_WPF_bazowy!AL83","v":0}]
[null,"12.6",null,"Wydatki na wkład krajowy w związku z zawartą po dniu 1 stycznia 2013 r. umową na realizację programu, projektu lub zadania finansowanego w co najmniej 60% środkami, o których mowa w art. 5 ust. 1 pkt 2 ustawy",{"$f":"Zał.1_WPF_bazowy!E84","v":0},{"$f":"Zał.1_WPF_bazowy!F84","v":0},{"$f":"Zał.1_WPF_bazowy!G84","v":0},{"$f":"Zał.1_WPF_bazowy!H84","v":0},{"$f":"+Zał.1_WPF_bazowy!I84","v":264428},{"$f":"+Zał.1_WPF_bazowy!J84","v":727400},{"$f":"+Zał.1_WPF_bazowy!K84","v":0},{"$f":"+Zał.1_WPF_bazowy!L84","v":0},{"$f":"+Zał.1_WPF_bazowy!M84","v":0},{"$f":"+Zał.1_WPF_bazowy!N84","v":0},{"$f":"+Zał.1_WPF_bazowy!O84","v":0},{"$f":"+Zał.1_WPF_bazowy!P84","v":0},{"$f":"+Zał.1_WPF_bazowy!Q84","v":0},{"$f":"+Zał.1_WPF_bazowy!R84","v":0},{"$f":"+Zał.1_WPF_bazowy!S84","v":0},{"$f":"+Zał.1_WPF_bazowy!T84","v":0},{"$f":"+Zał.1_WPF_bazowy!U84","v":0},{"$f":"+Zał.1_WPF_bazowy!V84","v":0},{"$f":"+Zał.1_WPF_bazowy!W84","v":0},{"$f":"+Zał.1_WPF_bazowy!X84","v":0},{"$f":"+Zał.1_WPF_bazowy!Y84","v":0},{"$f":"+Zał.1_WPF_bazowy!Z84","v":0},{"$f":"+Zał.1_WPF_bazowy!AA84","v":0},{"$f":"+Zał.1_WPF_bazowy!AB84","v":0},{"$f":"+Zał.1_WPF_bazowy!AC84","v":0},{"$f":"+Zał.1_WPF_bazowy!AD84","v":0},{"$f":"+Zał.1_WPF_bazowy!AE84","v":0},{"$f":"+Zał.1_WPF_bazowy!AF84","v":0},{"$f":"+Zał.1_WPF_bazowy!AG84","v":0},{"$f":"+Zał.1_WPF_bazowy!AH84","v":0},{"$f":"+Zał.1_WPF_bazowy!AI84","v":0},{"$f":"+Zał.1_WPF_bazowy!AJ84","v":0},{"$f":"+Zał.1_WPF_bazowy!AK84","v":0},{"$f":"+Zał.1_WPF_bazowy!AL84","v":0}]
[null,"12.6.1",null,"w tym w związku z już zawartą umową na realizację programu, projektu lub zadania",{"$f":"Zał.1_WPF_bazowy!E85","v":0},{"$f":"Zał.1_WPF_bazowy!F85","v":0},{"$f":"Zał.1_WPF_bazowy!G85","v":0},{"$f":"Zał.1_WPF_bazowy!H85","v":0},{"$f":"+Zał.1_WPF_bazowy!I85","v":0},{"$f":"+Zał.1_WPF_bazowy!J85","v":0},{"$f":"+Zał.1_WPF_bazowy!K85","v":0},{"$f":"+Zał.1_WPF_bazowy!L85","v":0},{"$f":"+Zał.1_WPF_bazowy!M85","v":0},{"$f":"+Zał.1_WPF_bazowy!N85","v":0},{"$f":"+Zał.1_WPF_bazowy!O85","v":0},{"$f":"+Zał.1_WPF_bazowy!P85","v":0},{"$f":"+Zał.1_WPF_bazowy!Q85","v":0},{"$f":"+Zał.1_WPF_bazowy!R85","v":0},{"$f":"+Zał.1_WPF_bazowy!S85","v":0},{"$f":"+Zał.1_WPF_bazowy!T85","v":0},{"$f":"+Zał.1_WPF_bazowy!U85","v":0},{"$f":"+Zał.1_WPF_bazowy!V85","v":0},{"$f":"+Zał.1_WPF_bazowy!W85","v":0},{"$f":"+Zał.1_WPF_bazowy!X85","v":0},{"$f":"+Zał.1_WPF_bazowy!Y85","v":0},{"$f":"+Zał.1_WPF_bazowy!Z85","v":0},{"$f":"+Zał.1_WPF_bazowy!AA85","v":0},{"$f":"+Zał.1_WPF_bazowy!AB85","v":0},{"$f":"+Zał.1_WPF_bazowy!AC85","v":0},{"$f":"+Zał.1_WPF_bazowy!AD85","v":0},{"$f":"+Zał.1_WPF_bazowy!AE85","v":0},{"$f":"+Zał.1_WPF_bazowy!AF85","v":0},{"$f":"+Zał.1_WPF_bazowy!AG85","v":0},{"$f":"+Zał.1_WPF_bazowy!AH85","v":0},{"$f":"+Zał.1_WPF_bazowy!AI85","v":0},{"$f":"+Zał.1_WPF_bazowy!AJ85","v":0},{"$f":"+Zał.1_WPF_bazowy!AK85","v":0},{"$f":"+Zał.1_WPF_bazowy!AL85","v":0}]
[null,"12.7",null,"Przychody z tytułu kredytów, pożyczek, emisji papierów wartościowych powstające w związku z umową na realizację programu, projektu lub zadania finansowanego z udziałem środków, o których mowa w art. 5 ust. 1 pkt 2 ustawy bez względu na stopień finansowania tymi środkami ",{"$f":"Zał.1_WPF_bazowy!E86","v":0},{"$f":"Zał.1_WPF_bazowy!F86","v":0},{"$f":"Zał.1_WPF_bazowy!G86","v":0},{"$f":"Zał.1_WPF_bazowy!H86","v":0},{"$f":"+Zał.1_WPF_bazowy!I86","v":0},{"$f":"+Zał.1_WPF_bazowy!J86","v":0},{"$f":"+Zał.1_WPF_bazowy!K86","v":0},{"$f":"+Zał.1_WPF_bazowy!L86","v":0},{"$f":"+Zał.1_WPF_bazowy!M86","v":0},{"$f":"+Zał.1_WPF_bazowy!N86","v":0},{"$f":"+Zał.1_WPF_bazowy!O86","v":0},{"$f":"+Zał.1_WPF_bazowy!P86","v":0},{"$f":"+Zał.1_WPF_bazowy!Q86","v":0},{"$f":"+Zał.1_WPF_bazowy!R86","v":0},{"$f":"+Zał.1_WPF_bazowy!S86","v":0},{"$f":"+Zał.1_WPF_bazowy!T86","v":0},{"$f":"+Zał.1_WPF_bazowy!U86","v":0},{"$f":"+Zał.1_WPF_bazowy!V86","v":0},{"$f":"+Zał.1_WPF_bazowy!W86","v":0},{"$f":"+Zał.1_WPF_bazowy!X86","v":0},{"$f":"+Zał.1_WPF_bazowy!Y86","v":0},{"$f":"+Zał.1_WPF_bazowy!Z86","v":0},{"$f":"+Zał.1_WPF_bazowy!AA86","v":0},{"$f":"+Zał.1_WPF_bazowy!AB86","v":0},{"$f":"+Zał.1_WPF_bazowy!AC86","v":0},{"$f":"+Zał.1_WPF_bazowy!AD86","v":0},{"$f":"+Zał.1_WPF_bazowy!AE86","v":0},{"$f":"+Zał.1_WPF_bazowy!AF86","v":0},{"$f":"+Zał.1_WPF_bazowy!AG86","v":0},{"$f":"+Zał.1_WPF_bazowy!AH86","v":0},{"$f":"+Zał.1_WPF_bazowy!AI86","v":0},{"$f":"+Zał.1_WPF_bazowy!AJ86","v":0},{"$f":"+Zał.1_WPF_bazowy!AK86","v":0},{"$f":"+Zał.1_WPF_bazowy!AL86","v":0}]
[null,"12.7.1",null,"w tym w związku z już zawartą umową na realizację programu, projektu lub zadania",{"$f":"Zał.1_WPF_bazowy!E87","v":0},{"$f":"Zał.1_WPF_bazowy!F87","v":0},{"$f":"Zał.1_WPF_bazowy!G87","v":0},{"$f":"Zał.1_WPF_bazowy!H87","v":0},{"$f":"+Zał.1_WPF_bazowy!I87","v":0},{"$f":"+Zał.1_WPF_bazowy!J87","v":0},{"$f":"+Zał.1_WPF_bazowy!K87","v":0},{"$f":"+Zał.1_WPF_bazowy!L87","v":0},{"$f":"+Zał.1_WPF_bazowy!M87","v":0},{"$f":"+Zał.1_WPF_bazowy!N87","v":0},{"$f":"+Zał.1_WPF_bazowy!O87","v":0},{"$f":"+Zał.1_WPF_bazowy!P87","v":0},{"$f":"+Zał.1_WPF_bazowy!Q87","v":0},{"$f":"+Zał.1_WPF_bazowy!R87","v":0},{"$f":"+Zał.1_WPF_bazowy!S87","v":0},{"$f":"+Zał.1_WPF_bazowy!T87","v":0},{"$f":"+Zał.1_WPF_bazowy!U87","v":0},{"$f":"+Zał.1_WPF_bazowy!V87","v":0},{"$f":"+Zał.1_WPF_bazowy!W87","v":0},{"$f":"+Zał.1_WPF_bazowy!X87","v":0},{"$f":"+Zał.1_WPF_bazowy!Y87","v":0},{"$f":"+Zał.1_WPF_bazowy!Z87","v":0},{"$f":"+Zał.1_WPF_bazowy!AA87","v":0},{"$f":"+Zał.1_WPF_bazowy!AB87","v":0},{"$f":"+Zał.1_WPF_bazowy!AC87","v":0},{"$f":"+Zał.1_WPF_bazowy!AD87","v":0},{"$f":"+Zał.1_WPF_bazowy!AE87","v":0},{"$f":"+Zał.1_WPF_bazowy!AF87","v":0},{"$f":"+Zał.1_WPF_bazowy!AG87","v":0},{"$f":"+Zał.1_WPF_bazowy!AH87","v":0},{"$f":"+Zał.1_WPF_bazowy!AI87","v":0},{"$f":"+Zał.1_WPF_bazowy!AJ87","v":0},{"$f":"+Zał.1_WPF_bazowy!AK87","v":0},{"$f":"+Zał.1_WPF_bazowy!AL87","v":0}]
[null,"12.8",null,"Przychody z tytułu kredytów, pożyczek, emisji papierów wartościowych powstające w związku z zawartą po dniu 1 stycznia 2013 r. umową na realizację programu, projektu lub zadania finansowanego w co najmniej 60% środkami, o których mowa w art. 5 ust. 1 pkt 2 ustawy",{"$f":"Zał.1_WPF_bazowy!E88","v":0},{"$f":"Zał.1_WPF_bazowy!F88","v":0},{"$f":"Zał.1_WPF_bazowy!G88","v":0},{"$f":"Zał.1_WPF_bazowy!H88","v":0},{"$f":"+Zał.1_WPF_bazowy!I88","v":0},{"$f":"+Zał.1_WPF_bazowy!J88","v":0},{"$f":"+Zał.1_WPF_bazowy!K88","v":0},{"$f":"+Zał.1_WPF_bazowy!L88","v":0},{"$f":"+Zał.1_WPF_bazowy!M88","v":0},{"$f":"+Zał.1_WPF_bazowy!N88","v":0},{"$f":"+Zał.1_WPF_bazowy!O88","v":0},{"$f":"+Zał.1_WPF_bazowy!P88","v":0},{"$f":"+Zał.1_WPF_bazowy!Q88","v":0},{"$f":"+Zał.1_WPF_bazowy!R88","v":0},{"$f":"+Zał.1_WPF_bazowy!S88","v":0},{"$f":"+Zał.1_WPF_bazowy!T88","v":0},{"$f":"+Zał.1_WPF_bazowy!U88","v":0},{"$f":"+Zał.1_WPF_bazowy!V88","v":0},{"$f":"+Zał.1_WPF_bazowy!W88","v":0},{"$f":"+Zał.1_WPF_bazowy!X88","v":0},{"$f":"+Zał.1_WPF_bazowy!Y88","v":0},{"$f":"+Zał.1_WPF_bazowy!Z88","v":0},{"$f":"+Zał.1_WPF_bazowy!AA88","v":0},{"$f":"+Zał.1_WPF_bazowy!AB88","v":0},{"$f":"+Zał.1_WPF_bazowy!AC88","v":0},{"$f":"+Zał.1_WPF_bazowy!AD88","v":0},{"$f":"+Zał.1_WPF_bazowy!AE88","v":0},{"$f":"+Zał.1_WPF_bazowy!AF88","v":0},{"$f":"+Zał.1_WPF_bazowy!AG88","v":0},{"$f":"+Zał.1_WPF_bazowy!AH88","v":0},{"$f":"+Zał.1_WPF_bazowy!AI88","v":0},{"$f":"+Zał.1_WPF_bazowy!AJ88","v":0},{"$f":"+Zał.1_WPF_bazowy!AK88","v":0},{"$f":"+Zał.1_WPF_bazowy!AL88","v":0}]
[null,"12.8.1",null,"w tym w związku z już zawartą umową na realizację programu, projektu lub zadania",{"$f":"Zał.1_WPF_bazowy!E89","v":0},{"$f":"Zał.1_WPF_bazowy!F89","v":0},{"$f":"Zał.1_WPF_bazowy!G89","v":0},{"$f":"Zał.1_WPF_bazowy!H89","v":0},{"$f":"+Zał.1_WPF_bazowy!I89","v":0},{"$f":"+Zał.1_WPF_bazowy!J89","v":0},{"$f":"+Zał.1_WPF_bazowy!K89","v":0},{"$f":"+Zał.1_WPF_bazowy!L89","v":0},{"$f":"+Zał.1_WPF_bazowy!M89","v":0},{"$f":"+Zał.1_WPF_bazowy!N89","v":0},{"$f":"+Zał.1_WPF_bazowy!O89","v":0},{"$f":"+Zał.1_WPF_bazowy!P89","v":0},{"$f":"+Zał.1_WPF_bazowy!Q89","v":0},{"$f":"+Zał.1_WPF_bazowy!R89","v":0},{"$f":"+Zał.1_WPF_bazowy!S89","v":0},{"$f":"+Zał.1_WPF_bazowy!T89","v":0},{"$f":"+Zał.1_WPF_bazowy!U89","v":0},{"$f":"+Zał.1_WPF_bazowy!V89","v":0},{"$f":"+Zał.1_WPF_bazowy!W89","v":0},{"$f":"+Zał.1_WPF_bazowy!X89","v":0},{"$f":"+Zał.1_WPF_bazowy!Y89","v":0},{"$f":"+Zał.1_WPF_bazowy!Z89","v":0},{"$f":"+Zał.1_WPF_bazowy!AA89","v":0},{"$f":"+Zał.1_WPF_bazowy!AB89","v":0},{"$f":"+Zał.1_WPF_bazowy!AC89","v":0},{"$f":"+Zał.1_WPF_bazowy!AD89","v":0},{"$f":"+Zał.1_WPF_bazowy!AE89","v":0},{"$f":"+Zał.1_WPF_bazowy!AF89","v":0},{"$f":"+Zał.1_WPF_bazowy!AG89","v":0},{"$f":"+Zał.1_WPF_bazowy!AH89","v":0},{"$f":"+Zał.1_WPF_bazowy!AI89","v":0},{"$f":"+Zał.1_WPF_bazowy!AJ89","v":0},{"$f":"+Zał.1_WPF_bazowy!AK89","v":0},{"$f":"+Zał.1_WPF_bazowy!AL89","v":0}]
[null,13,null,"Kwoty dotyczące przejęcia i spłaty zobowiązań po samodzielnych publicznych zakładach opieki zdrowotnej oraz pokrycia ujemnego wyniku ","x","x","x","x","x","x","x","x","x","x","x","x","x","x","x","x","x","x","x","x","x","x","x","x","x","x","x","x","x","x","x","x","x","x"]
[null,"13.1",null,"Kwota zobowiązań wynikających z przejęcia przez jednostkę samorządu terytorialnego zobowiązań po likwidowanych i przekształcanych samodzielnych zakładach opieki zdrowotnej",{"$f":"Zał.1_WPF_bazowy!E91","v":0},{"$f":"Zał.1_WPF_bazowy!F91","v":0},{"$f":"Zał.1_WPF_bazowy!G91","v":0},{"$f":"Zał.1_WPF_bazowy!H91","v":0},{"$f":"+IF(I10<>0,H96-(I98+I99+I100+I101),0)","v":0},0,0,0,0,0,0,0,0,0,0,0,0,0,0,0,0,0,0,0,0,0,0,0,0,0,0,0,0,0]
[null,"13.2",null,"Dochody budżetowe z tytułu dotacji celowej z budżetu państwa, o której mowa w art. 196 ustawy z  dnia 15 kwietnia 2011 r.  o działalności leczniczej (Dz.U. Nr 112, poz. 654, z późn. zm.)",{"$f":"Zał.1_WPF_bazowy!E92","v":0},{"$f":"Zał.1_WPF_bazowy!F92","v":0},{"$f":"Zał.1_WPF_bazowy!G92","v":0},{"$f":"Zał.1_WPF_bazowy!H92","v":0},{"$f":"+Zał.1_WPF_bazowy!I92","v":0},{"$f":"+Zał.1_WPF_bazowy!J92","v":0},{"$f":"+Zał.1_WPF_bazowy!K92","v":0},{"$f":"+Zał.1_WPF_bazowy!L92","v":0},{"$f":"+Zał.1_WPF_bazowy!M92","v":0},{"$f":"+Zał.1_WPF_bazowy!N92","v":0},{"$f":"+Zał.1_WPF_bazowy!O92","v":0},{"$f":"+Zał.1_WPF_bazowy!P92","v":0},{"$f":"+Zał.1_WPF_bazowy!Q92","v":0},{"$f":"+Zał.1_WPF_bazowy!R92","v":0},{"$f":"+Zał.1_WPF_bazowy!S92","v":0},{"$f":"+Zał.1_WPF_bazowy!T92","v":0},{"$f":"+Zał.1_WPF_bazowy!U92","v":0},{"$f":"+Zał.1_WPF_bazowy!V92","v":0},{"$f":"+Zał.1_WPF_bazowy!W92","v":0},{"$f":"+Zał.1_WPF_bazowy!X92","v":0},{"$f":"+Zał.1_WPF_bazowy!Y92","v":0},{"$f":"+Zał.1_WPF_bazowy!Z92","v":0},{"$f":"+Zał.1_WPF_bazowy!AA92","v":0},{"$f":"+Zał.1_WPF_bazowy!AB92","v":0},{"$f":"+Zał.1_WPF_bazowy!AC92","v":0},{"$f":"+Zał.1_WPF_bazowy!AD92","v":0},{"$f":"+Zał.1_WPF_bazowy!AE92","v":0},{"$f":"+Zał.1_WPF_bazowy!AF92","v":0},{"$f":"+Zał.1_WPF_bazowy!AG92","v":0},{"$f":"+Zał.1_WPF_bazowy!AH92","v":0},{"$f":"+Zał.1_WPF_bazowy!AI92","v":0},{"$f":"+Zał.1_WPF_bazowy!AJ92","v":0},{"$f":"+Zał.1_WPF_bazowy!AK92","v":0},{"$f":"+Zał.1_WPF_bazowy!AL92","v":0}]
[null,"13.3",null,"Wysokość zobowiązań podlegających umorzeniu, o którym mowa w art. 190 ustawy o działalności leczniczej",{"$f":"Zał.1_WPF_bazowy!E93","v":0},{"$f":"Zał.1_WPF_bazowy!F93","v":0},{"$f":"Zał.1_WPF_bazowy!G93","v":0},{"$f":"Zał.1_WPF_bazowy!H93","v":0},{"$f":"+Zał.1_WPF_bazowy!I93","v":0},{"$f":"+Zał.1_WPF_bazowy!J93","v":0},{"$f":"+Zał.1_WPF_bazowy!K93","v":0},{"$f":"+Zał.1_WPF_bazowy!L93","v":0},{"$f":"+Zał.1_WPF_bazowy!M93","v":0},{"$f":"+Zał.1_WPF_bazowy!N93","v":0},{"$f":"+Zał.1_WPF_bazowy!O93","v":0},{"$f":"+Zał.1_WPF_bazowy!P93","v":0},{"$f":"+Zał.1_WPF_bazowy!Q93","v":0},{"$f":"+Zał.1_WPF_bazowy!R93","v":0},{"$f":"+Zał.1_WPF_bazowy!S93","v":0},{"$f":"+Zał.1_WPF_bazowy!T93","v":0},{"$f":"+Zał.1_WPF_bazowy!U93","v":0},{"$f":"+Zał.1_WPF_bazowy!V93","v":0},{"$f":"+Zał.1_WPF_bazowy!W93","v":0},{"$f":"+Zał.1_WPF_bazowy!X93","v":0},{"$f":"+Zał.1_WPF_bazowy!Y93","v":0},{"$f":"+Zał.1_WPF_bazowy!Z93","v":0},{"$f":"+Zał.1_WPF_bazowy!AA93","v":0},{"$f":"+Zał.1_WPF_bazowy!AB93","v":0},{"$f":"+Zał.1_WPF_bazowy!AC93","v":0},{"$f":"+Zał.1_WPF_bazowy!AD93","v":0},{"$f":"+Zał.1_WPF_bazowy!AE93","v":0},{"$f":"+Zał.1_WPF_bazowy!AF93","v":0},{"$f":"+Zał.1_WPF_bazowy!AG93","v":0},{"$f":"+Zał.1_WPF_bazowy!AH93","v":0},{"$f":"+Zał.1_WPF_bazowy!AI93","v":0},{"$f":"+Zał.1_WPF_bazowy!AJ93","v":0},{"$f":"+Zał.1_WPF_bazowy!AK93","v":0},{"$f":"+Zał.1_WPF_bazowy!AL93","v":0}]
[null,"13.4",null,"Wydatki na spłatę przejętych zobowiązań samodzielnego publicznego zakładu opieki zdrowotnej przekształconego na zasadach określonych w przepisach  o działalności leczniczej",{"$f":"Zał.1_WPF_bazowy!E94","v":0},{"$f":"Zał.1_WPF_bazowy!F94","v":0},{"$f":"Zał.1_WPF_bazowy!G94","v":0},{"$f":"Zał.1_WPF_bazowy!H94","v":0},{"$f":"+Zał.1_WPF_bazowy!I94","v":0},{"$f":"+Zał.1_WPF_bazowy!J94","v":0},{"$f":"+Zał.1_WPF_bazowy!K94","v":0},{"$f":"+Zał.1_WPF_bazowy!L94","v":0},{"$f":"+Zał.1_WPF_bazowy!M94","v":0},{"$f":"+Zał.1_WPF_bazowy!N94","v":0},{"$f":"+Zał.1_WPF_bazowy!O94","v":0},{"$f":"+Zał.1_WPF_bazowy!P94","v":0},{"$f":"+Zał.1_WPF_bazowy!Q94","v":0},{"$f":"+Zał.1_WPF_bazowy!R94","v":0},{"$f":"+Zał.1_WPF_bazowy!S94","v":0},{"$f":"+Zał.1_WPF_bazowy!T94","v":0},{"$f":"+Zał.1_WPF_bazowy!U94","v":0},{"$f":"+Zał.1_WPF_bazowy!V94","v":0},{"$f":"+Zał.1_WPF_bazowy!W94","v":0},{"$f":"+Zał.1_WPF_bazowy!X94","v":0},{"$f":"+Zał.1_WPF_bazowy!Y94","v":0},{"$f":"+Zał.1_WPF_bazowy!Z94","v":0},{"$f":"+Zał.1_WPF_bazowy!AA94","v":0},{"$f":"+Zał.1_WPF_bazowy!AB94","v":0},{"$f":"+Zał.1_WPF_bazowy!AC94","v":0},{"$f":"+Zał.1_WPF_bazowy!AD94","v":0},{"$f":"+Zał.1_WPF_bazowy!AE94","v":0},{"$f":"+Zał.1_WPF_bazowy!AF94","v":0},{"$f":"+Zał.1_WPF_bazowy!AG94","v":0},{"$f":"+Zał.1_WPF_bazowy!AH94","v":0},{"$f":"+Zał.1_WPF_bazowy!AI94","v":0},{"$f":"+Zał.1_WPF_bazowy!AJ94","v":0},{"$f":"+Zał.1_WPF_bazowy!AK94","v":0},{"$f":"+Zał.1_WPF_bazowy!AL94","v":0}]
[null,"13.5",null,"Wydatki na spłatę przejętych zobowiązań samodzielnego publicznego zakładu opieki zdrowotnej likwidowanego na zasadach określonych w przepisach  o działalności leczniczej",{"$f":"Zał.1_WPF_bazowy!E95","v":0},{"$f":"Zał.1_WPF_bazowy!F95","v":0},{"$f":"Zał.1_WPF_bazowy!G95","v":0},{"$f":"Zał.1_WPF_bazowy!H95","v":0},{"$f":"+Zał.1_WPF_bazowy!I95","v":0},{"$f":"+Zał.1_WPF_bazowy!J95","v":0},{"$f":"+Zał.1_WPF_bazowy!K95","v":0},{"$f":"+Zał.1_WPF_bazowy!L95","v":0},{"$f":"+Zał.1_WPF_bazowy!M95","v":0},{"$f":"+Zał.1_WPF_bazowy!N95","v":0},{"$f":"+Zał.1_WPF_bazowy!O95","v":0},{"$f":"+Zał.1_WPF_bazowy!P95","v":0},{"$f":"+Zał.1_WPF_bazowy!Q95","v":0},{"$f":"+Zał.1_WPF_bazowy!R95","v":0},{"$f":"+Zał.1_WPF_bazowy!S95","v":0},{"$f":"+Zał.1_WPF_bazowy!T95","v":0},{"$f":"+Zał.1_WPF_bazowy!U95","v":0},{"$f":"+Zał.1_WPF_bazowy!V95","v":0},{"$f":"+Zał.1_WPF_bazowy!W95","v":0},{"$f":"+Zał.1_WPF_bazowy!X95","v":0},{"$f":"+Zał.1_WPF_bazowy!Y95","v":0},{"$f":"+Zał.1_WPF_bazowy!Z95","v":0},{"$f":"+Zał.1_WPF_bazowy!AA95","v":0},{"$f":"+Zał.1_WPF_bazowy!AB95","v":0},{"$f":"+Zał.1_WPF_bazowy!AC95","v":0},{"$f":"+Zał.1_WPF_bazowy!AD95","v":0},{"$f":"+Zał.1_WPF_bazowy!AE95","v":0},{"$f":"+Zał.1_WPF_bazowy!AF95","v":0},{"$f":"+Zał.1_WPF_bazowy!AG95","v":0},{"$f":"+Zał.1_WPF_bazowy!AH95","v":0},{"$f":"+Zał.1_WPF_bazowy!AI95","v":0},{"$f":"+Zał.1_WPF_bazowy!AJ95","v":0},{"$f":"+Zał.1_WPF_bazowy!AK95","v":0},{"$f":"+Zał.1_WPF_bazowy!AL95","v":0}]
[null,"13.6",null,"Wydatki na spłatę zobowiązań samodzielnego publicznego zakładu opieki zdrowotnej przejętych do końca 2011 r. na podstawie przepisów o zakładach opieki zdrowotnej",{"$f":"Zał.1_WPF_bazowy!E96","v":0},{"$f":"Zał.1_WPF_bazowy!F96","v":0},{"$f":"Zał.1_WPF_bazowy!G96","v":0},{"$f":"Zał.1_WPF_bazowy!H96","v":0},{"$f":"+Zał.1_WPF_bazowy!I96","v":0},{"$f":"+Zał.1_WPF_bazowy!J96","v":0},{"$f":"+Zał.1_WPF_bazowy!K96","v":0},{"$f":"+Zał.1_WPF_bazowy!L96","v":0},{"$f":"+Zał.1_WPF_bazowy!M96","v":0},{"$f":"+Zał.1_WPF_bazowy!N96","v":0},{"$f":"+Zał.1_WPF_bazowy!O96","v":0},{"$f":"+Zał.1_WPF_bazowy!P96","v":0},{"$f":"+Zał.1_WPF_bazowy!Q96","v":0},{"$f":"+Zał.1_WPF_bazowy!R96","v":0},{"$f":"+Zał.1_WPF_bazowy!S96","v":0},{"$f":"+Zał.1_WPF_bazowy!T96","v":0},{"$f":"+Zał.1_WPF_bazowy!U96","v":0},{"$f":"+Zał.1_WPF_bazowy!V96","v":0},{"$f":"+Zał.1_WPF_bazowy!W96","v":0},{"$f":"+Zał.1_WPF_bazowy!X96","v":0},{"$f":"+Zał.1_WPF_bazowy!Y96","v":0},{"$f":"+Zał.1_WPF_bazowy!Z96","v":0},{"$f":"+Zał.1_WPF_bazowy!AA96","v":0},{"$f":"+Zał.1_WPF_bazowy!AB96","v":0},{"$f":"+Zał.1_WPF_bazowy!AC96","v":0},{"$f":"+Zał.1_WPF_bazowy!AD96","v":0},{"$f":"+Zał.1_WPF_bazowy!AE96","v":0},{"$f":"+Zał.1_WPF_bazowy!AF96","v":0},{"$f":"+Zał.1_WPF_bazowy!AG96","v":0},{"$f":"+Zał.1_WPF_bazowy!AH96","v":0},{"$f":"+Zał.1_WPF_bazowy!AI96","v":0},{"$f":"+Zał.1_WPF_bazowy!AJ96","v":0},{"$f":"+Zał.1_WPF_bazowy!AK96","v":0},{"$f":"+Zał.1_WPF_bazowy!AL96","v":0}]
[null,"13.7",null,"Wydatki bieżące na pokrycie ujemnego wyniku finansowego samodzielnego publicznego zakładu opieki zdrowotnej",{"$f":"Zał.1_WPF_bazowy!E97","v":0},{"$f":"Zał.1_WPF_bazowy!F97","v":0},{"$f":"Zał.1_WPF_bazowy!G97","v":0},{"$f":"Zał.1_WPF_bazowy!H97","v":0},{"$f":"+Zał.1_WPF_bazowy!I97","v":0},{"$f":"+Zał.1_WPF_bazowy!J97","v":0},{"$f":"+Zał.1_WPF_bazowy!K97","v":0},{"$f":"+Zał.1_WPF_bazowy!L97","v":0},{"$f":"+Zał.1_WPF_bazowy!M97","v":0},{"$f":"+Zał.1_WPF_bazowy!N97","v":0},{"$f":"+Zał.1_WPF_bazowy!O97","v":0},{"$f":"+Zał.1_WPF_bazowy!P97","v":0},{"$f":"+Zał.1_WPF_bazowy!Q97","v":0},{"$f":"+Zał.1_WPF_bazowy!R97","v":0},{"$f":"+Zał.1_WPF_bazowy!S97","v":0},{"$f":"+Zał.1_WPF_bazowy!T97","v":0},{"$f":"+Zał.1_WPF_bazowy!U97","v":0},{"$f":"+Zał.1_WPF_bazowy!V97","v":0},{"$f":"+Zał.1_WPF_bazowy!W97","v":0},{"$f":"+Zał.1_WPF_bazowy!X97","v":0},{"$f":"+Zał.1_WPF_bazowy!Y97","v":0},{"$f":"+Zał.1_WPF_bazowy!Z97","v":0},{"$f":"+Zał.1_WPF_bazowy!AA97","v":0},{"$f":"+Zał.1_WPF_bazowy!AB97","v":0},{"$f":"+Zał.1_WPF_bazowy!AC97","v":0},{"$f":"+Zał.1_WPF_bazowy!AD97","v":0},{"$f":"+Zał.1_WPF_bazowy!AE97","v":0},{"$f":"+Zał.1_WPF_bazowy!AF97","v":0},{"$f":"+Zał.1_WPF_bazowy!AG97","v":0},{"$f":"+Zał.1_WPF_bazowy!AH97","v":0},{"$f":"+Zał.1_WPF_bazowy!AI97","v":0},{"$f":"+Zał.1_WPF_bazowy!AJ97","v":0},{"$f":"+Zał.1_WPF_bazowy!AK97","v":0},{"$f":"+Zał.1_WPF_bazowy!AL97","v":0}]
["x",14,null,"Dane uzupełniające o długu i jego spłacie","x","x","x","x","x","x","x","x","x","x","x","x","x","x","x","x","x","x","x","x","x","x","x","x","x","x","x","x","x","x","x","x","x","x"]
["x","14.1",null,"Spłaty rat kapitałowych oraz wykup papierów wartościowych, o których mowa w pkt. 5.1., wynikające wyłącznie z tytułu zobowiązań już zaciągniętych",{"$f":"Zał.1_WPF_bazowy!E99","v":2105000},{"$f":"Zał.1_WPF_bazowy!F99","v":1057000},{"$f":"Zał.1_WPF_bazowy!G99","v":100000},{"$f":"Zał.1_WPF_bazowy!H99","v":100000},{"$f":"+Zał.1_WPF_bazowy!I99","v":400000},{"$f":"+Zał.1_WPF_bazowy!J99","v":600000},{"$f":"+Zał.1_WPF_bazowy!K99","v":600000},{"$f":"+Zał.1_WPF_bazowy!L99","v":1200000},{"$f":"+Zał.1_WPF_bazowy!M99","v":1300000},{"$f":"+Zał.1_WPF_bazowy!N99","v":1200000},{"$f":"+Zał.1_WPF_bazowy!O99","v":1330000},{"$f":"+Zał.1_WPF_bazowy!P99","v":1510000},{"$f":"+Zał.1_WPF_bazowy!Q99","v":1548000},{"$f":"+Zał.1_WPF_bazowy!R99","v":743000},{"$f":"+Zał.1_WPF_bazowy!S99","v":0},{"$f":"+Zał.1_WPF_bazowy!T99","v":0},{"$f":"+Zał.1_WPF_bazowy!U99","v":0},{"$f":"+Zał.1_WPF_bazowy!V99","v":0},{"$f":"+Zał.1_WPF_bazowy!W99","v":0},{"$f":"+Zał.1_WPF_bazowy!X99","v":0},{"$f":"+Zał.1_WPF_bazowy!Y99","v":0},{"$f":"+Zał.1_WPF_bazowy!Z99","v":0},{"$f":"+Zał.1_WPF_bazowy!AA99","v":0},{"$f":"+Zał.1_WPF_bazowy!AB99","v":0},{"$f":"+Zał.1_WPF_bazowy!AC99","v":0},{"$f":"+Zał.1_WPF_bazowy!AD99","v":0},{"$f":"+Zał.1_WPF_bazowy!AE99","v":0},{"$f":"+Zał.1_WPF_bazowy!AF99","v":0},{"$f":"+Zał.1_WPF_bazowy!AG99","v":0},{"$f":"+Zał.1_WPF_bazowy!AH99","v":0},{"$f":"+Zał.1_WPF_bazowy!AI99","v":0},{"$f":"+Zał.1_WPF_bazowy!AJ99","v":0},{"$f":"+Zał.1_WPF_bazowy!AK99","v":0},{"$f":"+Zał.1_WPF_bazowy!AL99","v":0}]
["x","14.2",null,"Kwota długu, którego planowana spłata dokona się z wydatków budżetu",{"$f":"Zał.1_WPF_bazowy!E100","v":29700},{"$f":"Zał.1_WPF_bazowy!F100","v":9850},{"$f":"Zał.1_WPF_bazowy!G100","v":0},{"$f":"Zał.1_WPF_bazowy!H100","v":0},{"$f":"+Zał.1_WPF_bazowy!I100","v":688000},{"$f":"+Zał.1_WPF_bazowy!J100","v":564000},{"$f":"+Zał.1_WPF_bazowy!K100","v":444000},{"$f":"+Zał.1_WPF_bazowy!L100","v":327000},{"$f":"+Zał.1_WPF_bazowy!M100","v":214000},{"$f":"+Zał.1_WPF_bazowy!N100","v":105000},{"$f":"+Zał.1_WPF_bazowy!O100","v":0},{"$f":"+Zał.1_WPF_bazowy!P100","v":0},{"$f":"+Zał.1_WPF_bazowy!Q100","v":0},{"$f":"+Zał.1_WPF_bazowy!R100","v":0},{"$f":"+Zał.1_WPF_bazowy!S100","v":0},{"$f":"+Zał.1_WPF_bazowy!T100","v":0},{"$f":"+Zał.1_WPF_bazowy!U100","v":0},{"$f":"+Zał.1_WPF_bazowy!V100","v":0},{"$f":"+Zał.1_WPF_bazowy!W100","v":0},{"$f":"+Zał.1_WPF_bazowy!X100","v":0},{"$f":"+Zał.1_WPF_bazowy!Y100","v":0},{"$f":"+Zał.1_WPF_bazowy!Z100","v":0},{"$f":"+Zał.1_WPF_bazowy!AA100","v":0},{"$f":"+Zał.1_WPF_bazowy!AB100","v":0},{"$f":"+Zał.1_WPF_bazowy!AC100","v":0},{"$f":"+Zał.1_WPF_bazowy!AD100","v":0},{"$f":"+Zał.1_WPF_bazowy!AE100","v":0},{"$f":"+Zał.1_WPF_bazowy!AF100","v":0},{"$f":"+Zał.1_WPF_bazowy!AG100","v":0},{"$f":"+Zał.1_WPF_bazowy!AH100","v":0},{"$f":"+Zał.1_WPF_bazowy!AI100","v":0},{"$f":"+Zał.1_WPF_bazowy!AJ100","v":0},{"$f":"+Zał.1_WPF_bazowy!AK100","v":0},{"$f":"+Zał.1_WPF_bazowy!AL100","v":0}]
["x","14.3",null,"Wydatki zmniejszające dług, w tym",{"$f":"Zał.1_WPF_bazowy!E101","v":29850},{"$f":"Zał.1_WPF_bazowy!F101","v":19850},{"$f":"Zał.1_WPF_bazowy!G101","v":9850},{"$f":"Zał.1_WPF_bazowy!H101","v":9850},{"$f":"+Zał.1_WPF_bazowy!I101","v":130000},{"$f":"+Zał.1_WPF_bazowy!J101","v":124000},{"$f":"+Zał.1_WPF_bazowy!K101","v":120000},{"$f":"+Zał.1_WPF_bazowy!L101","v":117000},{"$f":"+Zał.1_WPF_bazowy!M101","v":113000},{"$f":"+Zał.1_WPF_bazowy!N101","v":109000},{"$f":"+Zał.1_WPF_bazowy!O101","v":105000},{"$f":"+Zał.1_WPF_bazowy!P101","v":0},{"$f":"+Zał.1_WPF_bazowy!Q101","v":0},{"$f":"+Zał.1_WPF_bazowy!R101","v":0},{"$f":"+Zał.1_WPF_bazowy!S101","v":0},{"$f":"+Zał.1_WPF_bazowy!T101","v":0},{"$f":"+Zał.1_WPF_bazowy!U101","v":0},{"$f":"+Zał.1_WPF_bazowy!V101","v":0},{"$f":"+Zał.1_WPF_bazowy!W101","v":0},{"$f":"+Zał.1_WPF_bazowy!X101","v":0},{"$f":"+Zał.1_WPF_bazowy!Y101","v":0},{"$f":"+Zał.1_WPF_bazowy!Z101","v":0},{"$f":"+Zał.1_WPF_bazowy!AA101","v":0},{"$f":"+Zał.1_WPF_bazowy!AB101","v":0},{"$f":"+Zał.1_WPF_bazowy!AC101","v":0},{"$f":"+Zał.1_WPF_bazowy!AD101","v":0},{"$f":"+Zał.1_WPF_bazowy!AE101","v":0},{"$f":"+Zał.1_WPF_bazowy!AF101","v":0},{"$f":"+Zał.1_WPF_bazowy!AG101","v":0},{"$f":"+Zał.1_WPF_bazowy!AH101","v":0},{"$f":"+Zał.1_WPF_bazowy!AI101","v":0},{"$f":"+Zał.1_WPF_bazowy!AJ101","v":0},{"$f":"+Zał.1_WPF_bazowy!AK101","v":0},{"$f":"+Zał.1_WPF_bazowy!AL101","v":0}]
["x","14.3.1",null,"spłata zobowiązań wymagalnych z lat poprzednich, innych niż w pkt 14.3.3",{"$f":"Zał.1_WPF_bazowy!E102","v":20000},{"$f":"Zał.1_WPF_bazowy!F102","v":10000},{"$f":"Zał.1_WPF_bazowy!G102","v":0},{"$f":"Zał.1_WPF_bazowy!H102","v":0},{"$f":"+Zał.1_WPF_bazowy!I102","v":0},{"$f":"+Zał.1_WPF_bazowy!J102","v":0},{"$f":"+Zał.1_WPF_bazowy!K102","v":0},{"$f":"+Zał.1_WPF_bazowy!L102","v":0},{"$f":"+Zał.1_WPF_bazowy!M102","v":0},{"$f":"+Zał.1_WPF_bazowy!N102","v":0},{"$f":"+Zał.1_WPF_bazowy!O102","v":0},{"$f":"+Zał.1_WPF_bazowy!P102","v":0},{"$f":"+Zał.1_WPF_bazowy!Q102","v":0},{"$f":"+Zał.1_WPF_bazowy!R102","v":0},{"$f":"+Zał.1_WPF_bazowy!S102","v":0},{"$f":"+Zał.1_WPF_bazowy!T102","v":0},{"$f":"+Zał.1_WPF_bazowy!U102","v":0},{"$f":"+Zał.1_WPF_bazowy!V102","v":0},{"$f":"+Zał.1_WPF_bazowy!W102","v":0},{"$f":"+Zał.1_WPF_bazowy!X102","v":0},{"$f":"+Zał.1_WPF_bazowy!Y102","v":0},{"$f":"+Zał.1_WPF_bazowy!Z102","v":0},{"$f":"+Zał.1_WPF_bazowy!AA102","v":0},{"$f":"+Zał.1_WPF_bazowy!AB102","v":0},{"$f":"+Zał.1_WPF_bazowy!AC102","v":0},{"$f":"+Zał.1_WPF_bazowy!AD102","v":0},{"$f":"+Zał.1_WPF_bazowy!AE102","v":0},{"$f":"+Zał.1_WPF_bazowy!AF102","v":0},{"$f":"+Zał.1_WPF_bazowy!AG102","v":0},{"$f":"+Zał.1_WPF_bazowy!AH102","v":0},{"$f":"+Zał.1_WPF_bazowy!AI102","v":0},{"$f":"+Zał.1_WPF_bazowy!AJ102","v":0},{"$f":"+Zał.1_WPF_bazowy!AK102","v":0},{"$f":"+Zał.1_WPF_bazowy!AL102","v":0}]
["x","14.3.2",null,"związane z umowami zaliczanymi do tytułów dłużnych wliczanych do państwowego długu publicznego",{"$f":"Zał.1_WPF_bazowy!E103","v":9850},{"$f":"Zał.1_WPF_bazowy!F103","v":9850},{"$f":"Zał.1_WPF_bazowy!G103","v":9850},{"$f":"Zał.1_WPF_bazowy!H103","v":9850},{"$f":"+Zał.1_WPF_bazowy!I103","v":130000},{"$f":"+Zał.1_WPF_bazowy!J103","v":124000},{"$f":"+Zał.1_WPF_bazowy!K103","v":120000},{"$f":"+Zał.1_WPF_bazowy!L103","v":117000},{"$f":"+Zał.1_WPF_bazowy!M103","v":113000},{"$f":"+Zał.1_WPF_bazowy!N103","v":109000},{"$f":"+Zał.1_WPF_bazowy!O103","v":105000},{"$f":"+Zał.1_WPF_bazowy!P103","v":0},{"$f":"+Zał.1_WPF_bazowy!Q103","v":0},{"$f":"+Zał.1_WPF_bazowy!R103","v":0},{"$f":"+Zał.1_WPF_bazowy!S103","v":0},{"$f":"+Zał.1_WPF_bazowy!T103","v":0},{"$f":"+Zał.1_WPF_bazowy!U103","v":0},{"$f":"+Zał.1_WPF_bazowy!V103","v":0},{"$f":"+Zał.1_WPF_bazowy!W103","v":0},{"$f":"+Zał.1_WPF_bazowy!X103","v":0},{"$f":"+Zał.1_WPF_bazowy!Y103","v":0},{"$f":"+Zał.1_WPF_bazowy!Z103","v":0},{"$f":"+Zał.1_WPF_bazowy!AA103","v":0},{"$f":"+Zał.1_WPF_bazowy!AB103","v":0},{"$f":"+Zał.1_WPF_bazowy!AC103","v":0},{"$f":"+Zał.1_WPF_bazowy!AD103","v":0},{"$f":"+Zał.1_WPF_bazowy!AE103","v":0},{"$f":"+Zał.1_WPF_bazowy!AF103","v":0},{"$f":"+Zał.1_WPF_bazowy!AG103","v":0},{"$f":"+Zał.1_WPF_bazowy!AH103","v":0},{"$f":"+Zał.1_WPF_bazowy!AI103","v":0},{"$f":"+Zał.1_WPF_bazowy!AJ103","v":0},{"$f":"+Zał.1_WPF_bazowy!AK103","v":0},{"$f":"+Zał.1_WPF_bazowy!AL103","v":0}]
["x","14.3.3",null,"wypłaty z tytułu wymagalnych poręczeń i gwarancji",{"$f":"Zał.1_WPF_bazowy!E104","v":0},{"$f":"Zał.1_WPF_bazowy!F104","v":0},{"$f":"Zał.1_WPF_bazowy!G104","v":0},{"$f":"Zał.1_WPF_bazowy!H104","v":0},{"$f":"+Zał.1_WPF_bazowy!I104","v":0},{"$f":"+Zał.1_WPF_bazowy!J104","v":0},{"$f":"+Zał.1_WPF_bazowy!K104","v":0},{"$f":"+Zał.1_WPF_bazowy!L104","v":0},{"$f":"+Zał.1_WPF_bazowy!M104","v":0},{"$f":"+Zał.1_WPF_bazowy!N104","v":0},{"$f":"+Zał.1_WPF_bazowy!O104","v":0},{"$f":"+Zał.1_WPF_bazowy!P104","v":0},{"$f":"+Zał.1_WPF_bazowy!Q104","v":0},{"$f":"+Zał.1_WPF_bazowy!R104","v":0},{"$f":"+Zał.1_WPF_bazowy!S104","v":0},{"$f":"+Zał.1_WPF_bazowy!T104","v":0},{"$f":"+Zał.1_WPF_bazowy!U104","v":0},{"$f":"+Zał.1_WPF_bazowy!V104","v":0},{"$f":"+Zał.1_WPF_bazowy!W104","v":0},{"$f":"+Zał.1_WPF_bazowy!X104","v":0},{"$f":"+Zał.1_WPF_bazowy!Y104","v":0},{"$f":"+Zał.1_WPF_bazowy!Z104","v":0},{"$f":"+Zał.1_WPF_bazowy!AA104","v":0},{"$f":"+Zał.1_WPF_bazowy!AB104","v":0},{"$f":"+Zał.1_WPF_bazowy!AC104","v":0},{"$f":"+Zał.1_WPF_bazowy!AD104","v":0},{"$f":"+Zał.1_WPF_bazowy!AE104","v":0},{"$f":"+Zał.1_WPF_bazowy!AF104","v":0},{"$f":"+Zał.1_WPF_bazowy!AG104","v":0},{"$f":"+Zał.1_WPF_bazowy!AH104","v":0},{"$f":"+Zał.1_WPF_bazowy!AI104","v":0},{"$f":"+Zał.1_WPF_bazowy!AJ104","v":0},{"$f":"+Zał.1_WPF_bazowy!AK104","v":0},{"$f":"+Zał.1_WPF_bazowy!AL104","v":0}]
["x","14.4",null,"Wynik operacji niekasowych wpływających na kwotę długu ( m.in. umorzenia, różnice kursowe)",{"$f":"Zał.1_WPF_bazowy!E105","v":5558.79},{"$f":"Zał.1_WPF_bazowy!F105","v":0},{"$f":"Zał.1_WPF_bazowy!G105","v":0},{"$f":"Zał.1_WPF_bazowy!H105","v":0},{"$f":"+Zał.1_WPF_bazowy!I105","v":0},{"$f":"+Zał.1_WPF_bazowy!J105","v":0},{"$f":"+Zał.1_WPF_bazowy!K105","v":0},{"$f":"+Zał.1_WPF_bazowy!L105","v":0},{"$f":"+Zał.1_WPF_bazowy!M105","v":0},{"$f":"+Zał.1_WPF_bazowy!N105","v":0},{"$f":"+Zał.1_WPF_bazowy!O105","v":0},{"$f":"+Zał.1_WPF_bazowy!P105","v":0},{"$f":"+Zał.1_WPF_bazowy!Q105","v":0},{"$f":"+Zał.1_WPF_bazowy!R105","v":0},{"$f":"+Zał.1_WPF_bazowy!S105","v":0},{"$f":"+Zał.1_WPF_bazowy!T105","v":0},{"$f":"+Zał.1_WPF_bazowy!U105","v":0},{"$f":"+Zał.1_WPF_bazowy!V105","v":0},{"$f":"+Zał.1_WPF_bazowy!W105","v":0},{"$f":"+Zał.1_WPF_bazowy!X105","v":0},{"$f":"+Zał.1_WPF_bazowy!Y105","v":0},{"$f":"+Zał.1_WPF_bazowy!Z105","v":0},{"$f":"+Zał.1_WPF_bazowy!AA105","v":0},{"$f":"+Zał.1_WPF_bazowy!AB105","v":0},{"$f":"+Zał.1_WPF_bazowy!AC105","v":0},{"$f":"+Zał.1_WPF_bazowy!AD105","v":0},{"$f":"+Zał.1_WPF_bazowy!AE105","v":0},{"$f":"+Zał.1_WPF_bazowy!AF105","v":0},{"$f":"+Zał.1_WPF_bazowy!AG105","v":0},{"$f":"+Zał.1_WPF_bazowy!AH105","v":0},{"$f":"+Zał.1_WPF_bazowy!AI105","v":0},{"$f":"+Zał.1_WPF_bazowy!AJ105","v":0},{"$f":"+Zał.1_WPF_bazowy!AK105","v":0},{"$f":"+Zał.1_WPF_bazowy!AL105","v":0}]
[null,15,null,"Dane dotyczące emitowanych obligacji przychodowych","x","x","x","x","x","x","x","x","x","x","x","x","x","x","x","x","x","x","x","x","x","x","x","x","x","x","x","x","x","x","x","x","x","x"]
[null,"15.1",null,"Środki z przedsięwzięcia gromadzone na rachunku bankowym,  w tym:",{"$f":"Zał.1_WPF_bazowy!E107","v":0},{"$f":"Zał.1_WPF_bazowy!F107","v":0},{"$f":"Zał.1_WPF_bazowy!G107","v":0},{"$f":"Zał.1_WPF_bazowy!H107","v":0},{"$f":"+Zał.1_WPF_bazowy!I107","v":0},{"$f":"+Zał.1_WPF_bazowy!J107","v":0},{"$f":"+Zał.1_WPF_bazowy!K107","v":0},{"$f":"+Zał.1_WPF_bazowy!L107","v":0},{"$f":"+Zał.1_WPF_bazowy!M107","v":0},{"$f":"+Zał.1_WPF_bazowy!N107","v":0},{"$f":"+Zał.1_WPF_bazowy!O107","v":0},{"$f":"+Zał.1_WPF_bazowy!P107","v":0},{"$f":"+Zał.1_WPF_bazowy!Q107","v":0},{"$f":"+Zał.1_WPF_bazowy!R107","v":0},{"$f":"+Zał.1_WPF_bazowy!S107","v":0},{"$f":"+Zał.1_WPF_bazowy!T107","v":0},{"$f":"+Zał.1_WPF_bazowy!U107","v":0},{"$f":"+Zał.1_WPF_bazowy!V107","v":0},{"$f":"+Zał.1_WPF_bazowy!W107","v":0},{"$f":"+Zał.1_WPF_bazowy!X107","v":0},{"$f":"+Zał.1_WPF_bazowy!Y107","v":0},{"$f":"+Zał.1_WPF_bazowy!Z107","v":0},{"$f":"+Zał.1_WPF_bazowy!AA107","v":0},{"$f":"+Zał.1_WPF_bazowy!AB107","v":0},{"$f":"+Zał.1_WPF_bazowy!AC107","v":0},{"$f":"+Zał.1_WPF_bazowy!AD107","v":0},{"$f":"+Zał.1_WPF_bazowy!AE107","v":0},{"$f":"+Zał.1_WPF_bazowy!AF107","v":0},{"$f":"+Zał.1_WPF_bazowy!AG107","v":0},{"$f":"+Zał.1_WPF_bazowy!AH107","v":0},{"$f":"+Zał.1_WPF_bazowy!AI107","v":0},{"$f":"+Zał.1_WPF_bazowy!AJ107","v":0},{"$f":"+Zał.1_WPF_bazowy!AK107","v":0},{"$f":"+Zał.1_WPF_bazowy!AL107","v":0}]
["x","15.1.1",null,"środki na zaspokojenie roszczeń obligatariuszy",{"$f":"Zał.1_WPF_bazowy!E108","v":0},{"$f":"Zał.1_WPF_bazowy!F108","v":0},{"$f":"Zał.1_WPF_bazowy!G108","v":0},{"$f":"Zał.1_WPF_bazowy!H108","v":0},{"$f":"+Zał.1_WPF_bazowy!I108","v":0},{"$f":"+Zał.1_WPF_bazowy!J108","v":0},{"$f":"+Zał.1_WPF_bazowy!K108","v":0},{"$f":"+Zał.1_WPF_bazowy!L108","v":0},{"$f":"+Zał.1_WPF_bazowy!M108","v":0},{"$f":"+Zał.1_WPF_bazowy!N108","v":0},{"$f":"+Zał.1_WPF_bazowy!O108","v":0},{"$f":"+Zał.1_WPF_bazowy!P108","v":0},{"$f":"+Zał.1_WPF_bazowy!Q108","v":0},{"$f":"+Zał.1_WPF_bazowy!R108","v":0},{"$f":"+Zał.1_WPF_bazowy!S108","v":0},{"$f":"+Zał.1_WPF_bazowy!T108","v":0},{"$f":"+Zał.1_WPF_bazowy!U108","v":0},{"$f":"+Zał.1_WPF_bazowy!V108","v":0},{"$f":"+Zał.1_WPF_bazowy!W108","v":0},{"$f":"+Zał.1_WPF_bazowy!X108","v":0},{"$f":"+Zał.1_WPF_bazowy!Y108","v":0},{"$f":"+Zał.1_WPF_bazowy!Z108","v":0},{"$f":"+Zał.1_WPF_bazowy!AA108","v":0},{"$f":"+Zał.1_WPF_bazowy!AB108","v":0},{"$f":"+Zał.1_WPF_bazowy!AC108","v":0},{"$f":"+Zał.1_WPF_bazowy!AD108","v":0},{"$f":"+Zał.1_WPF_bazowy!AE108","v":0},{"$f":"+Zał.1_WPF_bazowy!AF108","v":0},{"$f":"+Zał.1_WPF_bazowy!AG108","v":0},{"$f":"+Zał.1_WPF_bazowy!AH108","v":0},{"$f":"+Zał.1_WPF_bazowy!AI108","v":0},{"$f":"+Zał.1_WPF_bazowy!AJ108","v":0},{"$f":"+Zał.1_WPF_bazowy!AK108","v":0},{"$f":"+Zał.1_WPF_bazowy!AL108","v":0}]
["x","15.2",null,"Wydatki bieżące z tytułu świadczenia emitenta należnego obligatariuszom,  nieuwzględniane  w limicie spłaty zobowiązań, o którym mowa w art. 243 ustawy",{"$f":"Zał.1_WPF_bazowy!E109","v":0},{"$f":"Zał.1_WPF_bazowy!F109","v":0},{"$f":"Zał.1_WPF_bazowy!G109","v":0},{"$f":"Zał.1_WPF_bazowy!H109","v":0},{"$f":"+Zał.1_WPF_bazowy!I109","v":0},{"$f":"+Zał.1_WPF_bazowy!J109","v":0},{"$f":"+Zał.1_WPF_bazowy!K109","v":0},{"$f":"+Zał.1_WPF_bazowy!L109","v":0},{"$f":"+Zał.1_WPF_bazowy!M109","v":0},{"$f":"+Zał.1_WPF_bazowy!N109","v":0},{"$f":"+Zał.1_WPF_bazowy!O109","v":0},{"$f":"+Zał.1_WPF_bazowy!P109","v":0},{"$f":"+Zał.1_WPF_bazowy!Q109","v":0},{"$f":"+Zał.1_WPF_bazowy!R109","v":0},{"$f":"+Zał.1_WPF_bazowy!S109","v":0},{"$f":"+Zał.1_WPF_bazowy!T109","v":0},{"$f":"+Zał.1_WPF_bazowy!U109","v":0},{"$f":"+Zał.1_WPF_bazowy!V109","v":0},{"$f":"+Zał.1_WPF_bazowy!W109","v":0},{"$f":"+Zał.1_WPF_bazowy!X109","v":0},{"$f":"+Zał.1_WPF_bazowy!Y109","v":0},{"$f":"+Zał.1_WPF_bazowy!Z109","v":0},{"$f":"+Zał.1_WPF_bazowy!AA109","v":0},{"$f":"+Zał.1_WPF_bazowy!AB109","v":0},{"$f":"+Zał.1_WPF_bazowy!AC109","v":0},{"$f":"+Zał.1_WPF_bazowy!AD109","v":0},{"$f":"+Zał.1_WPF_bazowy!AE109","v":0},{"$f":"+Zał.1_WPF_bazowy!AF109","v":0},{"$f":"+Zał.1_WPF_bazowy!AG109","v":0},{"$f":"+Zał.1_WPF_bazowy!AH109","v":0},{"$f":"+Zał.1_WPF_bazowy!AI109","v":0},{"$f":"+Zał.1_WPF_bazowy!AJ109","v":0},{"$f":"+Zał.1_WPF_bazowy!AK109","v":0},{"$f":"+Zał.1_WPF_bazowy!AL109","v":0}]
[null,16,null,"Stopień niezachowania relacji określonych w art. 242-244 ustawy \n(dotyczy tylko JST objętych procedurą z art. 240a lub 240b)","x","x","x","x","x","x","x","x","x","x","x","x","x","x","x","x","x","x","x","x","x","x","x","x","x","x","x","x","x","x","x","x","x","x"]
[null,"16.1",null,"Stopień niezachowania relacji zrównoważenia wydatków bieżących, o której mowa w poz. 8.2","x","x","x","x",{"$f":"+IF(I52<0,I52,\"\")","v":""},{"$f":"+IF(J52<0,J52,\"\")","v":""},"","","","","","","","","","","","","","","","","","","","","","","","","","","",""]
["x","16.2",null,"Stopień niezachowania wskaźnika spłaty zobowiązań, o którym mowa w poz. 9.7","x","x","x","x",{"$f":"IF(I57<=I59,\"\",I59- I57)","v":""},{"$f":"IF(J57<=J59,\"\",J59- J57)","v":""},"","","","","","","","","","","","","","","","","","","","","","","","","","","",""]
["x","16.3",null,"Stopień niezachowania wskaźnika spłaty zobowiązań, o którym mowa w poz. 9.7.1","x","x","x","x",{"$f":"IF(I57<=I60,\"\",I60-I57)","v":""},{"$f":"IF(J57<=J60,\"\",J60-J57)","v":""},"","","","","","","","","","","","","","","","","","","","","","","","","","","",""]
[]
[]
[]
[]
[]
[null,"Weryfikacja wybranych danych wykazanych w tabeli Wieloletnia Prognoza Finansowa"]
[null,null,null,"Reguła formalna"]
[null,null,null,"Reguła rachunkowa"]
[null,null,null,"Reguła logiczna"]
[null,null,null,"Reguły kontrolne"]
[null,null,"[1.1] + [4.1] + [4.2] >= ([2.1] - [2.1.2])","Spełnienie wskaźnika z art. 242","x","x","x","x",{"$f":"IF(ROUND(I11+I33+I35,2)>=ROUND(I22-I25,2),\"TAK\",\"NIE\")","v":"TAK"},"TAK","TAK","TAK","TAK","TAK","TAK","TAK","TAK","TAK","TAK","TAK","TAK","TAK","TAK","TAK","TAK","TAK","TAK","TAK","TAK","TAK","TAK","TAK","TAK","TAK","TAK","TAK","TAK","TAK"]
[null,null,"[13.3] = 0 (dla lat 2014 i wyższych)","Umorzenie zobowiązań, o którym mowa w art. 190 ustawy o działalności leczniczej nie wykracza poza ustawowy okres","x","x","x","x","x","x",{"$f":"IF(K98=0,\"TAK\",\"BŁĄD\")","v":"TAK"},"TAK","TAK","TAK","TAK","TAK","TAK","TAK","TAK","TAK","TAK","TAK","TAK","TAK","TAK","TAK","TAK","TAK","TAK","TAK","TAK","TAK","TAK","TAK","TAK","TAK","TAK","TAK"]
[null,null,"[1] + [4] - [2] - [5] = 0","Kontrola poprawności zbilansowania budżetu","x","x","x","x",{"$f":"IF(ROUND(I10+I32-I21-I41,2)=0,\"OK\",ROUND(I10+I32-I21-I41,2))","v":"OK"},"OK","OK","OK","OK","OK","OK","OK","OK","OK","OK","OK","OK","OK","OK","OK","OK","OK","OK","OK","OK","OK","OK","OK","OK","OK","OK","OK","OK","OK"]
[null,null,"[6]\"n\" = [6]\"n-1\" + [4.3]\"n\" - [5.1]\"n\" +  ([14.2]\"n\"-[14.2]\"n-1\") + [14.4]","Kontrola poprawności wyliczenia kwoty długu","x","x","x","x",{"$f":"+IF(ROUND(H48+I37-I42+(I105-H105)+I110-I48,2)=0,\"OK\",ROUND(H48+I37-I42+(I105-H105)+I110-I48,2))","v":"OK"},"OK","OK","OK","OK","OK","OK","OK","OK","OK","OK","OK","OK","OK","OK","OK","OK","OK","OK","OK","OK","OK","OK","OK","OK","OK","OK","OK","OK","OK"]
[null,null,"[14.2] \"n\" =  ( [14.2]  \"n-1\" -  [14.3] \"n\" ) ","Analiza zmiany kwoty długu spłacanego wydatkami budżetu \n- wartości różne od zera wymagają objaśnienia \n   - wartości większe od zera wskazują na powstanie w roku prognozy nowego długu tego typu\n   - wartości mniejsze od zera co do zasady nie powinny wystąpić","x","x","x","x",{"$f":"+IF(H105=0,\"N/D\",IF(ROUND(I105+I106-H105,2)=0,\"OK\",ROUND(I105+I106-H105,2)))","v":"N/D"},"OK","OK","OK","OK","OK","OK","N/D","N/D","N/D","N/D","N/D","N/D","N/D","N/D","N/D","N/D","N/D","N/D","N/D","N/D","N/D","N/D","N/D","N/D","N/D","N/D","N/D","N/D","N/D"]
[null,null,"[13.1] \"n\"  -  ( [13.3] + [13.4] + [13.5] + [13.6] ) \"n\"  =  [13.1] \"n-1\"","Porównanie na koniec roku prognozy stanu zobowiązań przejętych przez jst po likwidowanych i przekształcanych SP ZOZ z wydatkami i umorzeniami poniesionymi na ten cel ze stanem zobowiązań z okresu N-1","x","x","x","x",{"$f":"+IF(H96=0,\"N/D\",IF(ROUND(I96+(I98+I99+I100+I101)-H96,2)=0,\"OK\",ROUND(I96+(I98+I99+I100+I101)-H96,2)))","v":"N/D"},"N/D","N/D","N/D","N/D","N/D","N/D","N/D","N/D","N/D","N/D","N/D","N/D","N/D","N/D","N/D","N/D","N/D","N/D","N/D","N/D","N/D","N/D","N/D","N/D","N/D","N/D","N/D","N/D","N/D"]
[null,null,"jeśli [3] < 0 to sprawdź czy [4.1.1] + [4.2.1] + [4.3.1] + [4.4.1] + [3] = 0","Kontrola poprawności wykazania źródeł pokrycia deficytu","x","x","x","x",{"$f":"IF(I31<0,IF(ROUND(I34+I36+I38+I40+I31,2)=0,\"OK\",ROUND(I34+I36+I38+I40+I31,2)),\"N/D\")","v":"N/D"},"N/D","N/D","N/D","N/D","N/D","N/D","N/D","N/D","N/D","N/D","N/D","N/D","N/D","N/D","N/D","N/D","N/D","N/D","N/D","N/D","N/D","N/D","N/D","N/D","N/D","N/D","N/D","N/D","N/D"]
[null,null,"jeśli [3] >= 0 to sprawdź czy [4.1.1]=0 i [4.2.1]=0 i [4.3.1]=0 i  [4.4.1] = 0","Kontrola poprawności niewykazania źródeł pokrycia deficytu przy nadwyżce budżetu","x","x","x","x",{"$f":"IF(I31>=0,IF(ROUND(I34+I36+I38+I40,2)=0,\"OK\",ROUND(I34+I36+I38+I40,2)),\"N/D\")","v":"OK"},"OK","OK","OK","OK","OK","OK","OK","OK","OK","OK","OK","OK","OK","OK","OK","OK","OK","OK","OK","OK","OK","OK","OK","OK","OK","OK","OK","OK","OK"]
[null,null,"[1.1.3] >=  [1.1.3.1]","Reguła logiczna:  [1.1.3] >=  [1.1.3.1]","x","x","x","x",{"$f":"IF(I14>=I15,\"OK\",\"BŁĄD\")","v":"OK"},"OK","OK","OK","OK","OK","OK","OK","OK","OK","OK","OK","OK","OK","OK","OK","OK","OK","OK","OK","OK","OK","OK","OK","OK","OK","OK","OK","OK","OK"]
[null,null,"[1.1.5] >= [13.2]","Reguła logiczna:  [1.1.5] >= [13.2]","x","x","x","x",{"$f":"IF(I17>=I97,\"OK\",\"BŁĄD\")","v":"OK"},"OK","OK","OK","OK","OK","OK","OK","OK","OK","OK","OK","OK","OK","OK","OK","OK","OK","OK","OK","OK","OK","OK","OK","OK","OK","OK","OK","OK","OK"]
[null,null,"[1.1] >=  ([1.1.1] + [1.1.2] + [1.1.3] + [1.1.4] + [1.1.5])","Reguła logiczna:  [1.1] >=  ([1.1.1] + [1.1.2] + [1.1.3] + [1.1.4] + [1.1.5])","x","x","x","x",{"$f":"IF(I11>=I12+I13+I14+I16+I17,\"OK\",\"BŁĄD\")","v":"OK"},"OK","OK","OK","OK","OK","OK","OK","OK","OK","OK","OK","OK","OK","OK","OK","OK","OK","OK","OK","OK","OK","OK","OK","OK","OK","OK","OK","OK","OK"]
[null,null,"[1.1] >= [12.1]","Reguła logiczna:  [1.1] >= [12.1]","x","x","x","x",{"$f":"IF(I11>=I75,\"OK\",\"BŁĄD\")","v":"OK"},"OK","OK","OK","OK","OK","OK","OK","OK","OK","OK","OK","OK","OK","OK","OK","OK","OK","OK","OK","OK","OK","OK","OK","OK","OK","OK","OK","OK","OK"]
[null,null,"[1.2] >= [1.2.1]","Reguła logiczna:  [1.2] >= [1.2.1]","x","x","x","x",{"$f":"IF(I18>=I19,\"OK\",\"BŁĄD\")","v":"OK"},"OK","OK","OK","OK","OK","OK","OK","OK","OK","OK","OK","OK","OK","OK","OK","OK","OK","OK","OK","OK","OK","OK","OK","OK","OK","OK","OK","OK","OK"]
[null,null,"[1.2] >= [1.2.2]","Reguła logiczna:  [1.2] >= [1.2.2]","x","x","x","x",{"$f":"IF(I18>=I20,\"OK\",\"BŁĄD\")","v":"OK"},"OK","OK","OK","OK","OK","OK","OK","OK","OK","OK","OK","OK","OK","OK","OK","OK","OK","OK","OK","OK","OK","OK","OK","OK","OK","OK","OK","OK","OK"]
[null,null,"[1.2] >= [12.2]","Reguła logiczna:  [1.2] >= [12.2]","x","x","x","x",{"$f":"IF(I18>=I78,\"OK\",\"BŁĄD\")","v":"OK"},"OK","OK","OK","OK","OK","OK","OK","OK","OK","OK","OK","OK","OK","OK","OK","OK","OK","OK","OK","OK","OK","OK","OK","OK","OK","OK","OK","OK","OK"]
[null,null,null,"Reguła logiczna: jeżeli [3] >0 to [10] = [3]","x","x","x","x",{"$f":"+IF(I31>0,IF(I31=I63,\"OK\",\"Błąd\"),\"N/D\")","v":"OK"},"OK","OK","OK","OK","OK","OK","OK","OK","OK","N/D","N/D","N/D","N/D","N/D","N/D","N/D","N/D","N/D","N/D","N/D","N/D","N/D","N/D","N/D","N/D","N/D","N/D","N/D","N/D"]
[null,null,"[10] >= [10.1]","Reguła logiczna:  [10] >= [10.1]","x","x","x","x",{"$f":"IF(I63>=I64,\"OK\",\"BŁĄD\")","v":"OK"},"OK","OK","OK","OK","OK","OK","OK","OK","OK","OK","OK","OK","OK","OK","OK","OK","OK","OK","OK","OK","OK","OK","OK","OK","OK","OK","OK","OK","OK"]
[null,null,"jeśli [10] > 0 to powinno być [10.1] > 0","Reguła logiczna:  jeżeli [10] > 0 to [10.1] >0","x","x","x","x",{"$f":"IF(I63>0,IF(I64>0,\"OK\",\"BŁĄD\"),\"N/D\")","v":"OK"},"OK","OK","OK","OK","OK","OK","OK","OK","OK","N/D","N/D","N/D","N/D","N/D","N/D","N/D","N/D","N/D","N/D","N/D","N/D","N/D","N/D","N/D","N/D","N/D","N/D","N/D","N/D"]
[null,null,"[12.1] >= [12.1.1]","Reguła logiczna:  [12.1] >= [12.1.1]","x","x","x","x",{"$f":"IF(I75>=I76,\"OK\",\"BŁĄD\")","v":"OK"},"OK","OK","OK","OK","OK","OK","OK","OK","OK","OK","OK","OK","OK","OK","OK","OK","OK","OK","OK","OK","OK","OK","OK","OK","OK","OK","OK","OK","OK"]
[null,null,"[12.1.1] >= [12.1.1.1]","Reguła logiczna:  [12.1.1] >= [12.1.1.1]","x","x","x","x",{"$f":"IF(I76>=I77,\"OK\",\"BŁĄD\")","v":"OK"},"OK","OK","OK","OK","OK","OK","OK","OK","OK","OK","OK","OK","OK","OK","OK","OK","OK","OK","OK","OK","OK","OK","OK","OK","OK","OK","OK","OK","OK"]
[null,null,"[12.2] >= [12.2.1]","Reguła logiczna:  [12.2] >= [12.2.1]","x","x","x","x",{"$f":"IF(I78>=I79,\"OK\",\"BŁĄD\")","v":"OK"},"OK","OK","OK","OK","OK","OK","OK","OK","OK","OK","OK","OK","OK","OK","OK","OK","OK","OK","OK","OK","OK","OK","OK","OK","OK","OK","OK","OK","OK"]
[null,null,"[12.2.1] >= [12.2.1.1]","Reguła logiczna:  [12.2.1] >= [12.2.1.1]","x","x","x","x",{"$f":"IF(I79>=I80,\"OK\",\"BŁĄD\")","v":"OK"},"OK","OK","OK","OK","OK","OK","OK","OK","OK","OK","OK","OK","OK","OK","OK","OK","OK","OK","OK","OK","OK","OK","OK","OK","OK","OK","OK","OK","OK"]
[null,null,"[12.3] >= [12.3.1]","Reguła logiczna:  [12.3] >= [12.3.1]","x","x","x","x",{"$f":"IF(I81>=I82,\"OK\",\"BŁĄD\")","v":"OK"},"OK","OK","OK","OK","OK","OK","OK","OK","OK","OK","OK","OK","OK","OK","OK","OK","OK","OK","OK","OK","OK","OK","OK","OK","OK","OK","OK","OK","OK"]
[null,null,"[12.3] >= [12.3.2]","Reguła logiczna:  [12.3] >= [12.3.2]","x","x","x","x",{"$f":"IF(I81>=I83,\"OK\",\"BŁĄD\")","v":"OK"},"OK","OK","OK","OK","OK","OK","OK","OK","OK","OK","OK","OK","OK","OK","OK","OK","OK","OK","OK","OK","OK","OK","OK","OK","OK","OK","OK","OK","OK"]
[null,null,"[12.4] >= [12.4.1]","Reguła logiczna:  [12.4] >= [12.4.1]","x","x","x","x",{"$f":"IF(I84>=I85,\"OK\",\"BŁĄD\")","v":"OK"},"OK","OK","OK","OK","OK","OK","OK","OK","OK","OK","OK","OK","OK","OK","OK","OK","OK","OK","OK","OK","OK","OK","OK","OK","OK","OK","OK","OK","OK"]
[null,null,"[12.4] >= [12.4.2]","Reguła logiczna:  [12.4] >= [12.4.2]","x","x","x","x",{"$f":"IF(I84>=I86,\"OK\",\"BŁĄD\")","v":"OK"},"OK","OK","OK","OK","OK","OK","OK","OK","OK","OK","OK","OK","OK","OK","OK","OK","OK","OK","OK","OK","OK","OK","OK","OK","OK","OK","OK","OK","OK"]
[null,null,"[12.4] >= [12.4.1]","Reguła logiczna:  [12.5] >= [12.5.1]","x","x","x","x",{"$f":"IF(I87>=I88,\"OK\",\"BŁĄD\")","v":"OK"},{"$f":"IF(J87>=J88,\"OK\",\"BŁĄD\")","v":"OK"},"OK","OK","OK","OK","OK","OK","OK","OK","OK","OK","OK","OK","OK","OK","OK","OK","OK","OK","OK","OK","OK","OK","OK","OK","OK","OK","OK","OK"]
[null,null,"[12.4] >= [12.4.1]","Reguła logiczna:  [12.6] >= [12.6.1]","x","x","x","x",{"$f":"IF(I89>=I90,\"OK\",\"BŁĄD\")","v":"OK"},{"$f":"IF(J89>=J90,\"OK\",\"BŁĄD\")","v":"OK"},"OK","OK","OK","OK","OK","OK","OK","OK","OK","OK","OK","OK","OK","OK","OK","OK","OK","OK","OK","OK","OK","OK","OK","OK","OK","OK","OK","OK"]
[null,null,"[12.4] >= [12.4.1]","Reguła logiczna:  [12.7] >= [12.7.1]","x","x","x","x",{"$f":"IF(I91>=I92,\"OK\",\"BŁĄD\")","v":"OK"},{"$f":"IF(J91>=J92,\"OK\",\"BŁĄD\")","v":"OK"},"OK","OK","OK","OK","OK","OK","OK","OK","OK","OK","OK","OK","OK","OK","OK","OK","OK","OK","OK","OK","OK","OK","OK","OK","OK","OK","OK","OK"]
[null,null,"[12.4] >= [12.4.1]","Reguła logiczna:  [12.8] >= [12.8.1]","x","x","x","x",{"$f":"IF(I93>=I94,\"OK\",\"BŁĄD\")","v":"OK"},{"$f":"IF(J93>=J94,\"OK\",\"BŁĄD\")","v":"OK"},"OK","OK","OK","OK","OK","OK","OK","OK","OK","OK","OK","OK","OK","OK","OK","OK","OK","OK","OK","OK","OK","OK","OK","OK","OK","OK","OK","OK"]
[null,null,"[13.1] >= [13.3]","Reguła logiczna:  [13.1] >= [13.3]","x","x","x","x",{"$f":"IF(I96>=I98,\"OK\",\"BŁĄD\")","v":"OK"},"OK","OK","OK","OK","OK","OK","OK","OK","OK","OK","OK","OK","OK","OK","OK","OK","OK","OK","OK","OK","OK","OK","OK","OK","OK","OK","OK","OK","OK"]
[null,null,"[13.4] >= [2.1.2]","Reguła logiczna:  [13.4] >= [2.1.2]","x","x","x","x",{"$f":"IF(I99>=I25,\"OK\",\"BŁĄD\")","v":"OK"},"OK","OK","OK","OK","OK","OK","OK","OK","OK","OK","OK","OK","OK","OK","OK","OK","OK","OK","OK","OK","OK","OK","OK","OK","OK","OK","OK","OK","OK"]
[null,null,"[14.3] >= [14.3.1] + [14.3.2] + [14.3.3]","Reguła logiczna:  [14.3] >= [14.3.1] + [14.3.2] + [14.3.3]","x","x","x","x",{"$f":"IF(I106>=(I107+I108+I109),\"OK\",\"BŁĄD\")","v":"OK"},"OK","OK","OK","OK","OK","OK","OK","OK","OK","OK","OK","OK","OK","OK","OK","OK","OK","OK","OK","OK","OK","OK","OK","OK","OK","OK","OK","OK","OK"]
[null,null,"[13.1] >= [13.3]","Reguła logiczna:  [15.1] >= [15.1.1]","x","x","x","x",{"$f":"IF(I112>=I113,\"OK\",\"BŁĄD\")","v":"OK"},{"$f":"IF(J112>=J113,\"OK\",\"BŁĄD\")","v":"OK"},"OK","OK","OK","OK","OK","OK","OK","OK","OK","OK","OK","OK","OK","OK","OK","OK","OK","OK","OK","OK","OK","OK","OK","OK","OK","OK","OK","OK"]
[null,null,"[2.1.1] >= [2.1.1.1]","Reguła logiczna:  [2.1.1] >= [2.1.1.1]","x","x","x","x",{"$f":"IF(I23>=I24,\"OK\",\"BŁĄD\")","v":"OK"},"OK","OK","OK","OK","OK","OK","OK","OK","OK","OK","OK","OK","OK","OK","OK","OK","OK","OK","OK","OK","OK","OK","OK","OK","OK","OK","OK","OK","OK"]
[null,null,"[2.1.1] >= [14.3.3]","Reguła logiczna:  [2.1.1] >= [14.3.3]","x","x","x","x",{"$f":"IF(I23>=I109,\"OK\",\"BŁĄD\")","v":"OK"},"OK","OK","OK","OK","OK","OK","OK","OK","OK","OK","OK","OK","OK","OK","OK","OK","OK","OK","OK","OK","OK","OK","OK","OK","OK","OK","OK","OK","OK"]
[null,null,"[2.1.3] >= [2.1.3.1] ","Reguła logiczna:  [2.1.3] >= [2.1.3.1] ","x","x","x","x",{"$f":"IF(I26>=I27,\"OK\",\"BŁĄD\")","v":"OK"},"OK","OK","OK","OK","OK","OK","OK","OK","OK","OK","OK","OK","OK","OK","OK","OK","OK","OK","OK","OK","OK","OK","OK","OK","OK","OK","OK","OK","OK"]
[null,null,"[2.1.3] >= [2.1.3.1] ","Reguła logiczna:  [2.1.3.1] >= [2.1.3.1.1]+[2.1.3.1.2] ","x","x","x","x",{"$f":"IF(I27>=(I28+I29),\"OK\",\"BŁĄD\")","v":"OK"},{"$f":"IF(J27>=J28,\"OK\",\"BŁĄD\")","v":"OK"},"OK","OK","OK","OK","OK","OK","OK","OK","OK","OK","OK","OK","OK","OK","OK","OK","OK","OK","OK","OK","OK","OK","OK","OK","OK","OK","OK","OK"]
[null,null,"[2.1] >= ([2.1.1] + [2.1.2] + [2.1.3])","Reguła logiczna:  [2.1] >= ([2.1.1] + [2.1.2] + [2.1.3])","x","x","x","x",{"$f":"IF(I22>=(I23+I25+I26),\"OK\",\"BŁĄD\")","v":"OK"},"OK","OK","OK","OK","OK","OK","OK","OK","OK","OK","OK","OK","OK","OK","OK","OK","OK","OK","OK","OK","OK","OK","OK","OK","OK","OK","OK","OK","OK"]
[null,null,"[2.1] >= [11.1]","Reguła logiczna:  [2.1] >= [11.1]","x","x","x","x",{"$f":"IF(I22>=I66,\"OK\",\"BŁĄD\")","v":"OK"},"OK","OK","OK","OK","OK","OK","OK","OK","OK","OK","OK","OK","OK","OK","OK","OK","OK","OK","OK","OK","OK","OK","OK","OK","OK","OK","OK","OK","OK"]
[null,null,"[2.1] >= [11.3.1]","Reguła logiczna:  [2.1] >= [11.3.1]","x","x","x","x",{"$f":"IF(I22>=I69,\"OK\",\"BŁĄD\")","v":"OK"},"OK","OK","OK","OK","OK","OK","OK","OK","OK","OK","OK","OK","OK","OK","OK","OK","OK","OK","OK","OK","OK","OK","OK","OK","OK","OK","OK","OK","OK"]
[null,null,"[2.1] >= [12.3]","Reguła logiczna:  [2.1] >= [12.3]","x","x","x","x",{"$f":"IF(I22>=I81,\"OK\",\"BŁĄD\")","v":"OK"},"OK","OK","OK","OK","OK","OK","OK","OK","OK","OK","OK","OK","OK","OK","OK","OK","OK","OK","OK","OK","OK","OK","OK","OK","OK","OK","OK","OK","OK"]
[null,null,"[2.1] >= [13.7]","Reguła logiczna:  [2.1] >= [13.7]","x","x","x","x",{"$f":"IF(I22>=I102,\"OK\",\"BŁĄD\")","v":"OK"},"OK","OK","OK","OK","OK","OK","OK","OK","OK","OK","OK","OK","OK","OK","OK","OK","OK","OK","OK","OK","OK","OK","OK","OK","OK","OK","OK","OK","OK"]
[null,null,"[2.2] >= [11.3.2]","Reguła logiczna:  [2.2] >= [11.3.2]","x","x","x","x",{"$f":"IF(I30>=I70,\"OK\",\"BŁĄD\")","v":"OK"},"OK","OK","OK","OK","OK","OK","OK","OK","OK","OK","OK","OK","OK","OK","OK","OK","OK","OK","OK","OK","OK","OK","OK","OK","OK","OK","OK","OK","OK"]
[null,null,"[2.2] >= [11.4] + [11.5]","Reguła logiczna:  [2.2] >= [11.4] + [11.5]","x","x","x","x",{"$f":"IF(I30>=I71+I72,\"OK\",\"BŁĄD\")","v":"OK"},"OK","OK","OK","OK","OK","OK","OK","OK","OK","OK","OK","OK","OK","OK","OK","OK","OK","OK","OK","OK","OK","OK","OK","OK","OK","OK","OK","OK","OK"]
[null,null,"[2.2] >= [11.6]","Reguła logiczna:  [2.2] >= [11.6]","x","x","x","x",{"$f":"IF(I30>=I73,\"OK\",\"BŁĄD\")","v":"OK"},"OK","OK","OK","OK","OK","OK","OK","OK","OK","OK","OK","OK","OK","OK","OK","OK","OK","OK","OK","OK","OK","OK","OK","OK","OK","OK","OK","OK","OK"]
[null,null,"[2.2] >= [12.4]","Reguła logiczna:  [2.2] >= [12.4]","x","x","x","x",{"$f":"IF(I30>=I84,\"OK\",\"BŁĄD\")","v":"OK"},"OK","OK","OK","OK","OK","OK","OK","OK","OK","OK","OK","OK","OK","OK","OK","OK","OK","OK","OK","OK","OK","OK","OK","OK","OK","OK","OK","OK","OK"]
[null,null,"[4.1] >= [4.1.1]","Reguła logiczna:  [4.1] >= [4.1.1]","x","x","x","x",{"$f":"IF(I33>=I34,\"OK\",\"BŁĄD\")","v":"OK"},"OK","OK","OK","OK","OK","OK","OK","OK","OK","OK","OK","OK","OK","OK","OK","OK","OK","OK","OK","OK","OK","OK","OK","OK","OK","OK","OK","OK","OK"]
[null,null,"[4.2] >= [4.2.1]","Reguła logiczna:  [4.2] >= [4.2.1]","x","x","x","x",{"$f":"IF(I35>=I36,\"OK\",\"BŁĄD\")","v":"OK"},"OK","OK","OK","OK","OK","OK","OK","OK","OK","OK","OK","OK","OK","OK","OK","OK","OK","OK","OK","OK","OK","OK","OK","OK","OK","OK","OK","OK","OK"]
[null,null,"[4.3] >= [4.3.1]","Reguła logiczna:  [4.3] >= [4.3.1]","x","x","x","x",{"$f":"IF(I37>=I38,\"OK\",\"BŁĄD\")","v":"OK"},"OK","OK","OK","OK","OK","OK","OK","OK","OK","OK","OK","OK","OK","OK","OK","OK","OK","OK","OK","OK","OK","OK","OK","OK","OK","OK","OK","OK","OK"]
[null,null,"[4.4] >= [4.4.1]","Reguła logiczna:  [4.4] >= [4.4.1]","x","x","x","x",{"$f":"IF(I39>=I40,\"OK\",\"BŁĄD\")","v":"OK"},"OK","OK","OK","OK","OK","OK","OK","OK","OK","OK","OK","OK","OK","OK","OK","OK","OK","OK","OK","OK","OK","OK","OK","OK","OK","OK","OK","OK","OK"]
[null,null,"[5.1] >= [5.1.1]","Reguła logiczna:  [5.1] >= [5.1.1]","x","x","x","x",{"$f":"IF(I42>=I43,\"OK\",\"BŁĄD\")","v":"OK"},"OK","OK","OK","OK","OK","OK","OK","OK","OK","OK","OK","OK","OK","OK","OK","OK","OK","OK","OK","OK","OK","OK","OK","OK","OK","OK","OK","OK","OK"]
[null,null,"[5.1] >= [10.1]","Reguła logiczna:  [5.1] >= [10.1]","x","x","x","x",{"$f":"IF(I42>=I64,\"OK\",\"BŁĄD\")","v":"OK"},"OK","OK","OK","OK","OK","OK","OK","OK","OK","OK","OK","OK","OK","OK","OK","OK","OK","OK","OK","OK","OK","OK","OK","OK","OK","OK","OK","OK","OK"]
[null,null,"[5.1] >= [14.1]","Reguła logiczna:  [5.1] >= [14.1]","x","x","x","x",{"$f":"IF(I42>=I104,\"OK\",\"BŁĄD\")","v":"OK"},"OK","OK","OK","OK","OK","OK","OK","OK","OK","OK","OK","OK","OK","OK","OK","OK","OK","OK","OK","OK","OK","OK","OK","OK","OK","OK","OK","OK","OK"]
[null,null,"[6] >=[7]","Reguła logiczna:  [6] >=[7]","x","x","x","x",{"$f":"IF(I48>=I49,\"OK\",\"BŁĄD\")","v":"OK"},"OK","OK","OK","OK","OK","OK","OK","OK","OK","OK","OK","OK","OK","OK","OK","OK","OK","OK","OK","OK","OK","OK","OK","OK","OK","OK","OK","OK","OK"]
[null,null,"[6] >= [14.2]","Reguła logiczna:  [6] >= [14.2]","x","x","x","x",{"$f":"IF(I48>=I105,\"OK\",\"BŁĄD\")","v":"OK"},"OK","OK","OK","OK","OK","OK","OK","OK","OK","OK","OK","OK","OK","OK","OK","OK","OK","OK","OK","OK","OK","OK","OK","OK","OK","OK","OK","OK","OK"]
[null,null,"7>=13.1","Reguła logiczna:  7>=13.1","x","x","x","x",{"$f":"IF(I49>=I96,\"OK\",\"BŁĄD\")","v":"OK"},"OK","OK","OK","OK","OK","OK","OK","OK","OK","OK","OK","OK","OK","OK","OK","OK","OK","OK","OK","OK","OK","OK","OK","OK","OK","OK","OK","OK","OK"]
[null,null,"jeżeli [2.1.3] <> 0 to  [2.1.3.1] <> 0 ","Reguła logiczna:  jeżeli [2.1.3] <> 0 to  [2.1.3.1] <> 0 ","x","x","x","x",{"$f":"IF(I26<>0,IF(I27<>0,\"OK\",\"BŁĄD\"),\"N/D\")","v":"OK"},"OK","OK","OK","OK","OK","OK","OK","OK","OK","N/D","N/D","N/D","N/D","N/D","N/D","N/D","N/D","N/D","N/D","N/D","N/D","N/D","N/D","N/D","N/D","N/D","N/D","N/D","N/D"]
[]
[null,null,null,"Kontrola poprawności podstawowych kwot"]
[null,null,null,"Dochody ogółem = bieżące + majątkowe",{"$f":"E11+E18","v":17973113.919999998},17392993.420000002,17678787.150000002,17101682.73,19443564.07,21094929,20445387,20768748,20707811,20663045,21134936,21523984,21930704,22555625,0,0,0,0,0,0,0,0,0,0,0,0,0,0,0,0,0,0,0,0]
[null,null,null,"Wydatki ogółem = bieżące + majątkowe",{"$f":"E22+E30","v":17877352.149999999},17186267.02,17646787.150000002,16884782.780000001,19043564.07,20494929,19845387,19568748,19407811,19463045,19804936,20013984,20382704,21812625,0,0,0,0,0,0,0,0,0,0,0,0,0,0,0,0,0,0,0,0]
[null,null,null,"Wynik budżetu = dochody ogółem - wydatki ogółem",{"$f":"E10-E21","v":95761.770000003278},206726.40000000224,32000,216899.94999999925,400000,600000,600000,1200000,1300000,1200000,1330000,1510000,1548000,743000,0,0,0,0,0,0,0,0,0,0,0,0,0,0,0,0,0,0,0,0]
[null,null,null,"Wyliczenie kwoty długu","x",{"$f":"E48+F37-F42+(F105-E105)+F110","v":10540850},"x",{"$f":"F48+H37-H42+(H105-F105)+H110","v":10431000},{"$f":"H48+I37-I42+(I105-H105)+I110","v":10719000},9995000,9275000,7958000,6545000,5236000,3801000,2291000,743000,0,0,0,0,0,0,0,0,0,0,0,0,0,0,0,0,0,0,0,0,0]
[null,null,null,"Wyliczenie zobowiązań wynikających z przejęcia przez jst zobowiązań po likwidowanych i przekształcanych SZOZ","x",{"$f":"E96-(F98+F99+F100+F101)","v":0},"x",{"$f":"F96-(H98+H99+H100+H101)","v":0},{"$f":"H96-(I98+I99+I100+I101)","v":0},0,0,0,0,0,0,0,0,0,0,0,0,0,0,0,0,0,0,0,0,0,0,0,0,0,0,0,0,0]
[]
[null,null,null,"Analiza ryzyka niespełnienia wskaźnika z art. 243"]
[null,null,null,"Analiza składowych wzoru wskaźnika z art. 243"]
[null,null,null,0,{"$f":"+\"różnica mniejsza od \"&TEXT(D197*100,\"0,0\")&\"%\"","v":"różnica mniejsza od 0,0%"}]
[null,null,null,5.0000000000000001E-3,{"$f":"+\"różnica mniejsza od \"&TEXT(D198*100,\"0,0\")&\"%\"","v":"różnica mniejsza od 0,5%"}]
[null,null,null,0.01,{"$f":"+\"różnica mniejsza od \"&TEXT(D199*100,\"0,0\")&\"%\"","v":"różnica mniejsza od 1,0%"}]
[null,null,null,"max. limit spłat (planistyczny) - (R+O)/D (bez wyłączeń)","x","x","x","x",{"$f":"+IF(I10=0,\"\",I59-I54)","v":7.1999999999999981E-3},1.6733333333333329E-2,2.463333333333334E-2,9.000000000000008E-3,1.9999999999999185E-4,9.999999999999995E-3,8.5000000000000075E-3,8.3333333333333315E-3,1.316666666666666E-2,5.4233333333333335E-2,"","","","","","","","","","","","","","","","","","","",""]
[null,null,null,"max. limit spłat (planistyczny) - (R+O)/D (z wyłączeniami)","x","x","x","x",{"$f":"+IF(I10=0,\"\",I59-I55)","v":1.2700000000000003E-2},2.1233333333333333E-2,2.8233333333333339E-2,1.2000000000000011E-2,2.2999999999999965E-3,1.1200000000000002E-2,9.4000000000000056E-3,9.0333333333333377E-3,1.3766666666666663E-2,5.4833333333333331E-2,"","","","","","","","","","","","","","","","","","","",""]
[null,null,null,"max. limit spłat (wg wykonania) - (R+O)/D (bez wyłączeń)","x","x","x","x",{"$f":"+IF(I10=0,\"\",I60-I54)","v":6.8000000000000005E-3},1.6300000000000002E-2,2.4199999999999999E-2,8.9999999999999941E-3,1.9999999999999185E-4,9.999999999999995E-3,8.4999999999999937E-3,8.3000000000000018E-3,1.3200000000000003E-2,5.4200000000000005E-2,"","","","","","","","","","","","","","","","","","","",""]
[null,null,null,"max. limit spłat (wg wykonania) - (R+O)/D (z wyłączeniami)","x","x","x","x",{"$f":"+IF(I10=0,\"\",I60-I55)","v":1.2300000000000005E-2},2.0800000000000006E-2,2.7799999999999998E-2,1.1999999999999997E-2,2.2999999999999965E-3,1.1200000000000002E-2,9.3999999999999917E-3,9.000000000000008E-3,1.3800000000000007E-2,5.4800000000000001E-2,"","","","","","","","","","","","","","","","","","","",""]

{"sheet":"definicja","index":2,"n_rows":114,"n_cols":34,"rows_kept":114,"cut":false,"hidden":true,"merged":[]}
[]
[null,null,"dane z eWPF"]
[null,null,"dane z Rb"]
[]
[]
[]
[]
[]
[null,"Lp.","Wyszczególnienie",0,0,{"$f":"+E9+1","v":1},{"$f":"+F9+1","v":2},3,4,5,6,7,8,9,10,{"$f":"+O9+1","v":11},12,13,14,15,16,17,18,19,20,21,22,23,24,25,26,27,{"$f":"+AF9+1","v":28},{"$f":"+AG9+1","v":29}]
[10,1,"Dochody ogółem",{"$f":"+\"rokwzgl=\"&D$9&\" i lp=\"&$A10","v":"rokwzgl=0 i lp=10"},"rokwzgl=0 i lp=10","rokwzgl=1 i lp=10","rokwzgl=2 i lp=10","rokwzgl=3 i lp=10","rokwzgl=4 i lp=10","rokwzgl=5 i lp=10","rokwzgl=6 i lp=10","rokwzgl=7 i lp=10","rokwzgl=8 i lp=10",{"$f":"+\"rokwzgl=\"&N$9&\" i lp=\"&$A10","v":"rokwzgl=9 i lp=10"},"rokwzgl=10 i lp=10","rokwzgl=11 i lp=10","rokwzgl=12 i lp=10","rokwzgl=13 i lp=10","rokwzgl=14 i lp=10","rokwzgl=15 i lp=10","rokwzgl=16 i lp=10","rokwzgl=17 i lp=10","rokwzgl=18 i lp=10",{"$f":"+\"rokwzgl=\"&X$9&\" i lp=\"&$A10","v":"rokwzgl=19 i lp=10"},"rokwzgl=20 i lp=10","rokwzgl=21 i lp=10","rokwzgl=22 i lp=10","rokwzgl=23 i lp=10","rokwzgl=24 i lp=10","rokwzgl=25 i lp=10","rokwzgl=26 i lp=10","rokwzgl=27 i lp=10","rokwzgl=28 i lp=10","rokwzgl=29 i lp=10"]
[20,"1.1"," Dochody bieżące","rokwzgl=0 i lp=20","rokwzgl=0 i lp=20","rokwzgl=1 i lp=20","rokwzgl=2 i lp=20","rokwzgl=3 i lp=20","rokwzgl=4 i lp=20","rokwzgl=5 i lp=20","rokwzgl=6 i lp=20","rokwzgl=7 i lp=20","rokwzgl=8 i lp=20","rokwzgl=9 i lp=20","rokwzgl=10 i lp=20","rokwzgl=11 i lp=20","rokwzgl=12 i lp=20","rokwzgl=13 i lp=20","rokwzgl=14 i lp=20","rokwzgl=15 i lp=20","rokwzgl=16 i lp=20","rokwzgl=17 i lp=20","rokwzgl=18 i lp=20","rokwzgl=19 i lp=20","rokwzgl=20 i lp=20","rokwzgl=21 i lp=20","rokwzgl=22 i lp=20","rokwzgl=23 i lp=20","rokwzgl=24 i lp=20","rokwzgl=25 i lp=20","rokwzgl=26 i lp=20","rokwzgl=27 i lp=20","rokwzgl=28 i lp=20","rokwzgl=29 i lp=20"]
[30,"1.1.1","  dochody z tytułu udziału we wpływach z podatku dochodowego od osób fizycznych","rokwzgl=0 i lp=30","rokwzgl=0 i lp=30","rokwzgl=1 i lp=30","rokwzgl=2 i lp=30","rokwzgl=3 i lp=30","rokwzgl=4 i lp=30","rokwzgl=5 i lp=30","rokwzgl=6 i lp=30","rokwzgl=7 i lp=30","rokwzgl=8 i lp=30","rokwzgl=9 i lp=30","rokwzgl=10 i lp=30","rokwzgl=11 i lp=30","rokwzgl=12 i lp=30","rokwzgl=13 i lp=30","rokwzgl=14 i lp=30","rokwzgl=15 i lp=30","rokwzgl=16 i lp=30","rokwzgl=17 i lp=30","rokwzgl=18 i lp=30","rokwzgl=19 i lp=30","rokwzgl=20 i lp=30","rokwzgl=21 i lp=30","rokwzgl=22 i lp=30","rokwzgl=23 i lp=30","rokwzgl=24 i lp=30","rokwzgl=25 i lp=30","rokwzgl=26 i lp=30","rokwzgl=27 i lp=30","rokwzgl=28 i lp=30","rokwzgl=29 i lp=30"]
[40,"1.1.2","  dochody z tytułu udziału we wpływach z podatku dochodowego od osób prawnych","rokwzgl=0 i lp=40","rokwzgl=0 i lp=40","rokwzgl=1 i lp=40","rokwzgl=2 i lp=40","rokwzgl=3 i lp=40","rokwzgl=4 i lp=40","rokwzgl=5 i lp=40","rokwzgl=6 i lp=40","rokwzgl=7 i lp=40","rokwzgl=8 i lp=40","rokwzgl=9 i lp=40","rokwzgl=10 i lp=40","rokwzgl=11 i lp=40","rokwzgl=12 i lp=40","rokwzgl=13 i lp=40","rokwzgl=14 i lp=40","rokwzgl=15 i lp=40","rokwzgl=16 i lp=40","rokwzgl=17 i lp=40","rokwzgl=18 i lp=40","rokwzgl=19 i lp=40","rokwzgl=20 i lp=40","rokwzgl=21 i lp=40","rokwzgl=22 i lp=40","rokwzgl=23 i lp=40","rokwzgl=24 i lp=40","rokwzgl=25 i lp=40","rokwzgl=26 i lp=40","rokwzgl=27 i lp=40","rokwzgl=28 i lp=40","rokwzgl=29 i lp=40"]
[50,"1.1.3","  podatki i opłaty","rokwzgl=0 i lp=50","rokwzgl=0 i lp=50","rokwzgl=1 i lp=50","rokwzgl=2 i lp=50","rokwzgl=3 i lp=50","rokwzgl=4 i lp=50","rokwzgl=5 i lp=50","rokwzgl=6 i lp=50","rokwzgl=7 i lp=50","rokwzgl=8 i lp=50","rokwzgl=9 i lp=50","rokwzgl=10 i lp=50","rokwzgl=11 i lp=50","rokwzgl=12 i lp=50","rokwzgl=13 i lp=50","rokwzgl=14 i lp=50","rokwzgl=15 i lp=50","rokwzgl=16 i lp=50","rokwzgl=17 i lp=50","rokwzgl=18 i lp=50","rokwzgl=19 i lp=50","rokwzgl=20 i lp=50","rokwzgl=21 i lp=50","rokwzgl=22 i lp=50","rokwzgl=23 i lp=50","rokwzgl=24 i lp=50","rokwzgl=25 i lp=50","rokwzgl=26 i lp=50","rokwzgl=27 i lp=50","rokwzgl=28 i lp=50","rokwzgl=29 i lp=50"]
[60,"1.1.3.1","   z podatku od nieruchomości","rokwzgl=0 i lp=60","rokwzgl=0 i lp=60","rokwzgl=1 i lp=60","rokwzgl=2 i lp=60","rokwzgl=3 i lp=60","rokwzgl=4 i lp=60","rokwzgl=5 i lp=60","rokwzgl=6 i lp=60","rokwzgl=7 i lp=60","rokwzgl=8 i lp=60","rokwzgl=9 i lp=60","rokwzgl=10 i lp=60","rokwzgl=11 i lp=60","rokwzgl=12 i lp=60","rokwzgl=13 i lp=60","rokwzgl=14 i lp=60","rokwzgl=15 i lp=60","rokwzgl=16 i lp=60","rokwzgl=17 i lp=60","rokwzgl=18 i lp=60","rokwzgl=19 i lp=60","rokwzgl=20 i lp=60","rokwzgl=21 i lp=60","rokwzgl=22 i lp=60","rokwzgl=23 i lp=60","rokwzgl=24 i lp=60","rokwzgl=25 i lp=60","rokwzgl=26 i lp=60","rokwzgl=27 i lp=60","rokwzgl=28 i lp=60","rokwzgl=29 i lp=60"]
[70,"1.1.4","  z subwencji ogólnej","rokwzgl=0 i lp=70","rokwzgl=0 i lp=70","rokwzgl=1 i lp=70","rokwzgl=2 i lp=70","rokwzgl=3 i lp=70","rokwzgl=4 i lp=70","rokwzgl=5 i lp=70","rokwzgl=6 i lp=70","rokwzgl=7 i lp=70","rokwzgl=8 i lp=70","rokwzgl=9 i lp=70","rokwzgl=10 i lp=70","rokwzgl=11 i lp=70","rokwzgl=12 i lp=70","rokwzgl=13 i lp=70","rokwzgl=14 i lp=70","rokwzgl=15 i lp=70","rokwzgl=16 i lp=70","rokwzgl=17 i lp=70","rokwzgl=18 i lp=70","rokwzgl=19 i lp=70","rokwzgl=20 i lp=70","rokwzgl=21 i lp=70","rokwzgl=22 i lp=70","rokwzgl=23 i lp=70","rokwzgl=24 i lp=70","rokwzgl=25 i lp=70","rokwzgl=26 i lp=70","rokwzgl=27 i lp=70","rokwzgl=28 i lp=70","rokwzgl=29 i lp=70"]
[80,"1.1.5","  z tytułu dotacji i środków przeznaczonych na cele bieżące","rokwzgl=0 i lp=80","rokwzgl=0 i lp=80","rokwzgl=1 i lp=80","rokwzgl=2 i lp=80","rokwzgl=3 i lp=80","rokwzgl=4 i lp=80","rokwzgl=5 i lp=80","rokwzgl=6 i lp=80","rokwzgl=7 i lp=80","rokwzgl=8 i lp=80","rokwzgl=9 i lp=80","rokwzgl=10 i lp=80","rokwzgl=11 i lp=80","rokwzgl=12 i lp=80","rokwzgl=13 i lp=80","rokwzgl=14 i lp=80","rokwzgl=15 i lp=80","rokwzgl=16 i lp=80","rokwzgl=17 i lp=80","rokwzgl=18 i lp=80","rokwzgl=19 i lp=80","rokwzgl=20 i lp=80","rokwzgl=21 i lp=80","rokwzgl=22 i lp=80","rokwzgl=23 i lp=80","rokwzgl=24 i lp=80","rokwzgl=25 i lp=80","rokwzgl=26 i lp=80","rokwzgl=27 i lp=80","rokwzgl=28 i lp=80","rokwzgl=29 i lp=80"]
[90,"1.2","  Dochody majątkowe, w tym","rokwzgl=0 i lp=90","rokwzgl=0 i lp=90","rokwzgl=1 i lp=90","rokwzgl=2 i lp=90","rokwzgl=3 i lp=90","rokwzgl=4 i lp=90","rokwzgl=5 i lp=90","rokwzgl=6 i lp=90","rokwzgl=7 i lp=90","rokwzgl=8 i lp=90","rokwzgl=9 i lp=90","rokwzgl=10 i lp=90","rokwzgl=11 i lp=90","rokwzgl=12 i lp=90","rokwzgl=13 i lp=90","rokwzgl=14 i lp=90","rokwzgl=15 i lp=90","rokwzgl=16 i lp=90","rokwzgl=17 i lp=90","rokwzgl=18 i lp=90","rokwzgl=19 i lp=90","rokwzgl=20 i lp=90","rokwzgl=21 i lp=90","rokwzgl=22 i lp=90","rokwzgl=23 i lp=90","rokwzgl=24 i lp=90","rokwzgl=25 i lp=90","rokwzgl=26 i lp=90","rokwzgl=27 i lp=90","rokwzgl=28 i lp=90","rokwzgl=29 i lp=90"]
[100,"1.2.1","  ze sprzedaży majątku","rokwzgl=0 i lp=100","rokwzgl=0 i lp=100","rokwzgl=1 i lp=100","rokwzgl=2 i lp=100","rokwzgl=3 i lp=100","rokwzgl=4 i lp=100","rokwzgl=5 i lp=100","rokwzgl=6 i lp=100","rokwzgl=7 i lp=100","rokwzgl=8 i lp=100","rokwzgl=9 i lp=100","rokwzgl=10 i lp=100","rokwzgl=11 i lp=100","rokwzgl=12 i lp=100","rokwzgl=13 i lp=100","rokwzgl=14 i lp=100","rokwzgl=15 i lp=100","rokwzgl=16 i lp=100","rokwzgl=17 i lp=100","rokwzgl=18 i lp=100","rokwzgl=19 i lp=100","rokwzgl=20 i lp=100","rokwzgl=21 i lp=100","rokwzgl=22 i lp=100","rokwzgl=23 i lp=100","rokwzgl=24 i lp=100","rokwzgl=25 i lp=100","rokwzgl=26 i lp=100","rokwzgl=27 i lp=100","rokwzgl=28 i lp=100","rokwzgl=29 i lp=100"]
[110,"1.2.2","  z tytułu dotacji oraz środków przeznaczonych na inwestycje",{"$f":"+\"rokwzgl=\"&D$9&\" i lp=\"&$A20","v":"rokwzgl=0 i lp=110"},"rokwzgl=0 i lp=110","rokwzgl=1 i lp=110","rokwzgl=2 i lp=110","rokwzgl=3 i lp=110","rokwzgl=4 i lp=110","rokwzgl=5 i lp=110","rokwzgl=6 i lp=110","rokwzgl=7 i lp=110","rokwzgl=8 i lp=110",{"$f":"+\"rokwzgl=\"&N$9&\" i lp=\"&$A20","v":"rokwzgl=9 i lp=110"},"rokwzgl=10 i lp=110","rokwzgl=11 i lp=110","rokwzgl=12 i lp=110","rokwzgl=13 i lp=110","rokwzgl=14 i lp=110","rokwzgl=15 i lp=110","rokwzgl=16 i lp=110","rokwzgl=17 i lp=110","rokwzgl=18 i lp=110",{"$f":"+\"rokwzgl=\"&X$9&\" i lp=\"&$A20","v":"rokwzgl=19 i lp=110"},"rokwzgl=20 i lp=110","rokwzgl=21 i lp=110","rokwzgl=22 i lp=110","rokwzgl=23 i lp=110","rokwzgl=24 i lp=110","rokwzgl=25 i lp=110","rokwzgl=26 i lp=110","rokwzgl=27 i lp=110","rokwzgl=28 i lp=110","rokwzgl=29 i lp=110"]
[120,2,"Wydatki ogółem","rokwzgl=0 i lp=120","rokwzgl=0 i lp=120","rokwzgl=1 i lp=120","rokwzgl=2 i lp=120","rokwzgl=3 i lp=120","rokwzgl=4 i lp=120","rokwzgl=5 i lp=120","rokwzgl=6 i lp=120","rokwzgl=7 i lp=120","rokwzgl=8 i lp=120","rokwzgl=9 i lp=120","rokwzgl=10 i lp=120","rokwzgl=11 i lp=120","rokwzgl=12 i lp=120","rokwzgl=13 i lp=120","rokwzgl=14 i lp=120","rokwzgl=15 i lp=120","rokwzgl=16 i lp=120","rokwzgl=17 i lp=120","rokwzgl=18 i lp=120","rokwzgl=19 i lp=120","rokwzgl=20 i lp=120","rokwzgl=21 i lp=120","rokwzgl=22 i lp=120","rokwzgl=23 i lp=120","rokwzgl=24 i lp=120","rokwzgl=25 i lp=120","rokwzgl=26 i lp=120","rokwzgl=27 i lp=120","rokwzgl=28 i lp=120","rokwzgl=29 i lp=120"]
[130,"2.1"," Wydatki bieżące, w tym:","rokwzgl=0 i lp=130","rokwzgl=0 i lp=130","rokwzgl=1 i lp=130","rokwzgl=2 i lp=130","rokwzgl=3 i lp=130","rokwzgl=4 i lp=130","rokwzgl=5 i lp=130","rokwzgl=6 i lp=130","rokwzgl=7 i lp=130","rokwzgl=8 i lp=130","rokwzgl=9 i lp=130","rokwzgl=10 i lp=130","rokwzgl=11 i lp=130","rokwzgl=12 i lp=130","rokwzgl=13 i lp=130","rokwzgl=14 i lp=130","rokwzgl=15 i lp=130","rokwzgl=16 i lp=130","rokwzgl=17 i lp=130","rokwzgl=18 i lp=130","rokwzgl=19 i lp=130","rokwzgl=20 i lp=130","rokwzgl=21 i lp=130","rokwzgl=22 i lp=130","rokwzgl=23 i lp=130","rokwzgl=24 i lp=130","rokwzgl=25 i lp=130","rokwzgl=26 i lp=130","rokwzgl=27 i lp=130","rokwzgl=28 i lp=130","rokwzgl=29 i lp=130"]
[140,"2.1.1","  z tytułu poręczeń i gwarancji","rokwzgl=0 i lp=140","rokwzgl=0 i lp=140","rokwzgl=1 i lp=140","rokwzgl=2 i lp=140","rokwzgl=3 i lp=140","rokwzgl=4 i lp=140","rokwzgl=5 i lp=140","rokwzgl=6 i lp=140","rokwzgl=7 i lp=140","rokwzgl=8 i lp=140","rokwzgl=9 i lp=140","rokwzgl=10 i lp=140","rokwzgl=11 i lp=140","rokwzgl=12 i lp=140","rokwzgl=13 i lp=140","rokwzgl=14 i lp=140","rokwzgl=15 i lp=140","rokwzgl=16 i lp=140","rokwzgl=17 i lp=140","rokwzgl=18 i lp=140","rokwzgl=19 i lp=140","rokwzgl=20 i lp=140","rokwzgl=21 i lp=140","rokwzgl=22 i lp=140","rokwzgl=23 i lp=140","rokwzgl=24 i lp=140","rokwzgl=25 i lp=140","rokwzgl=26 i lp=140","rokwzgl=27 i lp=140","rokwzgl=28 i lp=140","rokwzgl=29 i lp=140"]
[150,"2.1.1.1","   w tym: gwarancje i poręczenia podlegające wyłączeniu z limitu spłaty zobowiązań, o którym mowa w art. 243 ustawy","rokwzgl=0 i lp=150","rokwzgl=0 i lp=150","rokwzgl=1 i lp=150","rokwzgl=2 i lp=150","rokwzgl=3 i lp=150","rokwzgl=4 i lp=150","rokwzgl=5 i lp=150","rokwzgl=6 i lp=150","rokwzgl=7 i lp=150","rokwzgl=8 i lp=150","rokwzgl=9 i lp=150","rokwzgl=10 i lp=150","rokwzgl=11 i lp=150","rokwzgl=12 i lp=150","rokwzgl=13 i lp=150","rokwzgl=14 i lp=150","rokwzgl=15 i lp=150","rokwzgl=16 i lp=150","rokwzgl=17 i lp=150","rokwzgl=18 i lp=150","rokwzgl=19 i lp=150","rokwzgl=20 i lp=150","rokwzgl=21 i lp=150","rokwzgl=22 i lp=150","rokwzgl=23 i lp=150","rokwzgl=24 i lp=150","rokwzgl=25 i lp=150","rokwzgl=26 i lp=150","rokwzgl=27 i lp=150","rokwzgl=28 i lp=150","rokwzgl=29 i lp=150"]
[160,"2.1.2","   na spłatę przejętych zobowiązań samodzielnego publicznego zakładu opieki zdrowotnej przekształconego na zasadach określonych w przepisach  o działalności leczniczej, w wysokości w jakiej nie podlegają sfinansowaniu dotacją z budżetu państwa","rokwzgl=0 i lp=160","rokwzgl=0 i lp=160","rokwzgl=1 i lp=160","rokwzgl=2 i lp=160","rokwzgl=3 i lp=160","rokwzgl=4 i lp=160","rokwzgl=5 i lp=160","rokwzgl=6 i lp=160","rokwzgl=7 i lp=160","rokwzgl=8 i lp=160","rokwzgl=9 i lp=160","rokwzgl=10 i lp=160","rokwzgl=11 i lp=160","rokwzgl=12 i lp=160","rokwzgl=13 i lp=160","rokwzgl=14 i lp=160","rokwzgl=15 i lp=160","rokwzgl=16 i lp=160","rokwzgl=17 i lp=160","rokwzgl=18 i lp=160","rokwzgl=19 i lp=160","rokwzgl=20 i lp=160","rokwzgl=21 i lp=160","rokwzgl=22 i lp=160","rokwzgl=23 i lp=160","rokwzgl=24 i lp=160","rokwzgl=25 i lp=160","rokwzgl=26 i lp=160","rokwzgl=27 i lp=160","rokwzgl=28 i lp=160","rokwzgl=29 i lp=160"]
[170,"2.1.3","  wydatki na obsługę długu, w tym:","rokwzgl=0 i lp=170","rokwzgl=0 i lp=170","rokwzgl=1 i lp=170","rokwzgl=2 i lp=170","rokwzgl=3 i lp=170","rokwzgl=4 i lp=170","rokwzgl=5 i lp=170","rokwzgl=6 i lp=170","rokwzgl=7 i lp=170","rokwzgl=8 i lp=170","rokwzgl=9 i lp=170","rokwzgl=10 i lp=170","rokwzgl=11 i lp=170","rokwzgl=12 i lp=170","rokwzgl=13 i lp=170","rokwzgl=14 i lp=170","rokwzgl=15 i lp=170","rokwzgl=16 i lp=170","rokwzgl=17 i lp=170","rokwzgl=18 i lp=170","rokwzgl=19 i lp=170","rokwzgl=20 i lp=170","rokwzgl=21 i lp=170","rokwzgl=22 i lp=170","rokwzgl=23 i lp=170","rokwzgl=24 i lp=170","rokwzgl=25 i lp=170","rokwzgl=26 i lp=170","rokwzgl=27 i lp=170","rokwzgl=28 i lp=170","rokwzgl=29 i lp=170"]
[180,"2.1.3.1","   odsetki i dyskonto określone w art. 243 ust. 1 ustawy, w tym:","rokwzgl=0 i lp=180","rokwzgl=0 i lp=180","rokwzgl=1 i lp=180","rokwzgl=2 i lp=180","rokwzgl=3 i lp=180","rokwzgl=4 i lp=180","rokwzgl=5 i lp=180","rokwzgl=6 i lp=180","rokwzgl=7 i lp=180","rokwzgl=8 i lp=180","rokwzgl=9 i lp=180","rokwzgl=10 i lp=180","rokwzgl=11 i lp=180","rokwzgl=12 i lp=180","rokwzgl=13 i lp=180","rokwzgl=14 i lp=180","rokwzgl=15 i lp=180","rokwzgl=16 i lp=180","rokwzgl=17 i lp=180","rokwzgl=18 i lp=180","rokwzgl=19 i lp=180","rokwzgl=20 i lp=180","rokwzgl=21 i lp=180","rokwzgl=22 i lp=180","rokwzgl=23 i lp=180","rokwzgl=24 i lp=180","rokwzgl=25 i lp=180","rokwzgl=26 i lp=180","rokwzgl=27 i lp=180","rokwzgl=28 i lp=180","rokwzgl=29 i lp=180"]
[182,"2.1.3.1.1","    odsetki i dyskonto podlegające wyłączeniu z limitu spłaty zobowiązań, o którym mowa w art. 243 ustawy, w terminie nie dłuższym niż 90 dni po zakończeniu programu, projektu lub zadania i otrzymaniu refundacji z tych środków (bez odsetek i dyskonta od zobowiązań na wkład krajowy)","rokwzgl=0 i lp=182","rokwzgl=0 i lp=182","rokwzgl=1 i lp=182","rokwzgl=2 i lp=182","rokwzgl=3 i lp=182","rokwzgl=4 i lp=182","rokwzgl=5 i lp=182","rokwzgl=6 i lp=182","rokwzgl=7 i lp=182","rokwzgl=8 i lp=182","rokwzgl=9 i lp=182","rokwzgl=10 i lp=182","rokwzgl=11 i lp=182","rokwzgl=12 i lp=182","rokwzgl=13 i lp=182","rokwzgl=14 i lp=182","rokwzgl=15 i lp=182","rokwzgl=16 i lp=182","rokwzgl=17 i lp=182","rokwzgl=18 i lp=182","rokwzgl=19 i lp=182","rokwzgl=20 i lp=182","rokwzgl=21 i lp=182","rokwzgl=22 i lp=182","rokwzgl=23 i lp=182","rokwzgl=24 i lp=182","rokwzgl=25 i lp=182","rokwzgl=26 i lp=182","rokwzgl=27 i lp=182","rokwzgl=28 i lp=182","rokwzgl=29 i lp=182"]
[184,"2.1.3.1.2","    odsetki i dyskonto podlegające wyłączeniu z limitu spłaty zobowiązań, o którym mowa w art. 243 ustawy, z tytułu zobowiązań  zaciągniętych na wkład krajowy","rokwzgl=0 i lp=184","rokwzgl=0 i lp=184","rokwzgl=1 i lp=184","rokwzgl=2 i lp=184","rokwzgl=3 i lp=184","rokwzgl=4 i lp=184","rokwzgl=5 i lp=184","rokwzgl=6 i lp=184","rokwzgl=7 i lp=184","rokwzgl=8 i lp=184","rokwzgl=9 i lp=184","rokwzgl=10 i lp=184","rokwzgl=11 i lp=184","rokwzgl=12 i lp=184","rokwzgl=13 i lp=184","rokwzgl=14 i lp=184","rokwzgl=15 i lp=184","rokwzgl=16 i lp=184","rokwzgl=17 i lp=184","rokwzgl=18 i lp=184","rokwzgl=19 i lp=184","rokwzgl=20 i lp=184","rokwzgl=21 i lp=184","rokwzgl=22 i lp=184","rokwzgl=23 i lp=184","rokwzgl=24 i lp=184","rokwzgl=25 i lp=184","rokwzgl=26 i lp=184","rokwzgl=27 i lp=184","rokwzgl=28 i lp=184","rokwzgl=29 i lp=184"]
[190,"2.2"," Wydatki majątkowe","rokwzgl=0 i lp=190","rokwzgl=0 i lp=190","rokwzgl=1 i lp=190","rokwzgl=2 i lp=190","rokwzgl=3 i lp=190","rokwzgl=4 i lp=190","rokwzgl=5 i lp=190","rokwzgl=6 i lp=190","rokwzgl=7 i lp=190","rokwzgl=8 i lp=190","rokwzgl=9 i lp=190","rokwzgl=10 i lp=190","rokwzgl=11 i lp=190","rokwzgl=12 i lp=190","rokwzgl=13 i lp=190","rokwzgl=14 i lp=190","rokwzgl=15 i lp=190","rokwzgl=16 i lp=190","rokwzgl=17 i lp=190","rokwzgl=18 i lp=190","rokwzgl=19 i lp=190","rokwzgl=20 i lp=190","rokwzgl=21 i lp=190","rokwzgl=22 i lp=190","rokwzgl=23 i lp=190","rokwzgl=24 i lp=190","rokwzgl=25 i lp=190","rokwzgl=26 i lp=190","rokwzgl=27 i lp=190","rokwzgl=28 i lp=190","rokwzgl=29 i lp=190"]
[200,3,"Wynik budżetu","rokwzgl=0 i lp=200","rokwzgl=0 i lp=200","rokwzgl=1 i lp=200","rokwzgl=2 i lp=200","rokwzgl=3 i lp=200","rokwzgl=4 i lp=200","rokwzgl=5 i lp=200","rokwzgl=6 i lp=200","rokwzgl=7 i lp=200","rokwzgl=8 i lp=200","rokwzgl=9 i lp=200","rokwzgl=10 i lp=200","rokwzgl=11 i lp=200","rokwzgl=12 i lp=200","rokwzgl=13 i lp=200","rokwzgl=14 i lp=200","rokwzgl=15 i lp=200","rokwzgl=16 i lp=200","rokwzgl=17 i lp=200","rokwzgl=18 i lp=200","rokwzgl=19 i lp=200","rokwzgl=20 i lp=200","rokwzgl=21 i lp=200","rokwzgl=22 i lp=200","rokwzgl=23 i lp=200","rokwzgl=24 i lp=200","rokwzgl=25 i lp=200","rokwzgl=26 i lp=200","rokwzgl=27 i lp=200","rokwzgl=28 i lp=200","rokwzgl=29 i lp=200"]
[210,4,"Przychody budżetu","rokwzgl=0 i lp=210","rokwzgl=0 i lp=210","rokwzgl=1 i lp=210","rokwzgl=2 i lp=210","rokwzgl=3 i lp=210","rokwzgl=4 i lp=210","rokwzgl=5 i lp=210","rokwzgl=6 i lp=210","rokwzgl=7 i lp=210","rokwzgl=8 i lp=210","rokwzgl=9 i lp=210","rokwzgl=10 i lp=210","rokwzgl=11 i lp=210","rokwzgl=12 i lp=210","rokwzgl=13 i lp=210","rokwzgl=14 i lp=210","rokwzgl=15 i lp=210","rokwzgl=16 i lp=210","rokwzgl=17 i lp=210","rokwzgl=18 i lp=210","rokwzgl=19 i lp=210","rokwzgl=20 i lp=210","rokwzgl=21 i lp=210","rokwzgl=22 i lp=210","rokwzgl=23 i lp=210","rokwzgl=24 i lp=210","rokwzgl=25 i lp=210","rokwzgl=26 i lp=210","rokwzgl=27 i lp=210","rokwzgl=28 i lp=210","rokwzgl=29 i lp=210"]
[220,"4.1"," Nadwyżka budżetowa z lat ubiegłych","rokwzgl=0 i lp=220","rokwzgl=0 i lp=220","rokwzgl=1 i lp=220","rokwzgl=2 i lp=220","rokwzgl=3 i lp=220","rokwzgl=4 i lp=220","rokwzgl=5 i lp=220","rokwzgl=6 i lp=220","rokwzgl=7 i lp=220","rokwzgl=8 i lp=220","rokwzgl=9 i lp=220","rokwzgl=10 i lp=220","rokwzgl=11 i lp=220","rokwzgl=12 i lp=220","rokwzgl=13 i lp=220","rokwzgl=14 i lp=220","rokwzgl=15 i lp=220","rokwzgl=16 i lp=220","rokwzgl=17 i lp=220","rokwzgl=18 i lp=220","rokwzgl=19 i lp=220","rokwzgl=20 i lp=220","rokwzgl=21 i lp=220","rokwzgl=22 i lp=220","rokwzgl=23 i lp=220","rokwzgl=24 i lp=220","rokwzgl=25 i lp=220","rokwzgl=26 i lp=220","rokwzgl=27 i lp=220","rokwzgl=28 i lp=220","rokwzgl=29 i lp=220"]
[230,"4.1.1","  w tym na pokrycie deficytu budżetu","rokwzgl=0 i lp=230","rokwzgl=0 i lp=230","rokwzgl=1 i lp=230","rokwzgl=2 i lp=230","rokwzgl=3 i lp=230","rokwzgl=4 i lp=230","rokwzgl=5 i lp=230","rokwzgl=6 i lp=230","rokwzgl=7 i lp=230","rokwzgl=8 i lp=230","rokwzgl=9 i lp=230","rokwzgl=10 i lp=230","rokwzgl=11 i lp=230","rokwzgl=12 i lp=230","rokwzgl=13 i lp=230","rokwzgl=14 i lp=230","rokwzgl=15 i lp=230","rokwzgl=16 i lp=230","rokwzgl=17 i lp=230","rokwzgl=18 i lp=230","rokwzgl=19 i lp=230","rokwzgl=20 i lp=230","rokwzgl=21 i lp=230","rokwzgl=22 i lp=230","rokwzgl=23 i lp=230","rokwzgl=24 i lp=230","rokwzgl=25 i lp=230","rokwzgl=26 i lp=230","rokwzgl=27 i lp=230","rokwzgl=28 i lp=230","rokwzgl=29 i lp=230"]
[240,"4.2"," Wolne środki, o których mowa w art. 217 ust.2 pkt 6 ustawy","rokwzgl=0 i lp=240","rokwzgl=0 i lp=240","rokwzgl=1 i lp=240","rokwzgl=2 i lp=240","rokwzgl=3 i lp=240","rokwzgl=4 i lp=240","rokwzgl=5 i lp=240","rokwzgl=6 i lp=240","rokwzgl=7 i lp=240","rokwzgl=8 i lp=240","rokwzgl=9 i lp=240","rokwzgl=10 i lp=240","rokwzgl=11 i lp=240","rokwzgl=12 i lp=240","rokwzgl=13 i lp=240","rokwzgl=14 i lp=240","rokwzgl=15 i lp=240","rokwzgl=16 i lp=240","rokwzgl=17 i lp=240","rokwzgl=18 i lp=240","rokwzgl=19 i lp=240","rokwzgl=20 i lp=240","rokwzgl=21 i lp=240","rokwzgl=22 i lp=240","rokwzgl=23 i lp=240","rokwzgl=24 i lp=240","rokwzgl=25 i lp=240","rokwzgl=26 i lp=240","rokwzgl=27 i lp=240","rokwzgl=28 i lp=240","rokwzgl=29 i lp=240"]
[250,"4.2.1","   w tym na pokrycie deficytu budżetu",{"$f":"+\"rokwzgl=\"&D$9&\" i lp=\"&$A36","v":"rokwzgl=0 i lp=250"},"rokwzgl=0 i lp=250","rokwzgl=1 i lp=250","rokwzgl=2 i lp=250","rokwzgl=3 i lp=250","rokwzgl=4 i lp=250","rokwzgl=5 i lp=250","rokwzgl=6 i lp=250","rokwzgl=7 i lp=250","rokwzgl=8 i lp=250",{"$f":"+\"rokwzgl=\"&N$9&\" i lp=\"&$A36","v":"rokwzgl=9 i lp=250"},"rokwzgl=10 i lp=250","rokwzgl=11 i lp=250","rokwzgl=12 i lp=250","rokwzgl=13 i lp=250","rokwzgl=14 i lp=250","rokwzgl=15 i lp=250","rokwzgl=16 i lp=250","rokwzgl=17 i lp=250","rokwzgl=18 i lp=250",{"$f":"+\"rokwzgl=\"&X$9&\" i lp=\"&$A36","v":"rokwzgl=19 i lp=250"},"rokwzgl=20 i lp=250","rokwzgl=21 i lp=250","rokwzgl=22 i lp=250","rokwzgl=23 i lp=250","rokwzgl=24 i lp=250","rokwzgl=25 i lp=250","rokwzgl=26 i lp=250","rokwzgl=27 i lp=250","rokwzgl=28 i lp=250","rokwzgl=29 i lp=250"]
[260,"4.3","  Kredyty, pożyczki, emisja papierów wartościowych","rokwzgl=0 i lp=260","rokwzgl=0 i lp=260","rokwzgl=1 i lp=260","rokwzgl=2 i lp=260","rokwzgl=3 i lp=260","rokwzgl=4 i lp=260","rokwzgl=5 i lp=260","rokwzgl=6 i lp=260","rokwzgl=7 i lp=260","rokwzgl=8 i lp=260","rokwzgl=9 i lp=260","rokwzgl=10 i lp=260","rokwzgl=11 i lp=260","rokwzgl=12 i lp=260","rokwzgl=13 i lp=260","rokwzgl=14 i lp=260","rokwzgl=15 i lp=260","rokwzgl=16 i lp=260","rokwzgl=17 i lp=260","rokwzgl=18 i lp=260","rokwzgl=19 i lp=260","rokwzgl=20 i lp=260","rokwzgl=21 i lp=260","rokwzgl=22 i lp=260","rokwzgl=23 i lp=260","rokwzgl=24 i lp=260","rokwzgl=25 i lp=260","rokwzgl=26 i lp=260","rokwzgl=27 i lp=260","rokwzgl=28 i lp=260","rokwzgl=29 i lp=260"]
[270,"4.3.1","   w tym na pokrycie deficytu budżetu","rokwzgl=0 i lp=270","rokwzgl=0 i lp=270","rokwzgl=1 i lp=270","rokwzgl=2 i lp=270","rokwzgl=3 i lp=270","rokwzgl=4 i lp=270","rokwzgl=5 i lp=270","rokwzgl=6 i lp=270","rokwzgl=7 i lp=270","rokwzgl=8 i lp=270","rokwzgl=9 i lp=270","rokwzgl=10 i lp=270","rokwzgl=11 i lp=270","rokwzgl=12 i lp=270","rokwzgl=13 i lp=270","rokwzgl=14 i lp=270","rokwzgl=15 i lp=270","rokwzgl=16 i lp=270","rokwzgl=17 i lp=270","rokwzgl=18 i lp=270","rokwzgl=19 i lp=270","rokwzgl=20 i lp=270","rokwzgl=21 i lp=270","rokwzgl=22 i lp=270","rokwzgl=23 i lp=270","rokwzgl=24 i lp=270","rokwzgl=25 i lp=270","rokwzgl=26 i lp=270","rokwzgl=27 i lp=270","rokwzgl=28 i lp=270","rokwzgl=29 i lp=270"]
[280,"4.4"," Inne przychody niezwiązane z zaciągnięciem długu","rokwzgl=0 i lp=280","rokwzgl=0 i lp=280","rokwzgl=1 i lp=280","rokwzgl=2 i lp=280","rokwzgl=3 i lp=280","rokwzgl=4 i lp=280","rokwzgl=5 i lp=280","rokwzgl=6 i lp=280","rokwzgl=7 i lp=280","rokwzgl=8 i lp=280","rokwzgl=9 i lp=280","rokwzgl=10 i lp=280","rokwzgl=11 i lp=280","rokwzgl=12 i lp=280","rokwzgl=13 i lp=280","rokwzgl=14 i lp=280","rokwzgl=15 i lp=280","rokwzgl=16 i lp=280","rokwzgl=17 i lp=280","rokwzgl=18 i lp=280","rokwzgl=19 i lp=280","rokwzgl=20 i lp=280","rokwzgl=21 i lp=280","rokwzgl=22 i lp=280","rokwzgl=23 i lp=280","rokwzgl=24 i lp=280","rokwzgl=25 i lp=280","rokwzgl=26 i lp=280","rokwzgl=27 i lp=280","rokwzgl=28 i lp=280","rokwzgl=29 i lp=280"]
[290,"4.4.1","   w tym na pokrycie deficytu budżetu","rokwzgl=0 i lp=290","rokwzgl=0 i lp=290","rokwzgl=1 i lp=290","rokwzgl=2 i lp=290","rokwzgl=3 i lp=290","rokwzgl=4 i lp=290","rokwzgl=5 i lp=290","rokwzgl=6 i lp=290","rokwzgl=7 i lp=290","rokwzgl=8 i lp=290","rokwzgl=9 i lp=290","rokwzgl=10 i lp=290","rokwzgl=11 i lp=290","rokwzgl=12 i lp=290","rokwzgl=13 i lp=290","rokwzgl=14 i lp=290","rokwzgl=15 i lp=290","rokwzgl=16 i lp=290","rokwzgl=17 i lp=290","rokwzgl=18 i lp=290","rokwzgl=19 i lp=290","rokwzgl=20 i lp=290","rokwzgl=21 i lp=290","rokwzgl=22 i lp=290","rokwzgl=23 i lp=290","rokwzgl=24 i lp=290","rokwzgl=25 i lp=290","rokwzgl=26 i lp=290","rokwzgl=27 i lp=290","rokwzgl=28 i lp=290","rokwzgl=29 i lp=290"]
[300,5,"Rozchody budżetu","rokwzgl=0 i lp=300","rokwzgl=0 i lp=300","rokwzgl=1 i lp=300","rokwzgl=2 i lp=300","rokwzgl=3 i lp=300","rokwzgl=4 i lp=300","rokwzgl=5 i lp=300","rokwzgl=6 i lp=300","rokwzgl=7 i lp=300","rokwzgl=8 i lp=300","rokwzgl=9 i lp=300","rokwzgl=10 i lp=300","rokwzgl=11 i lp=300","rokwzgl=12 i lp=300","rokwzgl=13 i lp=300","rokwzgl=14 i lp=300","rokwzgl=15 i lp=300","rokwzgl=16 i lp=300","rokwzgl=17 i lp=300","rokwzgl=18 i lp=300","rokwzgl=19 i lp=300","rokwzgl=20 i lp=300","rokwzgl=21 i lp=300","rokwzgl=22 i lp=300","rokwzgl=23 i lp=300","rokwzgl=24 i lp=300","rokwzgl=25 i lp=300","rokwzgl=26 i lp=300","rokwzgl=27 i lp=300","rokwzgl=28 i lp=300","rokwzgl=29 i lp=300"]
[310,"5.1"," Spłaty rat kapitałowych kredytów i pożyczek oraz wykup papierów wartościowych","rokwzgl=0 i lp=310","rokwzgl=0 i lp=310","rokwzgl=1 i lp=310","rokwzgl=2 i lp=310","rokwzgl=3 i lp=310","rokwzgl=4 i lp=310","rokwzgl=5 i lp=310","rokwzgl=6 i lp=310","rokwzgl=7 i lp=310","rokwzgl=8 i lp=310","rokwzgl=9 i lp=310","rokwzgl=10 i lp=310","rokwzgl=11 i lp=310","rokwzgl=12 i lp=310","rokwzgl=13 i lp=310","rokwzgl=14 i lp=310","rokwzgl=15 i lp=310","rokwzgl=16 i lp=310","rokwzgl=17 i lp=310","rokwzgl=18 i lp=310","rokwzgl=19 i lp=310","rokwzgl=20 i lp=310","rokwzgl=21 i lp=310","rokwzgl=22 i lp=310","rokwzgl=23 i lp=310","rokwzgl=24 i lp=310","rokwzgl=25 i lp=310","rokwzgl=26 i lp=310","rokwzgl=27 i lp=310","rokwzgl=28 i lp=310","rokwzgl=29 i lp=310"]
[320,"5.1.1","  w tym łączna kwota przypadających na dany rok kwot ustawowych wyłączeń z limitu spłaty zobowiązań, o którym mowa w art. 243 ustawy, z tego:","rokwzgl=0 i lp=320","rokwzgl=0 i lp=320","rokwzgl=1 i lp=320","rokwzgl=2 i lp=320","rokwzgl=3 i lp=320","rokwzgl=4 i lp=320","rokwzgl=5 i lp=320","rokwzgl=6 i lp=320","rokwzgl=7 i lp=320","rokwzgl=8 i lp=320","rokwzgl=9 i lp=320","rokwzgl=10 i lp=320","rokwzgl=11 i lp=320","rokwzgl=12 i lp=320","rokwzgl=13 i lp=320","rokwzgl=14 i lp=320","rokwzgl=15 i lp=320","rokwzgl=16 i lp=320","rokwzgl=17 i lp=320","rokwzgl=18 i lp=320","rokwzgl=19 i lp=320","rokwzgl=20 i lp=320","rokwzgl=21 i lp=320","rokwzgl=22 i lp=320","rokwzgl=23 i lp=320","rokwzgl=24 i lp=320","rokwzgl=25 i lp=320","rokwzgl=26 i lp=320","rokwzgl=27 i lp=320","rokwzgl=28 i lp=320","rokwzgl=29 i lp=320"]
[332,"5.1.1.1","   kwota przypadających na dany rok kwot ustawowych wyłączeń określonych w art. 243 ust. 3 ustawy","rokwzgl=0 i lp=332","rokwzgl=0 i lp=332","rokwzgl=1 i lp=332","rokwzgl=2 i lp=332","rokwzgl=3 i lp=332","rokwzgl=4 i lp=332","rokwzgl=5 i lp=332","rokwzgl=6 i lp=332","rokwzgl=7 i lp=332","rokwzgl=8 i lp=332","rokwzgl=9 i lp=332","rokwzgl=10 i lp=332","rokwzgl=11 i lp=332","rokwzgl=12 i lp=332","rokwzgl=13 i lp=332","rokwzgl=14 i lp=332","rokwzgl=15 i lp=332","rokwzgl=16 i lp=332","rokwzgl=17 i lp=332","rokwzgl=18 i lp=332","rokwzgl=19 i lp=332","rokwzgl=20 i lp=332","rokwzgl=21 i lp=332","rokwzgl=22 i lp=332","rokwzgl=23 i lp=332","rokwzgl=24 i lp=332","rokwzgl=25 i lp=332","rokwzgl=26 i lp=332","rokwzgl=27 i lp=332","rokwzgl=28 i lp=332","rokwzgl=29 i lp=332"]
[334,"5.1.1.2","   kwota przypadających na dany rok kwot ustawowych wyłączeń określonych w art. 243 ust. 3a ustawy","rokwzgl=0 i lp=334","rokwzgl=0 i lp=334","rokwzgl=1 i lp=334","rokwzgl=2 i lp=334","rokwzgl=3 i lp=334","rokwzgl=4 i lp=334","rokwzgl=5 i lp=334","rokwzgl=6 i lp=334","rokwzgl=7 i lp=334","rokwzgl=8 i lp=334","rokwzgl=9 i lp=334","rokwzgl=10 i lp=334","rokwzgl=11 i lp=334","rokwzgl=12 i lp=334","rokwzgl=13 i lp=334","rokwzgl=14 i lp=334","rokwzgl=15 i lp=334","rokwzgl=16 i lp=334","rokwzgl=17 i lp=334","rokwzgl=18 i lp=334","rokwzgl=19 i lp=334","rokwzgl=20 i lp=334","rokwzgl=21 i lp=334","rokwzgl=22 i lp=334","rokwzgl=23 i lp=334","rokwzgl=24 i lp=334","rokwzgl=25 i lp=334","rokwzgl=26 i lp=334","rokwzgl=27 i lp=334","rokwzgl=28 i lp=334","rokwzgl=29 i lp=334"]
[336,"5.1.1.3","   kwota przypadających na dany rok kwot ustawowych wyłączeń innych niż określone w art. 243 ustawy",{"$f":"+\"rokwzgl=\"&D$9&\" i lp=\"&$A46","v":"rokwzgl=0 i lp=336"},"rokwzgl=0 i lp=336","rokwzgl=1 i lp=336","rokwzgl=2 i lp=336","rokwzgl=3 i lp=336","rokwzgl=4 i lp=336","rokwzgl=5 i lp=336","rokwzgl=6 i lp=336","rokwzgl=7 i lp=336","rokwzgl=8 i lp=336",{"$f":"+\"rokwzgl=\"&N$9&\" i lp=\"&$A46","v":"rokwzgl=9 i lp=336"},"rokwzgl=10 i lp=336","rokwzgl=11 i lp=336","rokwzgl=12 i lp=336","rokwzgl=13 i lp=336","rokwzgl=14 i lp=336","rokwzgl=15 i lp=336","rokwzgl=16 i lp=336","rokwzgl=17 i lp=336","rokwzgl=18 i lp=336",{"$f":"+\"rokwzgl=\"&X$9&\" i lp=\"&$A46","v":"rokwzgl=19 i lp=336"},"rokwzgl=20 i lp=336","rokwzgl=21 i lp=336","rokwzgl=22 i lp=336","rokwzgl=23 i lp=336","rokwzgl=24 i lp=336","rokwzgl=25 i lp=336","rokwzgl=26 i lp=336","rokwzgl=27 i lp=336","rokwzgl=28 i lp=336","rokwzgl=29 i lp=336"]
[340,"5.2"," Inne rozchody niezwiązane ze spłatą długu","rokwzgl=0 i lp=340","rokwzgl=0 i lp=340","rokwzgl=1 i lp=340","rokwzgl=2 i lp=340","rokwzgl=3 i lp=340","rokwzgl=4 i lp=340","rokwzgl=5 i lp=340","rokwzgl=6 i lp=340","rokwzgl=7 i lp=340","rokwzgl=8 i lp=340","rokwzgl=9 i lp=340","rokwzgl=10 i lp=340","rokwzgl=11 i lp=340","rokwzgl=12 i lp=340","rokwzgl=13 i lp=340","rokwzgl=14 i lp=340","rokwzgl=15 i lp=340","rokwzgl=16 i lp=340","rokwzgl=17 i lp=340","rokwzgl=18 i lp=340","rokwzgl=19 i lp=340","rokwzgl=20 i lp=340","rokwzgl=21 i lp=340","rokwzgl=22 i lp=340","rokwzgl=23 i lp=340","rokwzgl=24 i lp=340","rokwzgl=25 i lp=340","rokwzgl=26 i lp=340","rokwzgl=27 i lp=340","rokwzgl=28 i lp=340","rokwzgl=29 i lp=340"]
[350,6,"Kwota długu","rokwzgl=0 i lp=350","rokwzgl=0 i lp=350","rokwzgl=1 i lp=350","rokwzgl=2 i lp=350","rokwzgl=3 i lp=350","rokwzgl=4 i lp=350","rokwzgl=5 i lp=350","rokwzgl=6 i lp=350","rokwzgl=7 i lp=350","rokwzgl=8 i lp=350","rokwzgl=9 i lp=350","rokwzgl=10 i lp=350","rokwzgl=11 i lp=350","rokwzgl=12 i lp=350","rokwzgl=13 i lp=350","rokwzgl=14 i lp=350","rokwzgl=15 i lp=350","rokwzgl=16 i lp=350","rokwzgl=17 i lp=350","rokwzgl=18 i lp=350","rokwzgl=19 i lp=350","rokwzgl=20 i lp=350","rokwzgl=21 i lp=350","rokwzgl=22 i lp=350","rokwzgl=23 i lp=350","rokwzgl=24 i lp=350","rokwzgl=25 i lp=350","rokwzgl=26 i lp=350","rokwzgl=27 i lp=350","rokwzgl=28 i lp=350","rokwzgl=29 i lp=350"]
[400,7,"Kwota zobowiązań wynikających z przejęcia przez jednostkę samorządu terytorialnego zobowiązań po likwidowanych i przekształcanych jednostkach zaliczanych do sektora  finansów publicznych","rokwzgl=0 i lp=400","rokwzgl=0 i lp=400","rokwzgl=1 i lp=400","rokwzgl=2 i lp=400","rokwzgl=3 i lp=400","rokwzgl=4 i lp=400","rokwzgl=5 i lp=400","rokwzgl=6 i lp=400","rokwzgl=7 i lp=400","rokwzgl=8 i lp=400","rokwzgl=9 i lp=400","rokwzgl=10 i lp=400","rokwzgl=11 i lp=400","rokwzgl=12 i lp=400","rokwzgl=13 i lp=400","rokwzgl=14 i lp=400","rokwzgl=15 i lp=400","rokwzgl=16 i lp=400","rokwzgl=17 i lp=400","rokwzgl=18 i lp=400","rokwzgl=19 i lp=400","rokwzgl=20 i lp=400","rokwzgl=21 i lp=400","rokwzgl=22 i lp=400","rokwzgl=23 i lp=400","rokwzgl=24 i lp=400","rokwzgl=25 i lp=400","rokwzgl=26 i lp=400","rokwzgl=27 i lp=400","rokwzgl=28 i lp=400","rokwzgl=29 i lp=400"]
[410,8,"Relacja zrównoważenia wydatków bieżących, o której mowa w art. 242 ustawy","rokwzgl=0 i lp=410","rokwzgl=0 i lp=410","rokwzgl=1 i lp=410","rokwzgl=2 i lp=410","rokwzgl=3 i lp=410","rokwzgl=4 i lp=410","rokwzgl=5 i lp=410","rokwzgl=6 i lp=410","rokwzgl=7 i lp=410","rokwzgl=8 i lp=410","rokwzgl=9 i lp=410","rokwzgl=10 i lp=410","rokwzgl=11 i lp=410","rokwzgl=12 i lp=410","rokwzgl=13 i lp=410","rokwzgl=14 i lp=410","rokwzgl=15 i lp=410","rokwzgl=16 i lp=410","rokwzgl=17 i lp=410","rokwzgl=18 i lp=410","rokwzgl=19 i lp=410","rokwzgl=20 i lp=410","rokwzgl=21 i lp=410","rokwzgl=22 i lp=410","rokwzgl=23 i lp=410","rokwzgl=24 i lp=410","rokwzgl=25 i lp=410","rokwzgl=26 i lp=410","rokwzgl=27 i lp=410","rokwzgl=28 i lp=410","rokwzgl=29 i lp=410"]
[420,"8.1"," Różnica między dochodami bieżącymi a  wydatkami bieżącymi","rokwzgl=0 i lp=420","rokwzgl=0 i lp=420","rokwzgl=1 i lp=420","rokwzgl=2 i lp=420","rokwzgl=3 i lp=420","rokwzgl=4 i lp=420","rokwzgl=5 i lp=420","rokwzgl=6 i lp=420","rokwzgl=7 i lp=420","rokwzgl=8 i lp=420","rokwzgl=9 i lp=420","rokwzgl=10 i lp=420","rokwzgl=11 i lp=420","rokwzgl=12 i lp=420","rokwzgl=13 i lp=420","rokwzgl=14 i lp=420","rokwzgl=15 i lp=420","rokwzgl=16 i lp=420","rokwzgl=17 i lp=420","rokwzgl=18 i lp=420","rokwzgl=19 i lp=420","rokwzgl=20 i lp=420","rokwzgl=21 i lp=420","rokwzgl=22 i lp=420","rokwzgl=23 i lp=420","rokwzgl=24 i lp=420","rokwzgl=25 i lp=420","rokwzgl=26 i lp=420","rokwzgl=27 i lp=420","rokwzgl=28 i lp=420","rokwzgl=29 i lp=420"]
[430,"8.2"," Różnica między dochodami bieżącymi, skorygowanymi o środki a wydatkami bieżącymi, pomniejszonymi  o wydatki","rokwzgl=0 i lp=430","rokwzgl=0 i lp=430","rokwzgl=1 i lp=430","rokwzgl=2 i lp=430","rokwzgl=3 i lp=430","rokwzgl=4 i lp=430","rokwzgl=5 i lp=430","rokwzgl=6 i lp=430","rokwzgl=7 i lp=430","rokwzgl=8 i lp=430","rokwzgl=9 i lp=430","rokwzgl=10 i lp=430","rokwzgl=11 i lp=430","rokwzgl=12 i lp=430","rokwzgl=13 i lp=430","rokwzgl=14 i lp=430","rokwzgl=15 i lp=430","rokwzgl=16 i lp=430","rokwzgl=17 i lp=430","rokwzgl=18 i lp=430","rokwzgl=19 i lp=430","rokwzgl=20 i lp=430","rokwzgl=21 i lp=430","rokwzgl=22 i lp=430","rokwzgl=23 i lp=430","rokwzgl=24 i lp=430","rokwzgl=25 i lp=430","rokwzgl=26 i lp=430","rokwzgl=27 i lp=430","rokwzgl=28 i lp=430","rokwzgl=29 i lp=430"]
[440,9,"Wskaźnik spłaty zobowiązań","rokwzgl=0 i lp=440","rokwzgl=0 i lp=440","rokwzgl=1 i lp=440","rokwzgl=2 i lp=440","rokwzgl=3 i lp=440","rokwzgl=4 i lp=440","rokwzgl=5 i lp=440","rokwzgl=6 i lp=440","rokwzgl=7 i lp=440","rokwzgl=8 i lp=440","rokwzgl=9 i lp=440","rokwzgl=10 i lp=440","rokwzgl=11 i lp=440","rokwzgl=12 i lp=440","rokwzgl=13 i lp=440","rokwzgl=14 i lp=440","rokwzgl=15 i lp=440","rokwzgl=16 i lp=440","rokwzgl=17 i lp=440","rokwzgl=18 i lp=440","rokwzgl=19 i lp=440","rokwzgl=20 i lp=440","rokwzgl=21 i lp=440","rokwzgl=22 i lp=440","rokwzgl=23 i lp=440","rokwzgl=24 i lp=440","rokwzgl=25 i lp=440","rokwzgl=26 i lp=440","rokwzgl=27 i lp=440","rokwzgl=28 i lp=440","rokwzgl=29 i lp=440"]
[470,"9.1"," Wskaźnik planowanej łącznej kwoty spłaty zobowiązań, o której mowa w art. 243 ust. 1 ustawy do dochodów, bez uwzględnienia zobowiązań związku współtworzonego przez jednostkę samorządu terytorialnego  i bez uwzględnienia ustawowych wyłączeń przypadających na dany rok.","rokwzgl=0 i lp=470","rokwzgl=0 i lp=470","rokwzgl=1 i lp=470","rokwzgl=2 i lp=470","rokwzgl=3 i lp=470","rokwzgl=4 i lp=470","rokwzgl=5 i lp=470","rokwzgl=6 i lp=470","rokwzgl=7 i lp=470","rokwzgl=8 i lp=470","rokwzgl=9 i lp=470","rokwzgl=10 i lp=470","rokwzgl=11 i lp=470","rokwzgl=12 i lp=470","rokwzgl=13 i lp=470","rokwzgl=14 i lp=470","rokwzgl=15 i lp=470","rokwzgl=16 i lp=470","rokwzgl=17 i lp=470","rokwzgl=18 i lp=470","rokwzgl=19 i lp=470","rokwzgl=20 i lp=470","rokwzgl=21 i lp=470","rokwzgl=22 i lp=470","rokwzgl=23 i lp=470","rokwzgl=24 i lp=470","rokwzgl=25 i lp=470","rokwzgl=26 i lp=470","rokwzgl=27 i lp=470","rokwzgl=28 i lp=470","rokwzgl=29 i lp=470"]
[480,"9.2"," Wskaźnik planowanej łącznej kwoty spłaty zobowiązań, o której mowa w art. 243 ust. 1 ustawy do dochodów, bez uwzględnienia zobowiązań związku współtworzonego przez jednostkę samorządu terytorialnego, po uwzględnieniu ustawowych wyłączeń przypadających na dany rok.","rokwzgl=0 i lp=480","rokwzgl=0 i lp=480","rokwzgl=1 i lp=480","rokwzgl=2 i lp=480","rokwzgl=3 i lp=480","rokwzgl=4 i lp=480","rokwzgl=5 i lp=480","rokwzgl=6 i lp=480","rokwzgl=7 i lp=480","rokwzgl=8 i lp=480","rokwzgl=9 i lp=480","rokwzgl=10 i lp=480","rokwzgl=11 i lp=480","rokwzgl=12 i lp=480","rokwzgl=13 i lp=480","rokwzgl=14 i lp=480","rokwzgl=15 i lp=480","rokwzgl=16 i lp=480","rokwzgl=17 i lp=480","rokwzgl=18 i lp=480","rokwzgl=19 i lp=480","rokwzgl=20 i lp=480","rokwzgl=21 i lp=480","rokwzgl=22 i lp=480","rokwzgl=23 i lp=480","rokwzgl=24 i lp=480","rokwzgl=25 i lp=480","rokwzgl=26 i lp=480","rokwzgl=27 i lp=480","rokwzgl=28 i lp=480","rokwzgl=29 i lp=480"]
[490,"9.3"," Kwota zobowiązań związku współtworzonego przez jednostkę samorządu terytorialnego przypadających do spłaty w danym roku budżetowym, podlegająca doliczeniu zgodnie z art. 244 ustawy",{"$f":"+\"rokwzgl=\"&D$9&\" i lp=\"&$A56","v":"rokwzgl=0 i lp=490"},"rokwzgl=0 i lp=490","rokwzgl=1 i lp=490","rokwzgl=2 i lp=490","rokwzgl=3 i lp=490","rokwzgl=4 i lp=490","rokwzgl=5 i lp=490","rokwzgl=6 i lp=490","rokwzgl=7 i lp=490","rokwzgl=8 i lp=490",{"$f":"+\"rokwzgl=\"&N$9&\" i lp=\"&$A56","v":"rokwzgl=9 i lp=490"},"rokwzgl=10 i lp=490","rokwzgl=11 i lp=490","rokwzgl=12 i lp=490","rokwzgl=13 i lp=490","rokwzgl=14 i lp=490","rokwzgl=15 i lp=490","rokwzgl=16 i lp=490","rokwzgl=17 i lp=490","rokwzgl=18 i lp=490",{"$f":"+\"rokwzgl=\"&X$9&\" i lp=\"&$A56","v":"rokwzgl=19 i lp=490"},"rokwzgl=20 i lp=490","rokwzgl=21 i lp=490","rokwzgl=22 i lp=490","rokwzgl=23 i lp=490","rokwzgl=24 i lp=490","rokwzgl=25 i lp=490","rokwzgl=26 i lp=490","rokwzgl=27 i lp=490","rokwzgl=28 i lp=490","rokwzgl=29 i lp=490"]
[500,"9.4"," Wskaźnik planowanej łącznej kwoty spłaty zobowiązań, o której mowa w art. 243 ust. 1 ustawy do dochodów, po uwzględnieniu zobowiązań związku współtworzonego przez jednostkę samorządu terytorialnego oraz po uwzględnieniu ustawowych wyłączeń przypadających na dany rok","rokwzgl=0 i lp=500","rokwzgl=0 i lp=500","rokwzgl=1 i lp=500","rokwzgl=2 i lp=500","rokwzgl=3 i lp=500","rokwzgl=4 i lp=500","rokwzgl=5 i lp=500","rokwzgl=6 i lp=500","rokwzgl=7 i lp=500","rokwzgl=8 i lp=500","rokwzgl=9 i lp=500","rokwzgl=10 i lp=500","rokwzgl=11 i lp=500","rokwzgl=12 i lp=500","rokwzgl=13 i lp=500","rokwzgl=14 i lp=500","rokwzgl=15 i lp=500","rokwzgl=16 i lp=500","rokwzgl=17 i lp=500","rokwzgl=18 i lp=500","rokwzgl=19 i lp=500","rokwzgl=20 i lp=500","rokwzgl=21 i lp=500","rokwzgl=22 i lp=500","rokwzgl=23 i lp=500","rokwzgl=24 i lp=500","rokwzgl=25 i lp=500","rokwzgl=26 i lp=500","rokwzgl=27 i lp=500","rokwzgl=28 i lp=500","rokwzgl=29 i lp=500"]
[508,"9.5"," Wskaźnik dochodów bieżących powiększonych o dochody ze sprzedaży majątku oraz pomniejszonych o wydatki bieżące, do dochodów budżetu, ustalony dla danego roku (wskaźnik jednoroczny)","rokwzgl=0 i lp=508","rokwzgl=0 i lp=508","rokwzgl=1 i lp=508","rokwzgl=2 i lp=508","rokwzgl=3 i lp=508","rokwzgl=4 i lp=508","rokwzgl=5 i lp=508","rokwzgl=6 i lp=508","rokwzgl=7 i lp=508","rokwzgl=8 i lp=508","rokwzgl=9 i lp=508","rokwzgl=10 i lp=508","rokwzgl=11 i lp=508","rokwzgl=12 i lp=508","rokwzgl=13 i lp=508","rokwzgl=14 i lp=508","rokwzgl=15 i lp=508","rokwzgl=16 i lp=508","rokwzgl=17 i lp=508","rokwzgl=18 i lp=508","rokwzgl=19 i lp=508","rokwzgl=20 i lp=508","rokwzgl=21 i lp=508","rokwzgl=22 i lp=508","rokwzgl=23 i lp=508","rokwzgl=24 i lp=508","rokwzgl=25 i lp=508","rokwzgl=26 i lp=508","rokwzgl=27 i lp=508","rokwzgl=28 i lp=508","rokwzgl=29 i lp=508"]
[510,"9.6"," Dopuszczalny wskaźnik spłaty zobowiązań określony w art. 243 ustawy, po uwzględnieniu ustawowych wyłączeń , obliczony w oparciu o plan 3 kwartału roku poprzedzającego pierwszy rok prognozy (wskaźnik ustalony w oparciu o średnią arytmetyczną z 3 poprzednich lat) ","rokwzgl=0 i lp=510","rokwzgl=0 i lp=510","rokwzgl=1 i lp=510","rokwzgl=2 i lp=510","rokwzgl=3 i lp=510","rokwzgl=4 i lp=510","rokwzgl=5 i lp=510","rokwzgl=6 i lp=510","rokwzgl=7 i lp=510","rokwzgl=8 i lp=510","rokwzgl=9 i lp=510","rokwzgl=10 i lp=510","rokwzgl=11 i lp=510","rokwzgl=12 i lp=510","rokwzgl=13 i lp=510","rokwzgl=14 i lp=510","rokwzgl=15 i lp=510","rokwzgl=16 i lp=510","rokwzgl=17 i lp=510","rokwzgl=18 i lp=510","rokwzgl=19 i lp=510","rokwzgl=20 i lp=510","rokwzgl=21 i lp=510","rokwzgl=22 i lp=510","rokwzgl=23 i lp=510","rokwzgl=24 i lp=510","rokwzgl=25 i lp=510","rokwzgl=26 i lp=510","rokwzgl=27 i lp=510","rokwzgl=28 i lp=510","rokwzgl=29 i lp=510"]
[520,"9.6.1","   Dopuszczalny wskaźnik spłaty zobowiązań określony w art. 243 ustawy, po uwzględnieniu ustawowych wyłączeń, obliczony w oparciu o wykonanie roku poprzedzającego pierwszy rok prognozy (wskaźnik ustalony w oparciu o średnią arytmetyczną z 3 poprzednich lat) ","rokwzgl=0 i lp=520","rokwzgl=0 i lp=520","rokwzgl=1 i lp=520","rokwzgl=2 i lp=520","rokwzgl=3 i lp=520","rokwzgl=4 i lp=520","rokwzgl=5 i lp=520","rokwzgl=6 i lp=520","rokwzgl=7 i lp=520","rokwzgl=8 i lp=520","rokwzgl=9 i lp=520","rokwzgl=10 i lp=520","rokwzgl=11 i lp=520","rokwzgl=12 i lp=520","rokwzgl=13 i lp=520","rokwzgl=14 i lp=520","rokwzgl=15 i lp=520","rokwzgl=16 i lp=520","rokwzgl=17 i lp=520","rokwzgl=18 i lp=520","rokwzgl=19 i lp=520","rokwzgl=20 i lp=520","rokwzgl=21 i lp=520","rokwzgl=22 i lp=520","rokwzgl=23 i lp=520","rokwzgl=24 i lp=520","rokwzgl=25 i lp=520","rokwzgl=26 i lp=520","rokwzgl=27 i lp=520","rokwzgl=28 i lp=520","rokwzgl=29 i lp=520"]
[530,"9.7"," Informacja o spełnieniu wskaźnika spłaty zobowiązań określonego w art. 243 ustawy, po uwzględnieniu zobowiązań związku współtworzonego przez jednostkę samorządu terytorialnego oraz po uwzględnieniu ustawowych wyłączeń, obliczonego w oparciu o plan 3 kwartałów roku poprzedzającego rok budżetowy","rokwzgl=0 i lp=530","rokwzgl=0 i lp=530","rokwzgl=1 i lp=530","rokwzgl=2 i lp=530","rokwzgl=3 i lp=530","rokwzgl=4 i lp=530","rokwzgl=5 i lp=530","rokwzgl=6 i lp=530","rokwzgl=7 i lp=530","rokwzgl=8 i lp=530","rokwzgl=9 i lp=530","rokwzgl=10 i lp=530","rokwzgl=11 i lp=530","rokwzgl=12 i lp=530","rokwzgl=13 i lp=530","rokwzgl=14 i lp=530","rokwzgl=15 i lp=530","rokwzgl=16 i lp=530","rokwzgl=17 i lp=530","rokwzgl=18 i lp=530","rokwzgl=19 i lp=530","rokwzgl=20 i lp=530","rokwzgl=21 i lp=530","rokwzgl=22 i lp=530","rokwzgl=23 i lp=530","rokwzgl=24 i lp=530","rokwzgl=25 i lp=530","rokwzgl=26 i lp=530","rokwzgl=27 i lp=530","rokwzgl=28 i lp=530","rokwzgl=29 i lp=530"]
[540,"9.7.1","  Informacja o spełnieniu wskaźnika spłaty zobowiązań określonego w art. 243 ustawy, po uwzględnieniu zobowiązań związku współtworzonego przez jednostkę samorządu terytorialnego oraz po uwzględnieniu ustawowych wyłączeń, obliczonego w oparciu o wykonanie roku poprzedzającego rok budżetowy","rokwzgl=0 i lp=540","rokwzgl=0 i lp=540","rokwzgl=1 i lp=540","rokwzgl=2 i lp=540","rokwzgl=3 i lp=540","rokwzgl=4 i lp=540","rokwzgl=5 i lp=540","rokwzgl=6 i lp=540","rokwzgl=7 i lp=540","rokwzgl=8 i lp=540","rokwzgl=9 i lp=540","rokwzgl=10 i lp=540","rokwzgl=11 i lp=540","rokwzgl=12 i lp=540","rokwzgl=13 i lp=540","rokwzgl=14 i lp=540","rokwzgl=15 i lp=540","rokwzgl=16 i lp=540","rokwzgl=17 i lp=540","rokwzgl=18 i lp=540","rokwzgl=19 i lp=540","rokwzgl=20 i lp=540","rokwzgl=21 i lp=540","rokwzgl=22 i lp=540","rokwzgl=23 i lp=540","rokwzgl=24 i lp=540","rokwzgl=25 i lp=540","rokwzgl=26 i lp=540","rokwzgl=27 i lp=540","rokwzgl=28 i lp=540","rokwzgl=29 i lp=540"]
[550,10,"Przeznaczenie prognozowanej nadwyżki budżetowej,  w tym na:","rokwzgl=0 i lp=550","rokwzgl=0 i lp=550","rokwzgl=1 i lp=550","rokwzgl=2 i lp=550","rokwzgl=3 i lp=550","rokwzgl=4 i lp=550","rokwzgl=5 i lp=550","rokwzgl=6 i lp=550","rokwzgl=7 i lp=550","rokwzgl=8 i lp=550","rokwzgl=9 i lp=550","rokwzgl=10 i lp=550","rokwzgl=11 i lp=550","rokwzgl=12 i lp=550","rokwzgl=13 i lp=550","rokwzgl=14 i lp=550","rokwzgl=15 i lp=550","rokwzgl=16 i lp=550","rokwzgl=17 i lp=550","rokwzgl=18 i lp=550","rokwzgl=19 i lp=550","rokwzgl=20 i lp=550","rokwzgl=21 i lp=550","rokwzgl=22 i lp=550","rokwzgl=23 i lp=550","rokwzgl=24 i lp=550","rokwzgl=25 i lp=550","rokwzgl=26 i lp=550","rokwzgl=27 i lp=550","rokwzgl=28 i lp=550","rokwzgl=29 i lp=550"]
[560,"10.1"," Spłaty kredytów, pożyczek i wykup papierów wartościowych","rokwzgl=0 i lp=560","rokwzgl=0 i lp=560","rokwzgl=1 i lp=560","rokwzgl=2 i lp=560","rokwzgl=3 i lp=560","rokwzgl=4 i lp=560","rokwzgl=5 i lp=560","rokwzgl=6 i lp=560","rokwzgl=7 i lp=560","rokwzgl=8 i lp=560","rokwzgl=9 i lp=560","rokwzgl=10 i lp=560","rokwzgl=11 i lp=560","rokwzgl=12 i lp=560","rokwzgl=13 i lp=560","rokwzgl=14 i lp=560","rokwzgl=15 i lp=560","rokwzgl=16 i lp=560","rokwzgl=17 i lp=560","rokwzgl=18 i lp=560","rokwzgl=19 i lp=560","rokwzgl=20 i lp=560","rokwzgl=21 i lp=560","rokwzgl=22 i lp=560","rokwzgl=23 i lp=560","rokwzgl=24 i lp=560","rokwzgl=25 i lp=560","rokwzgl=26 i lp=560","rokwzgl=27 i lp=560","rokwzgl=28 i lp=560","rokwzgl=29 i lp=560"]
[570,11,"Informacje uzupełniające o wybranych rodzajach wydatków budżetowych","rokwzgl=0 i lp=570","rokwzgl=0 i lp=570","rokwzgl=1 i lp=570","rokwzgl=2 i lp=570","rokwzgl=3 i lp=570","rokwzgl=4 i lp=570","rokwzgl=5 i lp=570","rokwzgl=6 i lp=570","rokwzgl=7 i lp=570","rokwzgl=8 i lp=570","rokwzgl=9 i lp=570","rokwzgl=10 i lp=570","rokwzgl=11 i lp=570","rokwzgl=12 i lp=570","rokwzgl=13 i lp=570","rokwzgl=14 i lp=570","rokwzgl=15 i lp=570","rokwzgl=16 i lp=570","rokwzgl=17 i lp=570","rokwzgl=18 i lp=570","rokwzgl=19 i lp=570","rokwzgl=20 i lp=570","rokwzgl=21 i lp=570","rokwzgl=22 i lp=570","rokwzgl=23 i lp=570","rokwzgl=24 i lp=570","rokwzgl=25 i lp=570","rokwzgl=26 i lp=570","rokwzgl=27 i lp=570","rokwzgl=28 i lp=570","rokwzgl=29 i lp=570"]
[580,"11.1"," Wydatki bieżące na wynagrodzenia i składki od nich naliczane",{"$f":"+\"rokwzgl=\"&D$9&\" i lp=\"&$A66","v":"rokwzgl=0 i lp=580"},"rokwzgl=0 i lp=580","rokwzgl=1 i lp=580","rokwzgl=2 i lp=580","rokwzgl=3 i lp=580","rokwzgl=4 i lp=580","rokwzgl=5 i lp=580","rokwzgl=6 i lp=580","rokwzgl=7 i lp=580","rokwzgl=8 i lp=580",{"$f":"+\"rokwzgl=\"&N$9&\" i lp=\"&$A66","v":"rokwzgl=9 i lp=580"},"rokwzgl=10 i lp=580","rokwzgl=11 i lp=580","rokwzgl=12 i lp=580","rokwzgl=13 i lp=580","rokwzgl=14 i lp=580","rokwzgl=15 i lp=580","rokwzgl=16 i lp=580","rokwzgl=17 i lp=580","rokwzgl=18 i lp=580",{"$f":"+\"rokwzgl=\"&X$9&\" i lp=\"&$A66","v":"rokwzgl=19 i lp=580"},"rokwzgl=20 i lp=580","rokwzgl=21 i lp=580","rokwzgl=22 i lp=580","rokwzgl=23 i lp=580","rokwzgl=24 i lp=580","rokwzgl=25 i lp=580","rokwzgl=26 i lp=580","rokwzgl=27 i lp=580","rokwzgl=28 i lp=580","rokwzgl=29 i lp=580"]
[590,"11.2"," Wydatki związane z funkcjonowaniem organów jednostki samorządu terytorialnego","rokwzgl=0 i lp=590","rokwzgl=0 i lp=590","rokwzgl=1 i lp=590","rokwzgl=2 i lp=590","rokwzgl=3 i lp=590","rokwzgl=4 i lp=590","rokwzgl=5 i lp=590","rokwzgl=6 i lp=590","rokwzgl=7 i lp=590","rokwzgl=8 i lp=590","rokwzgl=9 i lp=590","rokwzgl=10 i lp=590","rokwzgl=11 i lp=590","rokwzgl=12 i lp=590","rokwzgl=13 i lp=590","rokwzgl=14 i lp=590","rokwzgl=15 i lp=590","rokwzgl=16 i lp=590","rokwzgl=17 i lp=590","rokwzgl=18 i lp=590","rokwzgl=19 i lp=590","rokwzgl=20 i lp=590","rokwzgl=21 i lp=590","rokwzgl=22 i lp=590","rokwzgl=23 i lp=590","rokwzgl=24 i lp=590","rokwzgl=25 i lp=590","rokwzgl=26 i lp=590","rokwzgl=27 i lp=590","rokwzgl=28 i lp=590","rokwzgl=29 i lp=590"]
[600,"11.3"," Wydatki objęte limitem, o którym mowa w art. 226 ust. 3 pkt 4 ustawy","rokwzgl=0 i lp=600","rokwzgl=0 i lp=600","rokwzgl=1 i lp=600","rokwzgl=2 i lp=600","rokwzgl=3 i lp=600","rokwzgl=4 i lp=600","rokwzgl=5 i lp=600","rokwzgl=6 i lp=600","rokwzgl=7 i lp=600","rokwzgl=8 i lp=600","rokwzgl=9 i lp=600","rokwzgl=10 i lp=600","rokwzgl=11 i lp=600","rokwzgl=12 i lp=600","rokwzgl=13 i lp=600","rokwzgl=14 i lp=600","rokwzgl=15 i lp=600","rokwzgl=16 i lp=600","rokwzgl=17 i lp=600","rokwzgl=18 i lp=600","rokwzgl=19 i lp=600","rokwzgl=20 i lp=600","rokwzgl=21 i lp=600","rokwzgl=22 i lp=600","rokwzgl=23 i lp=600","rokwzgl=24 i lp=600","rokwzgl=25 i lp=600","rokwzgl=26 i lp=600","rokwzgl=27 i lp=600","rokwzgl=28 i lp=600","rokwzgl=29 i lp=600"]
[610,"11.3.1","   bieżące","rokwzgl=0 i lp=610","rokwzgl=0 i lp=610","rokwzgl=1 i lp=610","rokwzgl=2 i lp=610","rokwzgl=3 i lp=610","rokwzgl=4 i lp=610","rokwzgl=5 i lp=610","rokwzgl=6 i lp=610","rokwzgl=7 i lp=610","rokwzgl=8 i lp=610","rokwzgl=9 i lp=610","rokwzgl=10 i lp=610","rokwzgl=11 i lp=610","rokwzgl=12 i lp=610","rokwzgl=13 i lp=610","rokwzgl=14 i lp=610","rokwzgl=15 i lp=610","rokwzgl=16 i lp=610","rokwzgl=17 i lp=610","rokwzgl=18 i lp=610","rokwzgl=19 i lp=610","rokwzgl=20 i lp=610","rokwzgl=21 i lp=610","rokwzgl=22 i lp=610","rokwzgl=23 i lp=610","rokwzgl=24 i lp=610","rokwzgl=25 i lp=610","rokwzgl=26 i lp=610","rokwzgl=27 i lp=610","rokwzgl=28 i lp=610","rokwzgl=29 i lp=610"]
[620,"11.3.2","   majątkowe","rokwzgl=0 i lp=620","rokwzgl=0 i lp=620","rokwzgl=1 i lp=620","rokwzgl=2 i lp=620","rokwzgl=3 i lp=620","rokwzgl=4 i lp=620","rokwzgl=5 i lp=620","rokwzgl=6 i lp=620","rokwzgl=7 i lp=620","rokwzgl=8 i lp=620","rokwzgl=9 i lp=620","rokwzgl=10 i lp=620","rokwzgl=11 i lp=620","rokwzgl=12 i lp=620","rokwzgl=13 i lp=620","rokwzgl=14 i lp=620","rokwzgl=15 i lp=620","rokwzgl=16 i lp=620","rokwzgl=17 i lp=620","rokwzgl=18 i lp=620","rokwzgl=19 i lp=620","rokwzgl=20 i lp=620","rokwzgl=21 i lp=620","rokwzgl=22 i lp=620","rokwzgl=23 i lp=620","rokwzgl=24 i lp=620","rokwzgl=25 i lp=620","rokwzgl=26 i lp=620","rokwzgl=27 i lp=620","rokwzgl=28 i lp=620","rokwzgl=29 i lp=620"]
[630,"11.4"," Wydatki inwestycyjne kontynuowane ","rokwzgl=0 i lp=630","rokwzgl=0 i lp=630","rokwzgl=1 i lp=630","rokwzgl=2 i lp=630","rokwzgl=3 i lp=630","rokwzgl=4 i lp=630","rokwzgl=5 i lp=630","rokwzgl=6 i lp=630","rokwzgl=7 i lp=630","rokwzgl=8 i lp=630","rokwzgl=9 i lp=630","rokwzgl=10 i lp=630","rokwzgl=11 i lp=630","rokwzgl=12 i lp=630","rokwzgl=13 i lp=630","rokwzgl=14 i lp=630","rokwzgl=15 i lp=630","rokwzgl=16 i lp=630","rokwzgl=17 i lp=630","rokwzgl=18 i lp=630","rokwzgl=19 i lp=630","rokwzgl=20 i lp=630","rokwzgl=21 i lp=630","rokwzgl=22 i lp=630","rokwzgl=23 i lp=630","rokwzgl=24 i lp=630","rokwzgl=25 i lp=630","rokwzgl=26 i lp=630","rokwzgl=27 i lp=630","rokwzgl=28 i lp=630","rokwzgl=29 i lp=630"]
[640,"11.5"," Nowe wydatki inwestycyjne","rokwzgl=0 i lp=640","rokwzgl=0 i lp=640","rokwzgl=1 i lp=640","rokwzgl=2 i lp=640","rokwzgl=3 i lp=640","rokwzgl=4 i lp=640","rokwzgl=5 i lp=640","rokwzgl=6 i lp=640","rokwzgl=7 i lp=640","rokwzgl=8 i lp=640","rokwzgl=9 i lp=640","rokwzgl=10 i lp=640","rokwzgl=11 i lp=640","rokwzgl=12 i lp=640","rokwzgl=13 i lp=640","rokwzgl=14 i lp=640","rokwzgl=15 i lp=640","rokwzgl=16 i lp=640","rokwzgl=17 i lp=640","rokwzgl=18 i lp=640","rokwzgl=19 i lp=640","rokwzgl=20 i lp=640","rokwzgl=21 i lp=640","rokwzgl=22 i lp=640","rokwzgl=23 i lp=640","rokwzgl=24 i lp=640","rokwzgl=25 i lp=640","rokwzgl=26 i lp=640","rokwzgl=27 i lp=640","rokwzgl=28 i lp=640","rokwzgl=29 i lp=640"]
[650,"11.6"," Wydatki majątkowe w formie dotacji ","rokwzgl=0 i lp=650","rokwzgl=0 i lp=650","rokwzgl=1 i lp=650","rokwzgl=2 i lp=650","rokwzgl=3 i lp=650","rokwzgl=4 i lp=650","rokwzgl=5 i lp=650","rokwzgl=6 i lp=650","rokwzgl=7 i lp=650","rokwzgl=8 i lp=650","rokwzgl=9 i lp=650","rokwzgl=10 i lp=650","rokwzgl=11 i lp=650","rokwzgl=12 i lp=650","rokwzgl=13 i lp=650","rokwzgl=14 i lp=650","rokwzgl=15 i lp=650","rokwzgl=16 i lp=650","rokwzgl=17 i lp=650","rokwzgl=18 i lp=650","rokwzgl=19 i lp=650","rokwzgl=20 i lp=650","rokwzgl=21 i lp=650","rokwzgl=22 i lp=650","rokwzgl=23 i lp=650","rokwzgl=24 i lp=650","rokwzgl=25 i lp=650","rokwzgl=26 i lp=650","rokwzgl=27 i lp=650","rokwzgl=28 i lp=650","rokwzgl=29 i lp=650"]
[660,12,"Finansowanie programów, projektów lub zadań realizowanych z udziałem środków, o których mowa w art. 5 ust. 1 pkt 2 i 3 ustawy","rokwzgl=0 i lp=660","rokwzgl=0 i lp=660","rokwzgl=1 i lp=660","rokwzgl=2 i lp=660","rokwzgl=3 i lp=660","rokwzgl=4 i lp=660","rokwzgl=5 i lp=660","rokwzgl=6 i lp=660","rokwzgl=7 i lp=660","rokwzgl=8 i lp=660","rokwzgl=9 i lp=660","rokwzgl=10 i lp=660","rokwzgl=11 i lp=660","rokwzgl=12 i lp=660","rokwzgl=13 i lp=660","rokwzgl=14 i lp=660","rokwzgl=15 i lp=660","rokwzgl=16 i lp=660","rokwzgl=17 i lp=660","rokwzgl=18 i lp=660","rokwzgl=19 i lp=660","rokwzgl=20 i lp=660","rokwzgl=21 i lp=660","rokwzgl=22 i lp=660","rokwzgl=23 i lp=660","rokwzgl=24 i lp=660","rokwzgl=25 i lp=660","rokwzgl=26 i lp=660","rokwzgl=27 i lp=660","rokwzgl=28 i lp=660","rokwzgl=29 i lp=660"]
[670,"12.1"," Dochody bieżące  na programy, projekty lub zadania finansowane z udziałem środków, o których mowa w art. 5 ust. 1 pkt 2 i 3 ustawy","rokwzgl=0 i lp=670","rokwzgl=0 i lp=670","rokwzgl=1 i lp=670","rokwzgl=2 i lp=670","rokwzgl=3 i lp=670","rokwzgl=4 i lp=670","rokwzgl=5 i lp=670","rokwzgl=6 i lp=670","rokwzgl=7 i lp=670","rokwzgl=8 i lp=670","rokwzgl=9 i lp=670","rokwzgl=10 i lp=670","rokwzgl=11 i lp=670","rokwzgl=12 i lp=670","rokwzgl=13 i lp=670","rokwzgl=14 i lp=670","rokwzgl=15 i lp=670","rokwzgl=16 i lp=670","rokwzgl=17 i lp=670","rokwzgl=18 i lp=670","rokwzgl=19 i lp=670","rokwzgl=20 i lp=670","rokwzgl=21 i lp=670","rokwzgl=22 i lp=670","rokwzgl=23 i lp=670","rokwzgl=24 i lp=670","rokwzgl=25 i lp=670","rokwzgl=26 i lp=670","rokwzgl=27 i lp=670","rokwzgl=28 i lp=670","rokwzgl=29 i lp=670"]
[680,"12.1.1","  -  w tym środki określone w art. 5 ust. 1 pkt 2 ustawy",{"$f":"+\"rokwzgl=\"&D$9&\" i lp=\"&$A76","v":"rokwzgl=0 i lp=680"},"rokwzgl=0 i lp=680","rokwzgl=1 i lp=680","rokwzgl=2 i lp=680","rokwzgl=3 i lp=680","rokwzgl=4 i lp=680","rokwzgl=5 i lp=680","rokwzgl=6 i lp=680","rokwzgl=7 i lp=680","rokwzgl=8 i lp=680","rokwzgl=9 i lp=680","rokwzgl=10 i lp=680","rokwzgl=11 i lp=680","rokwzgl=12 i lp=680","rokwzgl=13 i lp=680","rokwzgl=14 i lp=680","rokwzgl=15 i lp=680","rokwzgl=16 i lp=680","rokwzgl=17 i lp=680","rokwzgl=18 i lp=680","rokwzgl=19 i lp=680","rokwzgl=20 i lp=680","rokwzgl=21 i lp=680","rokwzgl=22 i lp=680","rokwzgl=23 i lp=680","rokwzgl=24 i lp=680","rokwzgl=25 i lp=680","rokwzgl=26 i lp=680","rokwzgl=27 i lp=680","rokwzgl=28 i lp=680",{"$f":"+\"rokwzgl=\"&AH$9&\" i lp=\"&$A76","v":"rokwzgl=29 i lp=680"}]
[690,"12.1.1.1","   - w tym środki określone w art. 5 ust. 1 pkt 2 ustawy wynikające wyłącznie z  zawartych umów na realizację programu, projektu lub zadania",{"$f":"+\"rokwzgl=\"&D$9&\" i lp=\"&$A77","v":"rokwzgl=0 i lp=690"},{"$f":"+\"rokwzgl=\"&E$9&\" i lp=\"&$A77","v":"rokwzgl=0 i lp=690"},{"$f":"+\"rokwzgl=\"&F$9&\" i lp=\"&$A77","v":"rokwzgl=1 i lp=690"},{"$f":"+\"rokwzgl=\"&G$9&\" i lp=\"&$A77","v":"rokwzgl=2 i lp=690"},{"$f":"+\"rokwzgl=\"&H$9&\" i lp=\"&$A77","v":"rokwzgl=3 i lp=690"},{"$f":"+\"rokwzgl=\"&I$9&\" i lp=\"&$A77","v":"rokwzgl=4 i lp=690"},"rokwzgl=5 i lp=690","rokwzgl=6 i lp=690","rokwzgl=7 i lp=690","rokwzgl=8 i lp=690","rokwzgl=9 i lp=690","rokwzgl=10 i lp=690","rokwzgl=11 i lp=690","rokwzgl=12 i lp=690","rokwzgl=13 i lp=690","rokwzgl=14 i lp=690","rokwzgl=15 i lp=690","rokwzgl=16 i lp=690","rokwzgl=17 i lp=690","rokwzgl=18 i lp=690","rokwzgl=19 i lp=690","rokwzgl=20 i lp=690","rokwzgl=21 i lp=690","rokwzgl=22 i lp=690","rokwzgl=23 i lp=690","rokwzgl=24 i lp=690","rokwzgl=25 i lp=690","rokwzgl=26 i lp=690","rokwzgl=27 i lp=690","rokwzgl=28 i lp=690","rokwzgl=29 i lp=690"]
[700,"12.2"," Dochody majątkowe  na programy, projekty lub zadania finansowane z udziałem środków, o których mowa w art. 5 ust. 1 pkt 2 i 3 ustawy",{"$f":"+\"rokwzgl=\"&D$9&\" i lp=\"&$A78","v":"rokwzgl=0 i lp=700"},"rokwzgl=0 i lp=700","rokwzgl=1 i lp=700","rokwzgl=2 i lp=700","rokwzgl=3 i lp=700","rokwzgl=4 i lp=700","rokwzgl=5 i lp=700","rokwzgl=6 i lp=700","rokwzgl=7 i lp=700","rokwzgl=8 i lp=700","rokwzgl=9 i lp=700","rokwzgl=10 i lp=700","rokwzgl=11 i lp=700","rokwzgl=12 i lp=700","rokwzgl=13 i lp=700","rokwzgl=14 i lp=700","rokwzgl=15 i lp=700","rokwzgl=16 i lp=700","rokwzgl=17 i lp=700","rokwzgl=18 i lp=700","rokwzgl=19 i lp=700","rokwzgl=20 i lp=700","rokwzgl=21 i lp=700","rokwzgl=22 i lp=700","rokwzgl=23 i lp=700","rokwzgl=24 i lp=700","rokwzgl=25 i lp=700","rokwzgl=26 i lp=700","rokwzgl=27 i lp=700","rokwzgl=28 i lp=700","rokwzgl=29 i lp=700"]
[710,"12.2.1","   -  w tym środki określone w art. 5 ust. 1 pkt 2 ustawy","rokwzgl=0 i lp=710","rokwzgl=0 i lp=710","rokwzgl=1 i lp=710","rokwzgl=2 i lp=710","rokwzgl=3 i lp=710","rokwzgl=4 i lp=710","rokwzgl=5 i lp=710","rokwzgl=6 i lp=710","rokwzgl=7 i lp=710","rokwzgl=8 i lp=710","rokwzgl=9 i lp=710","rokwzgl=10 i lp=710","rokwzgl=11 i lp=710","rokwzgl=12 i lp=710","rokwzgl=13 i lp=710","rokwzgl=14 i lp=710","rokwzgl=15 i lp=710","rokwzgl=16 i lp=710","rokwzgl=17 i lp=710","rokwzgl=18 i lp=710","rokwzgl=19 i lp=710","rokwzgl=20 i lp=710","rokwzgl=21 i lp=710","rokwzgl=22 i lp=710","rokwzgl=23 i lp=710","rokwzgl=24 i lp=710","rokwzgl=25 i lp=710","rokwzgl=26 i lp=710","rokwzgl=27 i lp=710","rokwzgl=28 i lp=710","rokwzgl=29 i lp=710"]
[720,"12.2.1.1","    - w tym środki określone w art. 5 ust. 1 pkt 2 ustawy wynikające wyłącznie z zawartych umów na realizację programu, projektu lub zadania","rokwzgl=0 i lp=720","rokwzgl=0 i lp=720","rokwzgl=1 i lp=720","rokwzgl=2 i lp=720","rokwzgl=3 i lp=720","rokwzgl=4 i lp=720","rokwzgl=5 i lp=720","rokwzgl=6 i lp=720","rokwzgl=7 i lp=720","rokwzgl=8 i lp=720","rokwzgl=9 i lp=720","rokwzgl=10 i lp=720","rokwzgl=11 i lp=720","rokwzgl=12 i lp=720","rokwzgl=13 i lp=720","rokwzgl=14 i lp=720","rokwzgl=15 i lp=720","rokwzgl=16 i lp=720","rokwzgl=17 i lp=720","rokwzgl=18 i lp=720","rokwzgl=19 i lp=720","rokwzgl=20 i lp=720","rokwzgl=21 i lp=720","rokwzgl=22 i lp=720","rokwzgl=23 i lp=720","rokwzgl=24 i lp=720","rokwzgl=25 i lp=720","rokwzgl=26 i lp=720","rokwzgl=27 i lp=720","rokwzgl=28 i lp=720","rokwzgl=29 i lp=720"]
[730,"12.3"," Wydatki bieżące na programy, projekty lub zadania finansowane z udziałem środków, o których mowa w art. 5 ust. 1 pkt 2 i 3 ustawy","rokwzgl=0 i lp=730","rokwzgl=0 i lp=730","rokwzgl=1 i lp=730","rokwzgl=2 i lp=730","rokwzgl=3 i lp=730","rokwzgl=4 i lp=730","rokwzgl=5 i lp=730","rokwzgl=6 i lp=730","rokwzgl=7 i lp=730","rokwzgl=8 i lp=730","rokwzgl=9 i lp=730","rokwzgl=10 i lp=730","rokwzgl=11 i lp=730","rokwzgl=12 i lp=730","rokwzgl=13 i lp=730","rokwzgl=14 i lp=730","rokwzgl=15 i lp=730","rokwzgl=16 i lp=730","rokwzgl=17 i lp=730","rokwzgl=18 i lp=730","rokwzgl=19 i lp=730","rokwzgl=20 i lp=730","rokwzgl=21 i lp=730","rokwzgl=22 i lp=730","rokwzgl=23 i lp=730","rokwzgl=24 i lp=730","rokwzgl=25 i lp=730","rokwzgl=26 i lp=730","rokwzgl=27 i lp=730","rokwzgl=28 i lp=730","rokwzgl=29 i lp=730"]
[740,"12.3.1","  -  w tym finansowane środkami określonymi w art. 5 ust. 1 pkt 2 ustawy ","rokwzgl=0 i lp=740","rokwzgl=0 i lp=740","rokwzgl=1 i lp=740","rokwzgl=2 i lp=740","rokwzgl=3 i lp=740","rokwzgl=4 i lp=740","rokwzgl=5 i lp=740","rokwzgl=6 i lp=740","rokwzgl=7 i lp=740","rokwzgl=8 i lp=740","rokwzgl=9 i lp=740","rokwzgl=10 i lp=740","rokwzgl=11 i lp=740","rokwzgl=12 i lp=740","rokwzgl=13 i lp=740","rokwzgl=14 i lp=740","rokwzgl=15 i lp=740","rokwzgl=16 i lp=740","rokwzgl=17 i lp=740","rokwzgl=18 i lp=740","rokwzgl=19 i lp=740","rokwzgl=20 i lp=740","rokwzgl=21 i lp=740","rokwzgl=22 i lp=740","rokwzgl=23 i lp=740","rokwzgl=24 i lp=740","rokwzgl=25 i lp=740","rokwzgl=26 i lp=740","rokwzgl=27 i lp=740","rokwzgl=28 i lp=740","rokwzgl=29 i lp=740"]
[750,"12.3.2","  Wydatki bieżące na realizację programu, projektu lub zadania wynikające wyłącznie z zawartych umów z podmiotem dysponującym środkami, o których mowa w art. 5 ust. 1 pkt 2 ustawy ","rokwzgl=0 i lp=750","rokwzgl=0 i lp=750","rokwzgl=1 i lp=750","rokwzgl=2 i lp=750","rokwzgl=3 i lp=750","rokwzgl=4 i lp=750","rokwzgl=5 i lp=750","rokwzgl=6 i lp=750","rokwzgl=7 i lp=750","rokwzgl=8 i lp=750","rokwzgl=9 i lp=750","rokwzgl=10 i lp=750","rokwzgl=11 i lp=750","rokwzgl=12 i lp=750","rokwzgl=13 i lp=750","rokwzgl=14 i lp=750","rokwzgl=15 i lp=750","rokwzgl=16 i lp=750","rokwzgl=17 i lp=750","rokwzgl=18 i lp=750","rokwzgl=19 i lp=750","rokwzgl=20 i lp=750","rokwzgl=21 i lp=750","rokwzgl=22 i lp=750","rokwzgl=23 i lp=750","rokwzgl=24 i lp=750","rokwzgl=25 i lp=750","rokwzgl=26 i lp=750","rokwzgl=27 i lp=750","rokwzgl=28 i lp=750","rokwzgl=29 i lp=750"]
[760,"12.4"," Wydatki majątkowe na programy, projekty lub zadania finansowane z udziałem środków, o których mowa w art. 5 ust. 1 pkt 2 i 3 ustawy","rokwzgl=0 i lp=760","rokwzgl=0 i lp=760","rokwzgl=1 i lp=760","rokwzgl=2 i lp=760","rokwzgl=3 i lp=760","rokwzgl=4 i lp=760","rokwzgl=5 i lp=760","rokwzgl=6 i lp=760","rokwzgl=7 i lp=760","rokwzgl=8 i lp=760","rokwzgl=9 i lp=760","rokwzgl=10 i lp=760","rokwzgl=11 i lp=760","rokwzgl=12 i lp=760","rokwzgl=13 i lp=760","rokwzgl=14 i lp=760","rokwzgl=15 i lp=760","rokwzgl=16 i lp=760","rokwzgl=17 i lp=760","rokwzgl=18 i lp=760","rokwzgl=19 i lp=760","rokwzgl=20 i lp=760","rokwzgl=21 i lp=760","rokwzgl=22 i lp=760","rokwzgl=23 i lp=760","rokwzgl=24 i lp=760","rokwzgl=25 i lp=760","rokwzgl=26 i lp=760","rokwzgl=27 i lp=760","rokwzgl=28 i lp=760","rokwzgl=29 i lp=760"]
[761,"12.4.1","  -  w tym finansowane środkami określonymi w art. 5 ust. 1 pkt 2 ustawy","rokwzgl=0 i lp=761","rokwzgl=0 i lp=761","rokwzgl=1 i lp=761","rokwzgl=2 i lp=761","rokwzgl=3 i lp=761","rokwzgl=4 i lp=761","rokwzgl=5 i lp=761","rokwzgl=6 i lp=761","rokwzgl=7 i lp=761","rokwzgl=8 i lp=761","rokwzgl=9 i lp=761","rokwzgl=10 i lp=761","rokwzgl=11 i lp=761","rokwzgl=12 i lp=761","rokwzgl=13 i lp=761","rokwzgl=14 i lp=761","rokwzgl=15 i lp=761","rokwzgl=16 i lp=761","rokwzgl=17 i lp=761","rokwzgl=18 i lp=761","rokwzgl=19 i lp=761","rokwzgl=20 i lp=761","rokwzgl=21 i lp=761","rokwzgl=22 i lp=761","rokwzgl=23 i lp=761","rokwzgl=24 i lp=761","rokwzgl=25 i lp=761","rokwzgl=26 i lp=761","rokwzgl=27 i lp=761","rokwzgl=28 i lp=761","rokwzgl=29 i lp=761"]
[762,"12.4.2","  Wydatki majątkowe na realizację programu, projektu lub zadania wynikające wyłącznie z zawartych umów z podmiotem dysponującym środkami, o których mowa w art. 5 ust. 1 pkt 2 ustawy ","rokwzgl=0 i lp=762","rokwzgl=0 i lp=762","rokwzgl=1 i lp=762","rokwzgl=2 i lp=762","rokwzgl=3 i lp=762","rokwzgl=4 i lp=762","rokwzgl=5 i lp=762","rokwzgl=6 i lp=762","rokwzgl=7 i lp=762","rokwzgl=8 i lp=762","rokwzgl=9 i lp=762","rokwzgl=10 i lp=762","rokwzgl=11 i lp=762","rokwzgl=12 i lp=762","rokwzgl=13 i lp=762","rokwzgl=14 i lp=762","rokwzgl=15 i lp=762","rokwzgl=16 i lp=762","rokwzgl=17 i lp=762","rokwzgl=18 i lp=762","rokwzgl=19 i lp=762","rokwzgl=20 i lp=762","rokwzgl=21 i lp=762","rokwzgl=22 i lp=762","rokwzgl=23 i lp=762","rokwzgl=24 i lp=762","rokwzgl=25 i lp=762","rokwzgl=26 i lp=762","rokwzgl=27 i lp=762","rokwzgl=28 i lp=762","rokwzgl=29 i lp=762"]
[763,"12.5"," Wydatki na wkład krajowy w związku z umową na realizację programu, projektu lub zadania finansowanego z udziałem środków, o których mowa w art. 5 ust. 1 pkt 2 ustawy bez względu na stopień finansowania tymi środkami ","rokwzgl=0 i lp=763","rokwzgl=0 i lp=763","rokwzgl=1 i lp=763","rokwzgl=2 i lp=763","rokwzgl=3 i lp=763","rokwzgl=4 i lp=763","rokwzgl=5 i lp=763","rokwzgl=6 i lp=763","rokwzgl=7 i lp=763","rokwzgl=8 i lp=763","rokwzgl=9 i lp=763","rokwzgl=10 i lp=763","rokwzgl=11 i lp=763","rokwzgl=12 i lp=763","rokwzgl=13 i lp=763","rokwzgl=14 i lp=763","rokwzgl=15 i lp=763","rokwzgl=16 i lp=763","rokwzgl=17 i lp=763","rokwzgl=18 i lp=763","rokwzgl=19 i lp=763","rokwzgl=20 i lp=763","rokwzgl=21 i lp=763","rokwzgl=22 i lp=763","rokwzgl=23 i lp=763","rokwzgl=24 i lp=763","rokwzgl=25 i lp=763","rokwzgl=26 i lp=763","rokwzgl=27 i lp=763","rokwzgl=28 i lp=763","rokwzgl=29 i lp=763"]
[764,"12.5.1","  w tym w związku z już zawartą umową na realizację programu, projektu lub zadania","rokwzgl=0 i lp=764","rokwzgl=0 i lp=764","rokwzgl=1 i lp=764","rokwzgl=2 i lp=764","rokwzgl=3 i lp=764","rokwzgl=4 i lp=764","rokwzgl=5 i lp=764","rokwzgl=6 i lp=764","rokwzgl=7 i lp=764","rokwzgl=8 i lp=764","rokwzgl=9 i lp=764","rokwzgl=10 i lp=764","rokwzgl=11 i lp=764","rokwzgl=12 i lp=764","rokwzgl=13 i lp=764","rokwzgl=14 i lp=764","rokwzgl=15 i lp=764","rokwzgl=16 i lp=764","rokwzgl=17 i lp=764","rokwzgl=18 i lp=764","rokwzgl=19 i lp=764","rokwzgl=20 i lp=764","rokwzgl=21 i lp=764","rokwzgl=22 i lp=764","rokwzgl=23 i lp=764","rokwzgl=24 i lp=764","rokwzgl=25 i lp=764","rokwzgl=26 i lp=764","rokwzgl=27 i lp=764","rokwzgl=28 i lp=764","rokwzgl=29 i lp=764"]
[765,"12.6"," Wydatki na wkład krajowy w związku z zawartą po dniu 1 stycznia 2013 r. umową na realizację programu, projektu lub zadania finansowanego w co najmniej 60% środkami, o których mowa w art. 5 ust. 1 pkt 2 ustawy","rokwzgl=0 i lp=765","rokwzgl=0 i lp=765","rokwzgl=1 i lp=765","rokwzgl=2 i lp=765","rokwzgl=3 i lp=765","rokwzgl=4 i lp=765","rokwzgl=5 i lp=765","rokwzgl=6 i lp=765","rokwzgl=7 i lp=765","rokwzgl=8 i lp=765","rokwzgl=9 i lp=765","rokwzgl=10 i lp=765","rokwzgl=11 i lp=765","rokwzgl=12 i lp=765","rokwzgl=13 i lp=765","rokwzgl=14 i lp=765","rokwzgl=15 i lp=765","rokwzgl=16 i lp=765","rokwzgl=17 i lp=765","rokwzgl=18 i lp=765","rokwzgl=19 i lp=765","rokwzgl=20 i lp=765","rokwzgl=21 i lp=765","rokwzgl=22 i lp=765","rokwzgl=23 i lp=765","rokwzgl=24 i lp=765","rokwzgl=25 i lp=765","rokwzgl=26 i lp=765","rokwzgl=27 i lp=765","rokwzgl=28 i lp=765","rokwzgl=29 i lp=765"]
[766,"12.6.1","  w tym w związku z już zawartą umową na realizację programu, projektu lub zadania","rokwzgl=0 i lp=766","rokwzgl=0 i lp=766","rokwzgl=1 i lp=766","rokwzgl=2 i lp=766","rokwzgl=3 i lp=766","rokwzgl=4 i lp=766","rokwzgl=5 i lp=766","rokwzgl=6 i lp=766","rokwzgl=7 i lp=766","rokwzgl=8 i lp=766","rokwzgl=9 i lp=766","rokwzgl=10 i lp=766","rokwzgl=11 i lp=766","rokwzgl=12 i lp=766","rokwzgl=13 i lp=766","rokwzgl=14 i lp=766","rokwzgl=15 i lp=766","rokwzgl=16 i lp=766","rokwzgl=17 i lp=766","rokwzgl=18 i lp=766","rokwzgl=19 i lp=766","rokwzgl=20 i lp=766","rokwzgl=21 i lp=766","rokwzgl=22 i lp=766","rokwzgl=23 i lp=766","rokwzgl=24 i lp=766","rokwzgl=25 i lp=766","rokwzgl=26 i lp=766","rokwzgl=27 i lp=766","rokwzgl=28 i lp=766","rokwzgl=29 i lp=766"]
[767,"12.7"," Przychody z tytułu kredytów, pożyczek, emisji papierów wartościowych powstające w związku z umową na realizację programu, projektu lub zadania finansowanego z udziałem środków, o których mowa w art. 5 ust. 1 pkt 2 ustawy bez względu na stopień finansowania tymi środkami ","rokwzgl=0 i lp=767","rokwzgl=0 i lp=767","rokwzgl=1 i lp=767","rokwzgl=2 i lp=767","rokwzgl=3 i lp=767","rokwzgl=4 i lp=767","rokwzgl=5 i lp=767","rokwzgl=6 i lp=767","rokwzgl=7 i lp=767","rokwzgl=8 i lp=767","rokwzgl=9 i lp=767","rokwzgl=10 i lp=767","rokwzgl=11 i lp=767","rokwzgl=12 i lp=767","rokwzgl=13 i lp=767","rokwzgl=14 i lp=767","rokwzgl=15 i lp=767","rokwzgl=16 i lp=767","rokwzgl=17 i lp=767","rokwzgl=18 i lp=767","rokwzgl=19 i lp=767","rokwzgl=20 i lp=767","rokwzgl=21 i lp=767","rokwzgl=22 i lp=767","rokwzgl=23 i lp=767","rokwzgl=24 i lp=767","rokwzgl=25 i lp=767","rokwzgl=26 i lp=767","rokwzgl=27 i lp=767","rokwzgl=28 i lp=767","rokwzgl=29 i lp=767"]
[768,"12.7.1","  w tym w związku z już zawartą umową na realizację programu, projektu lub zadania","rokwzgl=0 i lp=768","rokwzgl=0 i lp=768","rokwzgl=1 i lp=768","rokwzgl=2 i lp=768","rokwzgl=3 i lp=768","rokwzgl=4 i lp=768","rokwzgl=5 i lp=768","rokwzgl=6 i lp=768","rokwzgl=7 i lp=768","rokwzgl=8 i lp=768","rokwzgl=9 i lp=768","rokwzgl=10 i lp=768","rokwzgl=11 i lp=768","rokwzgl=12 i lp=768","rokwzgl=13 i lp=768","rokwzgl=14 i lp=768","rokwzgl=15 i lp=768","rokwzgl=16 i lp=768","rokwzgl=17 i lp=768","rokwzgl=18 i lp=768","rokwzgl=19 i lp=768","rokwzgl=20 i lp=768","rokwzgl=21 i lp=768","rokwzgl=22 i lp=768","rokwzgl=23 i lp=768","rokwzgl=24 i lp=768","rokwzgl=25 i lp=768","rokwzgl=26 i lp=768","rokwzgl=27 i lp=768","rokwzgl=28 i lp=768","rokwzgl=29 i lp=768"]
[769,"12.8"," Przychody z tytułu kredytów, pożyczek, emisji papierów wartościowych powstające w związku z zawartą po dniu 1 stycznia 2013 r. umową na realizację programu, projektu lub zadania finansowanego w co najmniej 60% środkami, o których mowa w art. 5 ust. 1 pkt 2 ustawy","rokwzgl=0 i lp=769","rokwzgl=0 i lp=769","rokwzgl=1 i lp=769","rokwzgl=2 i lp=769","rokwzgl=3 i lp=769","rokwzgl=4 i lp=769","rokwzgl=5 i lp=769","rokwzgl=6 i lp=769","rokwzgl=7 i lp=769","rokwzgl=8 i lp=769","rokwzgl=9 i lp=769","rokwzgl=10 i lp=769","rokwzgl=11 i lp=769","rokwzgl=12 i lp=769","rokwzgl=13 i lp=769","rokwzgl=14 i lp=769","rokwzgl=15 i lp=769","rokwzgl=16 i lp=769","rokwzgl=17 i lp=769","rokwzgl=18 i lp=769","rokwzgl=19 i lp=769","rokwzgl=20 i lp=769","rokwzgl=21 i lp=769","rokwzgl=22 i lp=769","rokwzgl=23 i lp=769","rokwzgl=24 i lp=769","rokwzgl=25 i lp=769","rokwzgl=26 i lp=769","rokwzgl=27 i lp=769","rokwzgl=28 i lp=769","rokwzgl=29 i lp=769"]
[770,"12.8.1","  w tym w związku z już zawartą umową na realizację programu, projektu lub zadania","rokwzgl=0 i lp=770","rokwzgl=0 i lp=770","rokwzgl=1 i lp=770","rokwzgl=2 i lp=770","rokwzgl=3 i lp=770","rokwzgl=4 i lp=770","rokwzgl=5 i lp=770","rokwzgl=6 i lp=770","rokwzgl=7 i lp=770","rokwzgl=8 i lp=770","rokwzgl=9 i lp=770","rokwzgl=10 i lp=770","rokwzgl=11 i lp=770","rokwzgl=12 i lp=770","rokwzgl=13 i lp=770","rokwzgl=14 i lp=770","rokwzgl=15 i lp=770","rokwzgl=16 i lp=770","rokwzgl=17 i lp=770","rokwzgl=18 i lp=770","rokwzgl=19 i lp=770","rokwzgl=20 i lp=770","rokwzgl=21 i lp=770","rokwzgl=22 i lp=770","rokwzgl=23 i lp=770","rokwzgl=24 i lp=770","rokwzgl=25 i lp=770","rokwzgl=26 i lp=770","rokwzgl=27 i lp=770","rokwzgl=28 i lp=770","rokwzgl=29 i lp=770"]
[790,13,"Kwoty dotyczące przejęcia i spłaty zobowiązań po samodzielnych publicznych zakładach opieki zdrowotnej oraz pokrycia ujemnego wyniku ","rokwzgl=0 i lp=790","rokwzgl=0 i lp=790","rokwzgl=1 i lp=790","rokwzgl=2 i lp=790","rokwzgl=3 i lp=790","rokwzgl=4 i lp=790","rokwzgl=5 i lp=790","rokwzgl=6 i lp=790","rokwzgl=7 i lp=790","rokwzgl=8 i lp=790","rokwzgl=9 i lp=790","rokwzgl=10 i lp=790","rokwzgl=11 i lp=790","rokwzgl=12 i lp=790","rokwzgl=13 i lp=790","rokwzgl=14 i lp=790","rokwzgl=15 i lp=790","rokwzgl=16 i lp=790","rokwzgl=17 i lp=790","rokwzgl=18 i lp=790","rokwzgl=19 i lp=790","rokwzgl=20 i lp=790","rokwzgl=21 i lp=790","rokwzgl=22 i lp=790","rokwzgl=23 i lp=790","rokwzgl=24 i lp=790","rokwzgl=25 i lp=790","rokwzgl=26 i lp=790","rokwzgl=27 i lp=790","rokwzgl=28 i lp=790","rokwzgl=29 i lp=790"]
[800,"13.1"," Kwota zobowiązań wynikających z przejęcia przez jednostkę samorządu terytorialnego zobowiązań po likwidowanych i przekształcanych samodzielnych zakładach opieki zdrowotnej","rokwzgl=0 i lp=800","rokwzgl=0 i lp=800","rokwzgl=1 i lp=800","rokwzgl=2 i lp=800","rokwzgl=3 i lp=800","rokwzgl=4 i lp=800","rokwzgl=5 i lp=800","rokwzgl=6 i lp=800","rokwzgl=7 i lp=800","rokwzgl=8 i lp=800","rokwzgl=9 i lp=800","rokwzgl=10 i lp=800","rokwzgl=11 i lp=800","rokwzgl=12 i lp=800","rokwzgl=13 i lp=800","rokwzgl=14 i lp=800","rokwzgl=15 i lp=800","rokwzgl=16 i lp=800","rokwzgl=17 i lp=800","rokwzgl=18 i lp=800","rokwzgl=19 i lp=800","rokwzgl=20 i lp=800","rokwzgl=21 i lp=800","rokwzgl=22 i lp=800","rokwzgl=23 i lp=800","rokwzgl=24 i lp=800","rokwzgl=25 i lp=800","rokwzgl=26 i lp=800","rokwzgl=27 i lp=800","rokwzgl=28 i lp=800","rokwzgl=29 i lp=800"]
[810,"13.2"," Dochody budżetowe z tytułu dotacji celowej z budżetu państwa, o której mowa w art. 196 ustawy z  dnia 15 kwietnia 2011 r.  o działalności leczniczej (Dz.U. Nr 112, poz. 654, z późn. zm.)","rokwzgl=0 i lp=810","rokwzgl=0 i lp=810","rokwzgl=1 i lp=810","rokwzgl=2 i lp=810","rokwzgl=3 i lp=810","rokwzgl=4 i lp=810","rokwzgl=5 i lp=810","rokwzgl=6 i lp=810","rokwzgl=7 i lp=810","rokwzgl=8 i lp=810","rokwzgl=9 i lp=810","rokwzgl=10 i lp=810","rokwzgl=11 i lp=810","rokwzgl=12 i lp=810","rokwzgl=13 i lp=810","rokwzgl=14 i lp=810","rokwzgl=15 i lp=810","rokwzgl=16 i lp=810","rokwzgl=17 i lp=810","rokwzgl=18 i lp=810","rokwzgl=19 i lp=810","rokwzgl=20 i lp=810","rokwzgl=21 i lp=810","rokwzgl=22 i lp=810","rokwzgl=23 i lp=810","rokwzgl=24 i lp=810","rokwzgl=25 i lp=810","rokwzgl=26 i lp=810","rokwzgl=27 i lp=810","rokwzgl=28 i lp=810","rokwzgl=29 i lp=810"]
[820,"13.3"," Wysokość zobowiązań podlegających umorzeniu, o którym mowa w art. 190 ustawy o działalności leczniczej","rokwzgl=0 i lp=820","rokwzgl=0 i lp=820","rokwzgl=1 i lp=820","rokwzgl=2 i lp=820","rokwzgl=3 i lp=820","rokwzgl=4 i lp=820","rokwzgl=5 i lp=820","rokwzgl=6 i lp=820","rokwzgl=7 i lp=820","rokwzgl=8 i lp=820","rokwzgl=9 i lp=820","rokwzgl=10 i lp=820","rokwzgl=11 i lp=820","rokwzgl=12 i lp=820","rokwzgl=13 i lp=820","rokwzgl=14 i lp=820","rokwzgl=15 i lp=820","rokwzgl=16 i lp=820","rokwzgl=17 i lp=820","rokwzgl=18 i lp=820","rokwzgl=19 i lp=820","rokwzgl=20 i lp=820","rokwzgl=21 i lp=820","rokwzgl=22 i lp=820","rokwzgl=23 i lp=820","rokwzgl=24 i lp=820","rokwzgl=25 i lp=820","rokwzgl=26 i lp=820","rokwzgl=27 i lp=820","rokwzgl=28 i lp=820","rokwzgl=29 i lp=820"]
[830,"13.4"," Wydatki na spłatę przejętych zobowiązań samodzielnego publicznego zakładu opieki zdrowotnej przekształconego na zasadach określonych w przepisach  o działalności leczniczej","rokwzgl=0 i lp=830","rokwzgl=0 i lp=830","rokwzgl=1 i lp=830","rokwzgl=2 i lp=830","rokwzgl=3 i lp=830","rokwzgl=4 i lp=830","rokwzgl=5 i lp=830","rokwzgl=6 i lp=830","rokwzgl=7 i lp=830","rokwzgl=8 i lp=830","rokwzgl=9 i lp=830","rokwzgl=10 i lp=830","rokwzgl=11 i lp=830","rokwzgl=12 i lp=830","rokwzgl=13 i lp=830","rokwzgl=14 i lp=830","rokwzgl=15 i lp=830","rokwzgl=16 i lp=830","rokwzgl=17 i lp=830","rokwzgl=18 i lp=830","rokwzgl=19 i lp=830","rokwzgl=20 i lp=830","rokwzgl=21 i lp=830","rokwzgl=22 i lp=830","rokwzgl=23 i lp=830","rokwzgl=24 i lp=830","rokwzgl=25 i lp=830","rokwzgl=26 i lp=830","rokwzgl=27 i lp=830","rokwzgl=28 i lp=830","rokwzgl=29 i lp=830"]
[840,"13.5"," Wydatki na spłatę przejętych zobowiązań samodzielnego publicznego zakładu opieki zdrowotnej likwidowanego na zasadach określonych w przepisach  o działalności leczniczej","rokwzgl=0 i lp=840","rokwzgl=0 i lp=840","rokwzgl=1 i lp=840","rokwzgl=2 i lp=840","rokwzgl=3 i lp=840","rokwzgl=4 i lp=840","rokwzgl=5 i lp=840","rokwzgl=6 i lp=840","rokwzgl=7 i lp=840","rokwzgl=8 i lp=840","rokwzgl=9 i lp=840","rokwzgl=10 i lp=840","rokwzgl=11 i lp=840","rokwzgl=12 i lp=840","rokwzgl=13 i lp=840","rokwzgl=14 i lp=840","rokwzgl=15 i lp=840","rokwzgl=16 i lp=840","rokwzgl=17 i lp=840","rokwzgl=18 i lp=840","rokwzgl=19 i lp=840",{"$f":"+\"rokwzgl=\"&Y$9&\" i lp=\"&$A100","v":"rokwzgl=20 i lp=840"},"rokwzgl=21 i lp=840","rokwzgl=22 i lp=840","rokwzgl=23 i lp=840","rokwzgl=24 i lp=840","rokwzgl=25 i lp=840","rokwzgl=26 i lp=840","rokwzgl=27 i lp=840","rokwzgl=28 i lp=840","rokwzgl=29 i lp=840"]
[850,"13.6"," Wydatki na spłatę zobowiązań samodzielnego publicznego zakładu opieki zdrowotnej przejętych do końca 2011 r. na podstawie przepisów o zakładach opieki zdrowotnej","rokwzgl=0 i lp=850","rokwzgl=0 i lp=850","rokwzgl=1 i lp=850","rokwzgl=2 i lp=850","rokwzgl=3 i lp=850","rokwzgl=4 i lp=850","rokwzgl=5 i lp=850","rokwzgl=6 i lp=850","rokwzgl=7 i lp=850","rokwzgl=8 i lp=850","rokwzgl=9 i lp=850","rokwzgl=10 i lp=850","rokwzgl=11 i lp=850","rokwzgl=12 i lp=850","rokwzgl=13 i lp=850","rokwzgl=14 i lp=850","rokwzgl=15 i lp=850","rokwzgl=16 i lp=850","rokwzgl=17 i lp=850","rokwzgl=18 i lp=850","rokwzgl=19 i lp=850","rokwzgl=20 i lp=850","rokwzgl=21 i lp=850","rokwzgl=22 i lp=850","rokwzgl=23 i lp=850","rokwzgl=24 i lp=850","rokwzgl=25 i lp=850","rokwzgl=26 i lp=850","rokwzgl=27 i lp=850","rokwzgl=28 i lp=850","rokwzgl=29 i lp=850"]
[860,"13.7"," Wydatki bieżące na pokrycie ujemnego wyniku finansowego samodzielnego publicznego zakładu opieki zdrowotnej","rokwzgl=0 i lp=860","rokwzgl=0 i lp=860","rokwzgl=1 i lp=860","rokwzgl=2 i lp=860","rokwzgl=3 i lp=860","rokwzgl=4 i lp=860","rokwzgl=5 i lp=860","rokwzgl=6 i lp=860","rokwzgl=7 i lp=860","rokwzgl=8 i lp=860","rokwzgl=9 i lp=860","rokwzgl=10 i lp=860","rokwzgl=11 i lp=860","rokwzgl=12 i lp=860","rokwzgl=13 i lp=860",{"$f":"+\"rokwzgl=\"&S$9&\" i lp=\"&$A102","v":"rokwzgl=14 i lp=860"},"rokwzgl=15 i lp=860","rokwzgl=16 i lp=860","rokwzgl=17 i lp=860","rokwzgl=18 i lp=860","rokwzgl=19 i lp=860","rokwzgl=20 i lp=860","rokwzgl=21 i lp=860","rokwzgl=22 i lp=860","rokwzgl=23 i lp=860","rokwzgl=24 i lp=860","rokwzgl=25 i lp=860","rokwzgl=26 i lp=860","rokwzgl=27 i lp=860","rokwzgl=28 i lp=860","rokwzgl=29 i lp=860"]
[870,14,"Dane uzupełniające o długu i jego spłacie",{"$f":"+\"rokwzgl=\"&D$9&\" i lp=\"&$A103","v":"rokwzgl=0 i lp=870"},"rokwzgl=0 i lp=870","rokwzgl=1 i lp=870","rokwzgl=2 i lp=870","rokwzgl=3 i lp=870","rokwzgl=4 i lp=870","rokwzgl=5 i lp=870","rokwzgl=6 i lp=870","rokwzgl=7 i lp=870","rokwzgl=8 i lp=870","rokwzgl=9 i lp=870","rokwzgl=10 i lp=870","rokwzgl=11 i lp=870","rokwzgl=12 i lp=870","rokwzgl=13 i lp=870","rokwzgl=14 i lp=870","rokwzgl=15 i lp=870","rokwzgl=16 i lp=870","rokwzgl=17 i lp=870","rokwzgl=18 i lp=870","rokwzgl=19 i lp=870","rokwzgl=20 i lp=870","rokwzgl=21 i lp=870","rokwzgl=22 i lp=870","rokwzgl=23 i lp=870","rokwzgl=24 i lp=870","rokwzgl=25 i lp=870","rokwzgl=26 i lp=870","rokwzgl=27 i lp=870","rokwzgl=28 i lp=870","rokwzgl=29 i lp=870"]
[880,"14.1"," Spłaty rat kapitałowych oraz wykup papierów wartościowych, o których mowa w pkt. 5.1., wynikające wyłącznie z tytułu zobowiązań już zaciągniętych","rokwzgl=0 i lp=880","rokwzgl=0 i lp=880","rokwzgl=1 i lp=880","rokwzgl=2 i lp=880","rokwzgl=3 i lp=880","rokwzgl=4 i lp=880","rokwzgl=5 i lp=880","rokwzgl=6 i lp=880","rokwzgl=7 i lp=880","rokwzgl=8 i lp=880","rokwzgl=9 i lp=880","rokwzgl=10 i lp=880","rokwzgl=11 i lp=880","rokwzgl=12 i lp=880","rokwzgl=13 i lp=880","rokwzgl=14 i lp=880","rokwzgl=15 i lp=880","rokwzgl=16 i lp=880","rokwzgl=17 i lp=880","rokwzgl=18 i lp=880","rokwzgl=19 i lp=880","rokwzgl=20 i lp=880","rokwzgl=21 i lp=880","rokwzgl=22 i lp=880","rokwzgl=23 i lp=880","rokwzgl=24 i lp=880","rokwzgl=25 i lp=880","rokwzgl=26 i lp=880","rokwzgl=27 i lp=880","rokwzgl=28 i lp=880","rokwzgl=29 i lp=880"]
[890,"14.2"," Kwota długu, którego planowana spłata dokona się z wydatków budżetu","rokwzgl=0 i lp=890","rokwzgl=0 i lp=890","rokwzgl=1 i lp=890","rokwzgl=2 i lp=890","rokwzgl=3 i lp=890","rokwzgl=4 i lp=890","rokwzgl=5 i lp=890","rokwzgl=6 i lp=890","rokwzgl=7 i lp=890","rokwzgl=8 i lp=890","rokwzgl=9 i lp=890","rokwzgl=10 i lp=890","rokwzgl=11 i lp=890","rokwzgl=12 i lp=890","rokwzgl=13 i lp=890","rokwzgl=14 i lp=890","rokwzgl=15 i lp=890","rokwzgl=16 i lp=890","rokwzgl=17 i lp=890","rokwzgl=18 i lp=890","rokwzgl=19 i lp=890","rokwzgl=20 i lp=890","rokwzgl=21 i lp=890","rokwzgl=22 i lp=890","rokwzgl=23 i lp=890","rokwzgl=24 i lp=890","rokwzgl=25 i lp=890","rokwzgl=26 i lp=890","rokwzgl=27 i lp=890","rokwzgl=28 i lp=890","rokwzgl=29 i lp=890"]
[900,"14.3"," Wydatki zmniejszające dług, w tym","rokwzgl=0 i lp=900","rokwzgl=0 i lp=900","rokwzgl=1 i lp=900","rokwzgl=2 i lp=900","rokwzgl=3 i lp=900","rokwzgl=4 i lp=900","rokwzgl=5 i lp=900","rokwzgl=6 i lp=900","rokwzgl=7 i lp=900","rokwzgl=8 i lp=900","rokwzgl=9 i lp=900","rokwzgl=10 i lp=900","rokwzgl=11 i lp=900","rokwzgl=12 i lp=900","rokwzgl=13 i lp=900","rokwzgl=14 i lp=900","rokwzgl=15 i lp=900","rokwzgl=16 i lp=900","rokwzgl=17 i lp=900","rokwzgl=18 i lp=900","rokwzgl=19 i lp=900","rokwzgl=20 i lp=900","rokwzgl=21 i lp=900","rokwzgl=22 i lp=900","rokwzgl=23 i lp=900","rokwzgl=24 i lp=900","rokwzgl=25 i lp=900","rokwzgl=26 i lp=900","rokwzgl=27 i lp=900","rokwzgl=28 i lp=900","rokwzgl=29 i lp=900"]
[910,"14.3.1","  spłata zobowiązań wymagalnych z lat poprzednich, innych niż w pkt 14.3.3","rokwzgl=0 i lp=910","rokwzgl=0 i lp=910","rokwzgl=1 i lp=910","rokwzgl=2 i lp=910","rokwzgl=3 i lp=910","rokwzgl=4 i lp=910","rokwzgl=5 i lp=910","rokwzgl=6 i lp=910","rokwzgl=7 i lp=910","rokwzgl=8 i lp=910","rokwzgl=9 i lp=910","rokwzgl=10 i lp=910","rokwzgl=11 i lp=910","rokwzgl=12 i lp=910","rokwzgl=13 i lp=910","rokwzgl=14 i lp=910","rokwzgl=15 i lp=910","rokwzgl=16 i lp=910","rokwzgl=17 i lp=910","rokwzgl=18 i lp=910","rokwzgl=19 i lp=910","rokwzgl=20 i lp=910","rokwzgl=21 i lp=910","rokwzgl=22 i lp=910","rokwzgl=23 i lp=910","rokwzgl=24 i lp=910","rokwzgl=25 i lp=910","rokwzgl=26 i lp=910","rokwzgl=27 i lp=910","rokwzgl=28 i lp=910","rokwzgl=29 i lp=910"]
[920,"14.3.2","  związane z umowami zaliczanymi do tytułów dłużnych wliczanych do państwowego długu publicznego","rokwzgl=0 i lp=920","rokwzgl=0 i lp=920","rokwzgl=1 i lp=920","rokwzgl=2 i lp=920","rokwzgl=3 i lp=920","rokwzgl=4 i lp=920","rokwzgl=5 i lp=920","rokwzgl=6 i lp=920","rokwzgl=7 i lp=920","rokwzgl=8 i lp=920","rokwzgl=9 i lp=920","rokwzgl=10 i lp=920","rokwzgl=11 i lp=920","rokwzgl=12 i lp=920","rokwzgl=13 i lp=920","rokwzgl=14 i lp=920","rokwzgl=15 i lp=920","rokwzgl=16 i lp=920","rokwzgl=17 i lp=920","rokwzgl=18 i lp=920","rokwzgl=19 i lp=920","rokwzgl=20 i lp=920","rokwzgl=21 i lp=920","rokwzgl=22 i lp=920","rokwzgl=23 i lp=920","rokwzgl=24 i lp=920","rokwzgl=25 i lp=920","rokwzgl=26 i lp=920","rokwzgl=27 i lp=920","rokwzgl=28 i lp=920","rokwzgl=29 i lp=920"]
[930,"14.3.3","  wypłaty z tytułu wymagalnych poręczeń i gwarancji","rokwzgl=0 i lp=930","rokwzgl=0 i lp=930","rokwzgl=1 i lp=930","rokwzgl=2 i lp=930","rokwzgl=3 i lp=930","rokwzgl=4 i lp=930","rokwzgl=5 i lp=930","rokwzgl=6 i lp=930","rokwzgl=7 i lp=930","rokwzgl=8 i lp=930","rokwzgl=9 i lp=930","rokwzgl=10 i lp=930","rokwzgl=11 i lp=930","rokwzgl=12 i lp=930","rokwzgl=13 i lp=930","rokwzgl=14 i lp=930","rokwzgl=15 i lp=930","rokwzgl=16 i lp=930","rokwzgl=17 i lp=930","rokwzgl=18 i lp=930","rokwzgl=19 i lp=930","rokwzgl=20 i lp=930","rokwzgl=21 i lp=930","rokwzgl=22 i lp=930","rokwzgl=23 i lp=930","rokwzgl=24 i lp=930","rokwzgl=25 i lp=930","rokwzgl=26 i lp=930","rokwzgl=27 i lp=930","rokwzgl=28 i lp=930","rokwzgl=29 i lp=930"]
[940,"14.4"," Wynik operacji niekasowych wpływających na kwotę długu ( m.in. umorzenia, różnice kursowe)","rokwzgl=0 i lp=940","rokwzgl=0 i lp=940","rokwzgl=1 i lp=940","rokwzgl=2 i lp=940","rokwzgl=3 i lp=940","rokwzgl=4 i lp=940","rokwzgl=5 i lp=940","rokwzgl=6 i lp=940","rokwzgl=7 i lp=940","rokwzgl=8 i lp=940","rokwzgl=9 i lp=940","rokwzgl=10 i lp=940","rokwzgl=11 i lp=940","rokwzgl=12 i lp=940","rokwzgl=13 i lp=940","rokwzgl=14 i lp=940","rokwzgl=15 i lp=940","rokwzgl=16 i lp=940","rokwzgl=17 i lp=940","rokwzgl=18 i lp=940","rokwzgl=19 i lp=940","rokwzgl=20 i lp=940","rokwzgl=21 i lp=940","rokwzgl=22 i lp=940","rokwzgl=23 i lp=940","rokwzgl=24 i lp=940","rokwzgl=25 i lp=940","rokwzgl=26 i lp=940","rokwzgl=27 i lp=940","rokwzgl=28 i lp=940","rokwzgl=29 i lp=940"]
[950,15,"Dane dotyczące emitowanych obligacji przychodowych","rokwzgl=0 i lp=950","rokwzgl=0 i lp=950","rokwzgl=1 i lp=950","rokwzgl=2 i lp=950","rokwzgl=3 i lp=950","rokwzgl=4 i lp=950","rokwzgl=5 i lp=950","rokwzgl=6 i lp=950","rokwzgl=7 i lp=950","rokwzgl=8 i lp=950","rokwzgl=9 i lp=950","rokwzgl=10 i lp=950","rokwzgl=11 i lp=950","rokwzgl=12 i lp=950","rokwzgl=13 i lp=950","rokwzgl=14 i lp=950","rokwzgl=15 i lp=950","rokwzgl=16 i lp=950","rokwzgl=17 i lp=950","rokwzgl=18 i lp=950","rokwzgl=19 i lp=950","rokwzgl=20 i lp=950","rokwzgl=21 i lp=950","rokwzgl=22 i lp=950","rokwzgl=23 i lp=950","rokwzgl=24 i lp=950","rokwzgl=25 i lp=950","rokwzgl=26 i lp=950","rokwzgl=27 i lp=950","rokwzgl=28 i lp=950","rokwzgl=29 i lp=950"]
[960,"15.1"," Środki z przedsięwzięcia gromadzone na rachunku bankowym,  w tym:","rokwzgl=0 i lp=960","rokwzgl=0 i lp=960","rokwzgl=1 i lp=960","rokwzgl=2 i lp=960","rokwzgl=3 i lp=960","rokwzgl=4 i lp=960","rokwzgl=5 i lp=960","rokwzgl=6 i lp=960","rokwzgl=7 i lp=960","rokwzgl=8 i lp=960","rokwzgl=9 i lp=960","rokwzgl=10 i lp=960","rokwzgl=11 i lp=960","rokwzgl=12 i lp=960","rokwzgl=13 i lp=960","rokwzgl=14 i lp=960","rokwzgl=15 i lp=960","rokwzgl=16 i lp=960","rokwzgl=17 i lp=960","rokwzgl=18 i lp=960","rokwzgl=19 i lp=960","rokwzgl=20 i lp=960","rokwzgl=21 i lp=960","rokwzgl=22 i lp=960","rokwzgl=23 i lp=960","rokwzgl=24 i lp=960","rokwzgl=25 i lp=960","rokwzgl=26 i lp=960","rokwzgl=27 i lp=960","rokwzgl=28 i lp=960","rokwzgl=29 i lp=960"]
[970,"15.1.1","  środki na zaspokojenie roszczeń obligatariuszy","rokwzgl=0 i lp=970","rokwzgl=0 i lp=970","rokwzgl=1 i lp=970","rokwzgl=2 i lp=970","rokwzgl=3 i lp=970","rokwzgl=4 i lp=970","rokwzgl=5 i lp=970","rokwzgl=6 i lp=970","rokwzgl=7 i lp=970","rokwzgl=8 i lp=970","rokwzgl=9 i lp=970","rokwzgl=10 i lp=970","rokwzgl=11 i lp=970","rokwzgl=12 i lp=970","rokwzgl=13 i lp=970","rokwzgl=14 i lp=970","rokwzgl=15 i lp=970","rokwzgl=16 i lp=970","rokwzgl=17 i lp=970","rokwzgl=18 i lp=970","rokwzgl=19 i lp=970","rokwzgl=20 i lp=970","rokwzgl=21 i lp=970","rokwzgl=22 i lp=970","rokwzgl=23 i lp=970","rokwzgl=24 i lp=970","rokwzgl=25 i lp=970","rokwzgl=26 i lp=970","rokwzgl=27 i lp=970","rokwzgl=28 i lp=970","rokwzgl=29 i lp=970"]
[980,"15.2"," Wydatki bieżące z tytułu świadczenia emitenta należnego obligatariuszom,  nieuwzględniane  w limicie spłaty zobowiązań, o którym mowa w art. 243 ustawy","rokwzgl=0 i lp=980","rokwzgl=0 i lp=980","rokwzgl=1 i lp=980","rokwzgl=2 i lp=980","rokwzgl=3 i lp=980","rokwzgl=4 i lp=980","rokwzgl=5 i lp=980","rokwzgl=6 i lp=980","rokwzgl=7 i lp=980","rokwzgl=8 i lp=980","rokwzgl=9 i lp=980","rokwzgl=10 i lp=980","rokwzgl=11 i lp=980","rokwzgl=12 i lp=980","rokwzgl=13 i lp=980","rokwzgl=14 i lp=980","rokwzgl=15 i lp=980","rokwzgl=16 i lp=980","rokwzgl=17 i lp=980","rokwzgl=18 i lp=980","rokwzgl=19 i lp=980","rokwzgl=20 i lp=980","rokwzgl=21 i lp=980","rokwzgl=22 i lp=980","rokwzgl=23 i lp=980","rokwzgl=24 i lp=980","rokwzgl=25 i lp=980","rokwzgl=26 i lp=980","rokwzgl=27 i lp=980","rokwzgl=28 i lp=980","rokwzgl=29 i lp=980"]

{"sheet":"rysunki","index":3,"n_rows":84,"n_cols":9,"rows_kept":84,"cut":false,"hidden":false,"merged":[]}
["Analiza graficzna danych z WPF",null,null,null,null,null,null,null,{"$f":"Zał.1_WPF_bazowy!#REF!&\" - \"&\"WPF za lata \"&Zał.1_WPF_bazowy!#REF!&\" - Nr Uchwały JST: \"&Zał.1_WPF_bazowy!#REF!","v":{"$error":"#REF!"}}]
[]
[]
[]
[]
[]
[]
[]
[]
[]
[]
[]
[]
[]
[]
[]
[]
[]
[]
[]
[]
[]
[]
[]
[]
[]
[]
[]
[]
[]
[]
[]
[]
[]
[]
[]
[]
[]
[]
[]
[]
[]
[]
[]
[]
[]
[]
[]
[]
[]
[]
[]
[]
[]
[]
[]
[]
[]
[]
[]
[]
[]
[]
[]
[]
[]
[null,"Rysunek z wskaźnikiem planistycznym",null,null,null,null,null,null,"Rysunek z wskaźnikiem planistycznym"]
[]
[]
[]
[]
[]
[]
[]
[]
[]
[]
[]
[]
[]
[]
[]
[]
[null,"Rysunek z wskaźnikiem wg wykonania",null,null,null,null,null,null,"Rysunek z wskaźnikiem wg wykonania"]

{"sheet":"DaneZrodlowe","index":4,"n_rows":1093,"n_cols":17,"rows_kept":1093,"cut":false,"hidden":true,"merged":[]}
["Wyciąg danych z tabeli \"Wieloletnia prognoza finansowa\" wprowadzonych do systemu BESTI@ z wybranej uchwały ",null,null,null,null,null,null,null,null,null,null,null,"Rok bazowy:",{"$f":"MIN(M:M)","v":2016},null,"Rok max",{"$f":"MAX(M:M)","v":2025}]
[]
["budzet","numer","nazwajst","kodgus","gt","mswia","lp","symbol","formula","wyszczegolnienie","wsk243","rokwzgl","rokprognozy","prognoza","DataPodjecia","DataWejscia"]
[2016,"test","WIDUCHOWA",3206092,2,null,820,13.3,null," Wysokość zobowiązań podlegających umorzeniu, o którym mowa w art. 190 ustawy o działalności leczniczej",true,4,2020,0,"2016-03-03","2016-03-03"]
[2016,"test","WIDUCHOWA",3206092,2,null,810,13.2,null," Dochody budżetowe z tytułu dotacji celowej z budżetu państwa, o której mowa w art. 196 ustawy z  dnia 15 kwietnia 2011 r.  o działalności leczniczej (Dz.U. Nr 112, poz. 654, z późn. zm.)",true,9,2025,0,"2016-03-03","2016-03-03"]
[2016,"test","WIDUCHOWA",3206092,2,null,870,14,null,"Dane uzupełniające o długu i jego spłacie",true,8,2024,0,"2016-03-03","2016-03-03"]
[2016,"test","WIDUCHOWA",3206092,2,null,340,5.2,null," Inne rozchody niezwiązane ze spłatą długu",false,7,2023,0,"2016-03-03","2016-03-03"]
[2016,"test","WIDUCHOWA",3206092,2,null,769,12.8,null," Przychody z tytułu kredytów, pożyczek, emisji papierów wartościowych powstające w związku z zawartą po dniu 1 stycznia 2013 r. umową na realizację programu, projektu lub zadania finansowanego w co najmniej 60% środkami, o których mowa w art. 5 ust. 1 pkt 2 ustawy",true,3,2019,0,"2016-03-03","2016-03-03"]
[2016,"test","WIDUCHOWA",3206092,2,null,840,13.5,null," Wydatki na spłatę przejętych zobowiązań samodzielnego publicznego zakładu opieki zdrowotnej likwidowanego na zasadach określonych w przepisach  o działalności leczniczej",true,5,2021,0,"2016-03-03","2016-03-03"]
[2016,"test","WIDUCHOWA",3206092,2,null,730,12.3,null," Wydatki bieżące na programy, projekty lub zadania finansowane z udziałem środków, o których mowa w art. 5 ust. 1 pkt 2 i 3 ustawy",false,3,2019,0,"2016-03-03","2016-03-03"]
[2016,"test","WIDUCHOWA",3206092,2,null,230,"4.1.1",null,"  w tym na pokrycie deficytu budżetu",false,8,2024,0,"2016-03-03","2016-03-03"]
[2016,"test","WIDUCHOWA",3206092,2,null,550,10,null,"Przeznaczenie prognozowanej nadwyżki budżetowej,  w tym na:",false,2,2018,600000,"2016-03-03","2016-03-03"]
[2016,"test","WIDUCHOWA",3206092,2,null,320,"5.1.1","[5.1.1.1] + [5.1.1.2] + [5.1.1.3]","  w tym łączna kwota przypadających na dany rok kwot ustawowych wyłączeń z limitu spłaty zobowiązań, o którym mowa w art. 243 ustawy, z tego:",true,2,2018,0,"2016-03-03","2016-03-03"]
[2016,"test","WIDUCHOWA",3206092,2,null,610,"11.3.1",null,"   bieżące",true,2,2018,0,"2016-03-03","2016-03-03"]
[2016,"test","WIDUCHOWA",3206092,2,null,230,"4.1.1",null,"  w tym na pokrycie deficytu budżetu",false,0,2016,0,"2016-03-03","2016-03-03"]
[2016,"test","WIDUCHOWA",3206092,2,null,182,"2.1.3.1.1",null,"    odsetki i dyskonto podlegające wyłączeniu z limitu spłaty zobowiązań, o którym mowa w art. 243 ustawy, w terminie nie dłuższym niż 90 dni po zakończeniu programu, projektu lub zadania i otrzymaniu refundacji z tych środków (bez odsetek i dyskonta od zobowiązań na wkład krajowy)",false,2,2018,0,"2016-03-03","2016-03-03"]
[2016,"test","WIDUCHOWA",3206092,2,null,40,"1.1.2",null,"  dochody z tytułu udziału we wpływach z podatku dochodowego od osób prawnych",true,9,2025,16000,"2016-03-03","2016-03-03"]
[2016,"test","WIDUCHOWA",3206092,2,null,1000,16.100000000000001,null," Stopień niezachowania relacji zrównoważenia wydatków bieżących, o której mowa w poz. 8.2.",true,3,2019,0,"2016-03-03","2016-03-03"]
[2016,"test","WIDUCHOWA",3206092,2,null,50,"1.1.3",null,"  podatki i opłaty",true,8,2024,5298000,"2016-03-03","2016-03-03"]
[2016,"test","WIDUCHOWA",3206092,2,null,20,1.1000000000000001,null," Dochody bieżące",true,0,2016,18580564.07,"2016-03-03","2016-03-03"]
[2016,"test","WIDUCHOWA",3206092,2,null,820,13.3,null," Wysokość zobowiązań podlegających umorzeniu, o którym mowa w art. 190 ustawy o działalności leczniczej",true,3,2019,0,"2016-03-03","2016-03-03"]
[2016,"test","WIDUCHOWA",3206092,2,null,50,"1.1.3",null,"  podatki i opłaty",true,6,2022,5000000,"2016-03-03","2016-03-03"]
[2016,"test","WIDUCHOWA",3206092,2,null,500,9.4,"(([2.1.1]-[2.1.1.1]) + ([2.1.3.1]-[2.1.3.1.1]-[2.1.3.1.2])+([5.1]-[5.1.1])+[9.3]) /([1]-[15.1.1])"," Wskaźnik planowanej łącznej kwoty spłaty zobowiązań, o której mowa w art. 243 ust. 1 ustawy do dochodów, po uwzględnieniu zobowiązań związku współtworzonego przez jednostkę samorządu terytorialnego oraz po uwzględnieniu ustawowych wyłączeń przypadających na dany rok",false,5,2021,6.7299999999999999E-2,"2016-03-03","2016-03-03"]
[2016,"test","WIDUCHOWA",3206092,2,null,520,"9.6.1",null,"   Dopuszczalny wskaźnik spłaty zobowiązań określony w art. 243 ustawy, po uwzględnieniu ustawowych wyłączeń, obliczony w oparciu o wykonanie roku poprzedzającego pierwszy rok prognozy (wskaźnik ustalony w oparciu o średnią arytmetyczną z 3 poprzednich lat) ",true,9,2025,8.8300000000000003E-2,"2016-03-03","2016-03-03"]
[2016,"test","WIDUCHOWA",3206092,2,null,790,13,null,"Kwoty dotyczące przejęcia i spłaty zobowiązań po samodzielnych publicznych zakładach opieki zdrowotnej oraz pokrycia ujemnego wyniku ",true,1,2017,0,"2016-03-03","2016-03-03"]
[2016,"test","WIDUCHOWA",3206092,2,null,300,5,"[5.1] + [5.2]","Rozchody budżetu",false,4,2020,1300000,"2016-03-03","2016-03-03"]
[2016,"test","WIDUCHOWA",3206092,2,null,730,12.3,null," Wydatki bieżące na programy, projekty lub zadania finansowane z udziałem środków, o których mowa w art. 5 ust. 1 pkt 2 i 3 ustawy",false,6,2022,0,"2016-03-03","2016-03-03"]
[2016,"test","WIDUCHOWA",3206092,2,null,120,2,"[2.1] + [2.2]","Wydatki ogółem",false,1,2017,20494929,"2016-03-03","2016-03-03"]
[2016,"test","WIDUCHOWA",3206092,2,null,570,11,null,"Informacje uzupełniające o wybranych rodzajach wydatków budżetowych",false,0,2016,0,"2016-03-03","2016-03-03"]
[2016,"test","WIDUCHOWA",3206092,2,null,890,14.2,null," Kwota długu, którego planowana spłata dokona się z wydatków budżetu",true,3,2019,327000,"2016-03-03","2016-03-03"]
[2016,"test","WIDUCHOWA",3206092,2,null,762,"12.4.2",null,"  Wydatki majątkowe na realizację programu, projektu lub zadania wynikające wyłącznie z zawartych umów z podmiotem dysponującym środkami, o których mowa w art. 5 ust. 1 pkt 2 ustawy ",true,2,2018,0,"2016-03-03","2016-03-03"]
[2016,"test","WIDUCHOWA",3206092,2,null,270,"4.3.1",null,"   w tym na pokrycie deficytu budżetu",true,6,2022,0,"2016-03-03","2016-03-03"]
[2016,"test","WIDUCHOWA",3206092,2,null,100,"1.2.1",null,"  ze sprzedaży majątku",true,6,2022,300000,"2016-03-03","2016-03-03"]
[2016,"test","WIDUCHOWA",3206092,2,null,320,"5.1.1","[5.1.1.1] + [5.1.1.2] + [5.1.1.3]","  w tym łączna kwota przypadających na dany rok kwot ustawowych wyłączeń z limitu spłaty zobowiązań, o którym mowa w art. 243 ustawy, z tego:",true,5,2021,0,"2016-03-03","2016-03-03"]
[2016,"test","WIDUCHOWA",3206092,2,null,170,"2.1.3",null,"  wydatki na obsługę długu, w tym:",true,0,2016,340000,"2016-03-03","2016-03-03"]
[2016,"test","WIDUCHOWA",3206092,2,null,10,1,"[1.1] + [1.2]","Dochody ogółem",true,9,2025,22555625,"2016-03-03","2016-03-03"]
[2016,"test","WIDUCHOWA",3206092,2,null,490,9.3000000000000007,null," Kwota zobowiązań związku współtworzonego przez jednostkę samorządu terytorialnego przypadających do spłaty w danym roku budżetowym, podlegająca doliczeniu zgodnie z art. 244 ustawy",true,2,2018,0,"2016-03-03","2016-03-03"]
[2016,"test","WIDUCHOWA",3206092,2,null,870,14,null,"Dane uzupełniające o długu i jego spłacie",true,1,2017,0,"2016-03-03","2016-03-03"]
[2016,"test","WIDUCHOWA",3206092,2,null,190,2.2000000000000002,null," Wydatki majątkowe",false,5,2021,496481,"2016-03-03","2016-03-03"]
[2016,"test","WIDUCHOWA",3206092,2,null,730,12.3,null," Wydatki bieżące na programy, projekty lub zadania finansowane z udziałem środków, o których mowa w art. 5 ust. 1 pkt 2 i 3 ustawy",false,9,2025,0,"2016-03-03","2016-03-03"]
[2016,"test","WIDUCHOWA",3206092,2,null,600,11.3,"[11.3.1] + [11.3.2]"," Wydatki objęte limitem, o którym mowa w art. 226 ust. 3 pkt 4 ustawy",true,2,2018,157000,"2016-03-03","2016-03-03"]
[2016,"test","WIDUCHOWA",3206092,2,null,190,2.2000000000000002,null," Wydatki majątkowe",false,0,2016,1908151,"2016-03-03","2016-03-03"]
[2016,"test","WIDUCHOWA",3206092,2,null,180,"2.1.3.1",null,"   odsetki i dyskonto określone w art. 243 ust. 1 ustawy, w tym:",false,8,2024,79000,"2016-03-03","2016-03-03"]
[2016,"test","WIDUCHOWA",3206092,2,null,820,13.3,null," Wysokość zobowiązań podlegających umorzeniu, o którym mowa w art. 190 ustawy o działalności leczniczej",true,1,2017,0,"2016-03-03","2016-03-03"]
[2016,"test","WIDUCHOWA",3206092,2,null,320,"5.1.1","[5.1.1.1] + [5.1.1.2] + [5.1.1.3]","  w tym łączna kwota przypadających na dany rok kwot ustawowych wyłączeń z limitu spłaty zobowiązań, o którym mowa w art. 243 ustawy, z tego:",true,3,2019,0,"2016-03-03","2016-03-03"]
[2016,"test","WIDUCHOWA",3206092,2,null,767,12.7,null," Przychody z tytułu kredytów, pożyczek, emisji papierów wartościowych powstające w związku z umową na realizację programu, projektu lub zadania finansowanego z udziałem środków, o których mowa w art. 5 ust. 1 pkt 2 ustawy bez względu na stopień finansowania tymi środkami ",true,5,2021,0,"2016-03-03","2016-03-03"]
[2016,"test","WIDUCHOWA",3206092,2,null,560,10.1,null," Spłaty kredytów, pożyczek i wykup papierów wartościowych",false,9,2025,743000,"2016-03-03","2016-03-03"]
[2016,"test","WIDUCHOWA",3206092,2,null,1000,16.100000000000001,null," Stopień niezachowania relacji zrównoważenia wydatków bieżących, o której mowa w poz. 8.2.",true,8,2024,0,"2016-03-03","2016-03-03"]
[2016,"test","WIDUCHOWA",3206092,2,null,30,"1.1.1",null,"  dochody z tytułu udziału we wpływach z podatku dochodowego od osób fizycznych",true,6,2022,2250000,"2016-03-03","2016-03-03"]
[2016,"test","WIDUCHOWA",3206092,2,null,950,15,null,"Dane dotyczące emitowanych obligacji przychodowych",true,9,2025,0,"2016-03-03","2016-03-03"]
[2016,"test","WIDUCHOWA",3206092,2,null,640,11.5,null," Nowe wydatki inwestycyjne",true,8,2024,0,"2016-03-03","2016-03-03"]
[2016,"test","WIDUCHOWA",3206092,2,null,620,"11.3.2",null,"   majątkowe",true,5,2021,183000,"2016-03-03","2016-03-03"]
[2016,"test","WIDUCHOWA",3206092,2,null,350,6,null,"Kwota długu",true,4,2020,6545000,"2016-03-03","2016-03-03"]
[2016,"test","WIDUCHOWA",3206092,2,null,350,6,null,"Kwota długu",true,6,2022,3801000,"2016-03-03","2016-03-03"]
[2016,"test","WIDUCHOWA",3206092,2,null,640,11.5,null," Nowe wydatki inwestycyjne",true,6,2022,0,"2016-03-03","2016-03-03"]
[2016,"test","WIDUCHOWA",3206092,2,null,660,12,null,"Finansowanie programów, projektów lub zadań realizowanych z udziałem środków, o których mowa w art. 5 ust. 1 pkt 2 i 3 ustawy",true,8,2024,0,"2016-03-03","2016-03-03"]
[2016,"test","WIDUCHOWA",3206092,2,null,110,"1.2.2",null,"  z tytułu dotacji oraz środków przeznaczonych na inwestycje",true,6,2022,0,"2016-03-03","2016-03-03"]
[2016,"test","WIDUCHOWA",3206092,2,null,336,"5.1.1.3",null,"   kwota przypadających na dany rok kwot ustawowych wyłączeń innych niż określone w art. 243 ustawy",true,2,2018,0,"2016-03-03","2016-03-03"]
[2016,"test","WIDUCHOWA",3206092,2,null,230,"4.1.1",null,"  w tym na pokrycie deficytu budżetu",false,3,2019,0,"2016-03-03","2016-03-03"]
[2016,"test","WIDUCHOWA",3206092,2,null,10,1,"[1.1] + [1.2]","Dochody ogółem",true,8,2024,21930704,"2016-03-03","2016-03-03"]
[2016,"test","WIDUCHOWA",3206092,2,null,880,14.1,null," Spłaty rat kapitałowych oraz wykup papierów wartościowych, o których mowa w pkt. 5.1., wynikające wyłącznie z tytułu zobowiązań już zaciągniętych",true,2,2018,600000,"2016-03-03","2016-03-03"]
[2016,"test","WIDUCHOWA",3206092,2,null,765,12.6,null," Wydatki na wkład krajowy w związku z zawartą po dniu 1 stycznia 2013 r. umową na realizację programu, projektu lub zadania finansowanego w co najmniej 60% środkami, o których mowa w art. 5 ust. 1 pkt 2 ustawy",true,6,2022,0,"2016-03-03","2016-03-03"]
[2016,"test","WIDUCHOWA",3206092,2,null,760,12.4,null," Wydatki majątkowe na programy, projekty lub zadania finansowane z udziałem środków, o których mowa w art. 5 ust. 1 pkt 2 i 3 ustawy",true,2,2018,0,"2016-03-03","2016-03-03"]
[2016,"test","WIDUCHOWA",3206092,2,null,730,12.3,null," Wydatki bieżące na programy, projekty lub zadania finansowane z udziałem środków, o których mowa w art. 5 ust. 1 pkt 2 i 3 ustawy",false,4,2020,0,"2016-03-03","2016-03-03"]
[2016,"test","WIDUCHOWA",3206092,2,null,765,12.6,null," Wydatki na wkład krajowy w związku z zawartą po dniu 1 stycznia 2013 r. umową na realizację programu, projektu lub zadania finansowanego w co najmniej 60% środkami, o których mowa w art. 5 ust. 1 pkt 2 ustawy",true,2,2018,0,"2016-03-03","2016-03-03"]
[2016,"test","WIDUCHOWA",3206092,2,null,490,9.3000000000000007,null," Kwota zobowiązań związku współtworzonego przez jednostkę samorządu terytorialnego przypadających do spłaty w danym roku budżetowym, podlegająca doliczeniu zgodnie z art. 244 ustawy",true,3,2019,0,"2016-03-03","2016-03-03"]
[2016,"test","WIDUCHOWA",3206092,2,null,850,13.6,null," Wydatki na spłatę zobowiązań samodzielnego publicznego zakładu opieki zdrowotnej przejętych do końca 2011 r. na podstawie przepisów o zakładach opieki zdrowotnej",true,6,2022,0,"2016-03-03","2016-03-03"]
[2016,"test","WIDUCHOWA",3206092,2,null,910,"14.3.1",null,"  spłata zobowiązań wymagalnych z lat poprzednich, innych niż w pkt 14.3.3",true,7,2023,0,"2016-03-03","2016-03-03"]
[2016,"test","WIDUCHOWA",3206092,2,null,510,9.6,null," Dopuszczalny wskaźnik spłaty zobowiązań określony w art. 243 ustawy, po uwzględnieniu ustawowych wyłączeń , obliczony w oparciu o plan 3 kwartału roku poprzedzającego pierwszy rok prognozy (wskaźnik ustalony w oparciu o średnią arytmetyczną z 3 poprzednich lat) ",true,5,2021,7.85E-2,"2016-03-03","2016-03-03"]
[2016,"test","WIDUCHOWA",3206092,2,null,310,5.0999999999999996,null," Spłaty rat kapitałowych kredytów i pożyczek oraz wykup papierów wartościowych",true,8,2024,1548000,"2016-03-03","2016-03-03"]
[2016,"test","WIDUCHOWA",3206092,2,null,60,"1.1.3.1",null,"   z podatku od nieruchomości",true,2,2018,2013000,"2016-03-03","2016-03-03"]
[2016,"test","WIDUCHOWA",3206092,2,null,590,11.2,null," Wydatki związane z funkcjonowaniem organów jednostki samorządu terytorialnego",true,0,2016,2448925,"2016-03-03","2016-03-03"]
[2016,"test","WIDUCHOWA",3206092,2,null,769,12.8,null," Przychody z tytułu kredytów, pożyczek, emisji papierów wartościowych powstające w związku z zawartą po dniu 1 stycznia 2013 r. umową na realizację programu, projektu lub zadania finansowanego w co najmniej 60% środkami, o których mowa w art. 5 ust. 1 pkt 2 ustawy",true,7,2023,0,"2016-03-03","2016-03-03"]
[2016,"test","WIDUCHOWA",3206092,2,null,110,"1.2.2",null,"  z tytułu dotacji oraz środków przeznaczonych na inwestycje",true,5,2021,0,"2016-03-03","2016-03-03"]
[2016,"test","WIDUCHOWA",3206092,2,null,220,4.0999999999999996,null," Nadwyżka budżetowa z lat ubiegłych",false,7,2023,0,"2016-03-03","2016-03-03"]
[2016,"test","WIDUCHOWA",3206092,2,null,190,2.2000000000000002,null," Wydatki majątkowe",false,6,2022,611426,"2016-03-03","2016-03-03"]
[2016,"test","WIDUCHOWA",3206092,2,null,540,"9.7.1","[9.6.1]-[9.4]","  Informacja o spełnieniu wskaźnika spłaty zobowiązań określonego w art. 243 ustawy, po uwzględnieniu zobowiązań związku współtworzonego przez jednostkę samorządu terytorialnego oraz po uwzględnieniu ustawowych wyłączeń, obliczonego w oparciu o wykonanie roku poprzedzającego rok budżetowy",false,8,2024,138,"2016-03-03","2016-03-03"]
[2016,"test","WIDUCHOWA",3206092,2,null,560,10.1,null," Spłaty kredytów, pożyczek i wykup papierów wartościowych",false,4,2020,1300000,"2016-03-03","2016-03-03"]
[2016,"test","WIDUCHOWA",3206092,2,null,770,"12.8.1",null,"  w tym w związku z już zawartą umową na realizację programu, projektu lub zadania",true,9,2025,0,"2016-03-03","2016-03-03"]
[2016,"test","WIDUCHOWA",3206092,2,null,900,14.3,null," Wydatki zmniejszające dług, w tym",true,9,2025,0,"2016-03-03","2016-03-03"]
[2016,"test","WIDUCHOWA",3206092,2,null,765,12.6,null," Wydatki na wkład krajowy w związku z zawartą po dniu 1 stycznia 2013 r. umową na realizację programu, projektu lub zadania finansowanego w co najmniej 60% środkami, o których mowa w art. 5 ust. 1 pkt 2 ustawy",true,4,2020,0,"2016-03-03","2016-03-03"]
[2016,"test","WIDUCHOWA",3206092,2,null,860,13.7,null," Wydatki bieżące na pokrycie ujemnego wyniku finansowego samodzielnego publicznego zakładu opieki zdrowotnej",true,2,2018,0,"2016-03-03","2016-03-03"]
[2016,"test","WIDUCHOWA",3206092,2,null,950,15,null,"Dane dotyczące emitowanych obligacji przychodowych",true,5,2021,0,"2016-03-03","2016-03-03"]
[2016,"test","WIDUCHOWA",3206092,2,null,767,12.7,null," Przychody z tytułu kredytów, pożyczek, emisji papierów wartościowych powstające w związku z umową na realizację programu, projektu lub zadania finansowanego z udziałem środków, o których mowa w art. 5 ust. 1 pkt 2 ustawy bez względu na stopień finansowania tymi środkami ",true,6,2022,0,"2016-03-03","2016-03-03"]
[2016,"test","WIDUCHOWA",3206092,2,null,630,11.4,null," Wydatki inwestycyjne kontynuowane ",true,2,2018,0,"2016-03-03","2016-03-03"]
[2016,"test","WIDUCHOWA",3206092,2,null,150,"2.1.1.1",null,"   w tym: gwarancje i poręczenia podlegające wyłączeniu z limitu spłaty zobowiązań, o którym mowa w art. 243 ustawy",true,7,2023,0,"2016-03-03","2016-03-03"]
[2016,"test","WIDUCHOWA",3206092,2,null,80,"1.1.5",null,"  z tytułu dotacji i środków przeznaczonych na cele bieżące",true,7,2023,7250000,"2016-03-03","2016-03-03"]
[2016,"test","WIDUCHOWA",3206092,2,null,762,"12.4.2",null,"  Wydatki majątkowe na realizację programu, projektu lub zadania wynikające wyłącznie z zawartych umów z podmiotem dysponującym środkami, o których mowa w art. 5 ust. 1 pkt 2 ustawy ",true,6,2022,0,"2016-03-03","2016-03-03"]
[2016,"test","WIDUCHOWA",3206092,2,null,470,9.1,"([2.1.1] + [2.1.3.1] + [5.1] ) / [1]"," Wskaźnik planowanej łącznej kwoty spłaty zobowiązań, o której mowa w art. 243 ust. 1 ustawy do dochodów, bez uwzględnienia zobowiązań związku współtworzonego przez jednostkę samorządu terytorialnego  i bez uwzględnienia ustawowych wyłączeń przypadających na dany rok.",true,7,2023,7.6200000000000004E-2,"2016-03-03","2016-03-03"]
[2016,"test","WIDUCHOWA",3206092,2,null,850,13.6,null," Wydatki na spłatę zobowiązań samodzielnego publicznego zakładu opieki zdrowotnej przejętych do końca 2011 r. na podstawie przepisów o zakładach opieki zdrowotnej",true,8,2024,0,"2016-03-03","2016-03-03"]
[2016,"test","WIDUCHOWA",3206092,2,null,170,"2.1.3",null,"  wydatki na obsługę długu, w tym:",true,5,2021,215000,"2016-03-03","2016-03-03"]
[2016,"test","WIDUCHOWA",3206092,2,null,840,13.5,null," Wydatki na spłatę przejętych zobowiązań samodzielnego publicznego zakładu opieki zdrowotnej likwidowanego na zasadach określonych w przepisach  o działalności leczniczej",true,0,2016,0,"2016-03-03","2016-03-03"]
[2016,"test","WIDUCHOWA",3206092,2,null,100,"1.2.1",null,"  ze sprzedaży majątku",true,9,2025,300000,"2016-03-03","2016-03-03"]
[2016,"test","WIDUCHOWA",3206092,2,null,250,"4.2.1",null,"   w tym na pokrycie deficytu budżetu",false,2,2018,0,"2016-03-03","2016-03-03"]
[2016,"test","WIDUCHOWA",3206092,2,null,767,12.7,null," Przychody z tytułu kredytów, pożyczek, emisji papierów wartościowych powstające w związku z umową na realizację programu, projektu lub zadania finansowanego z udziałem środków, o których mowa w art. 5 ust. 1 pkt 2 ustawy bez względu na stopień finansowania tymi środkami ",true,4,2020,0,"2016-03-03","2016-03-03"]
[2016,"test","WIDUCHOWA",3206092,2,null,530,9.6999999999999993,"[9.6]-[9.4]"," Informacja o spełnieniu wskaźnika spłaty zobowiązań określonego w art. 243 ustawy, po uwzględnieniu zobowiązań związku współtworzonego przez jednostkę samorządu terytorialnego oraz po uwzględnieniu ustawowych wyłączeń, obliczonego w oparciu o plan 3 kwartałów roku poprzedzającego rok budżetowy",false,8,2024,138,"2016-03-03","2016-03-03"]
[2016,"test","WIDUCHOWA",3206092,2,null,920,"14.3.2",null,"  związane z umowami zaliczanymi do tytułów dłużnych wliczanych do państwowego długu publicznego",true,0,2016,130000,"2016-03-03","2016-03-03"]
[2016,"test","WIDUCHOWA",3206092,2,null,10,1,"[1.1] + [1.2]","Dochody ogółem",true,7,2023,21523984,"2016-03-03","2016-03-03"]
[2016,"test","WIDUCHOWA",3206092,2,null,600,11.3,"[11.3.1] + [11.3.2]"," Wydatki objęte limitem, o którym mowa w art. 226 ust. 3 pkt 4 ustawy",true,3,2019,153000,"2016-03-03","2016-03-03"]
[2016,"test","WIDUCHOWA",3206092,2,null,560,10.1,null," Spłaty kredytów, pożyczek i wykup papierów wartościowych",false,3,2019,1200000,"2016-03-03","2016-03-03"]
[2016,"test","WIDUCHOWA",3206092,2,null,620,"11.3.2",null,"   majątkowe",true,8,2024,0,"2016-03-03","2016-03-03"]
[2016,"test","WIDUCHOWA",3206092,2,null,130,2.1,null," Wydatki bieżące, w tym:",true,9,2025,20518971,"2016-03-03","2016-03-03"]
[2016,"test","WIDUCHOWA",3206092,2,null,600,11.3,"[11.3.1] + [11.3.2]"," Wydatki objęte limitem, o którym mowa w art. 226 ust. 3 pkt 4 ustawy",true,9,2025,0,"2016-03-03","2016-03-03"]
[2016,"test","WIDUCHOWA",3206092,2,null,980,15.2,null," Wydatki bieżące z tytułu świadczenia emitenta należnego obligatariuszom,  nieuwzględniane  w limicie spłaty zobowiązań, o którym mowa w art. 243 ustawy",true,5,2021,0,"2016-03-03","2016-03-03"]
[2016,"test","WIDUCHOWA",3206092,2,null,20,1.1000000000000001,null," Dochody bieżące",true,9,2025,22255625,"2016-03-03","2016-03-03"]
[2016,"test","WIDUCHOWA",3206092,2,null,767,12.7,null," Przychody z tytułu kredytów, pożyczek, emisji papierów wartościowych powstające w związku z umową na realizację programu, projektu lub zadania finansowanego z udziałem środków, o których mowa w art. 5 ust. 1 pkt 2 ustawy bez względu na stopień finansowania tymi środkami ",true,1,2017,0,"2016-03-03","2016-03-03"]
[2016,"test","WIDUCHOWA",3206092,2,null,500,9.4,"(([2.1.1]-[2.1.1.1]) + ([2.1.3.1]-[2.1.3.1.1]-[2.1.3.1.2])+([5.1]-[5.1.1])+[9.3]) /([1]-[15.1.1])"," Wskaźnik planowanej łącznej kwoty spłaty zobowiązań, o której mowa w art. 243 ust. 1 ustawy do dochodów, po uwzględnieniu zobowiązań związku współtworzonego przez jednostkę samorządu terytorialnego oraz po uwzględnieniu ustawowych wyłączeń przypadających na dany rok",false,7,2023,7.5499999999999998E-2,"2016-03-03","2016-03-03"]
[2016,"test","WIDUCHOWA",3206092,2,null,260,4.3,null,"  Kredyty, pożyczki, emisja papierów wartościowych",true,4,2020,0,"2016-03-03","2016-03-03"]
[2016,"test","WIDUCHOWA",3206092,2,null,240,4.2,null," Wolne środki, o których mowa w art. 217 ust.2 pkt 6 ustawy",false,1,2017,0,"2016-03-03","2016-03-03"]
[2016,"test","WIDUCHOWA",3206092,2,null,250,"4.2.1",null,"   w tym na pokrycie deficytu budżetu",false,1,2017,0,"2016-03-03","2016-03-03"]
[2016,"test","WIDUCHOWA",3206092,2,null,350,6,null,"Kwota długu",true,7,2023,2291000,"2016-03-03","2016-03-03"]
[2016,"test","WIDUCHOWA",3206092,2,null,1010,16.2,null," Stopień niezachowania wskaźnika spłaty zobowiązań, o którym mowa w poz. 9.7.",true,1,2017,0,"2016-03-03","2016-03-03"]
[2016,"test","WIDUCHOWA",3206092,2,null,430,8.1999999999999993,"[1.1] + [4.1] + [4.2] - (  [2.1] - [2.1.2]  )"," Różnica między dochodami bieżącymi, skorygowanymi o środki a wydatkami bieżącymi, pomniejszonymi  o wydatki",false,9,2025,1736654,"2016-03-03","2016-03-03"]
[2016,"test","WIDUCHOWA",3206092,2,null,690,"12.1.1.1",null,"   - w tym środki określone w art. 5 ust. 1 pkt 2 ustawy wynikające wyłącznie z  zawartych umów na realizację programu, projektu lub zadania",true,3,2019,0,"2016-03-03","2016-03-03"]
[2016,"test","WIDUCHOWA",3206092,2,null,680,"12.1.1",null,"  -  w tym środki określone w art. 5 ust. 1 pkt 2 ustawy",true,2,2018,0,"2016-03-03","2016-03-03"]
[2016,"test","WIDUCHOWA",3206092,2,null,768,"12.7.1",null,"  w tym w związku z już zawartą umową na realizację programu, projektu lub zadania",true,5,2021,0,"2016-03-03","2016-03-03"]
[2016,"test","WIDUCHOWA",3206092,2,null,540,"9.7.1","[9.6.1]-[9.4]","  Informacja o spełnieniu wskaźnika spłaty zobowiązań określonego w art. 243 ustawy, po uwzględnieniu zobowiązań związku współtworzonego przez jednostkę samorządu terytorialnego oraz po uwzględnieniu ustawowych wyłączeń, obliczonego w oparciu o wykonanie roku poprzedzającego rok budżetowy",false,2,2018,278,"2016-03-03","2016-03-03"]
[2016,"test","WIDUCHOWA",3206092,2,null,630,11.4,null," Wydatki inwestycyjne kontynuowane ",true,3,2019,0,"2016-03-03","2016-03-03"]
[2016,"test","WIDUCHOWA",3206092,2,null,500,9.4,"(([2.1.1]-[2.1.1.1]) + ([2.1.3.1]-[2.1.3.1.1]-[2.1.3.1.2])+([5.1]-[5.1.1])+[9.3]) /([1]-[15.1.1])"," Wskaźnik planowanej łącznej kwoty spłaty zobowiązań, o której mowa w art. 243 ust. 1 ustawy do dochodów, po uwzględnieniu zobowiązań związku współtworzonego przez jednostkę samorządu terytorialnego oraz po uwzględnieniu ustawowych wyłączeń przypadających na dany rok",false,2,2018,4.1399999999999999E-2,"2016-03-03","2016-03-03"]
[2016,"test","WIDUCHOWA",3206092,2,null,930,"14.3.3",null,"  wypłaty z tytułu wymagalnych poręczeń i gwarancji",true,6,2022,0,"2016-03-03","2016-03-03"]
[2016,"test","WIDUCHOWA",3206092,2,null,332,"5.1.1.1",null,"   kwota przypadających na dany rok kwot ustawowych wyłączeń określonych w art. 243 ust. 3 ustawy",true,8,2024,0,"2016-03-03","2016-03-03"]
[2016,"test","WIDUCHOWA",3206092,2,null,767,12.7,null," Przychody z tytułu kredytów, pożyczek, emisji papierów wartościowych powstające w związku z umową na realizację programu, projektu lub zadania finansowanego z udziałem środków, o których mowa w art. 5 ust. 1 pkt 2 ustawy bez względu na stopień finansowania tymi środkami ",true,0,2016,0,"2016-03-03","2016-03-03"]
[2016,"test","WIDUCHOWA",3206092,2,null,800,13.1,null," Kwota zobowiązań wynikających z przejęcia przez jednostkę samorządu terytorialnego zobowiązań po likwidowanych i przekształcanych samodzielnych zakładach opieki zdrowotnej",true,4,2020,0,"2016-03-03","2016-03-03"]
[2016,"test","WIDUCHOWA",3206092,2,null,410,8,null,"Relacja zrównoważenia wydatków bieżących, o której mowa w art. 242 ustawy",true,2,2018,0,"2016-03-03","2016-03-03"]
[2016,"test","WIDUCHOWA",3206092,2,null,530,9.6999999999999993,"[9.6]-[9.4]"," Informacja o spełnieniu wskaźnika spłaty zobowiązań określonego w art. 243 ustawy, po uwzględnieniu zobowiązań związku współtworzonego przez jednostkę samorządu terytorialnego oraz po uwzględnieniu ustawowych wyłączeń, obliczonego w oparciu o plan 3 kwartałów roku poprzedzającego rok budżetowy",false,5,2021,112,"2016-03-03","2016-03-03"]
[2016,"test","WIDUCHOWA",3206092,2,null,550,10,null,"Przeznaczenie prognozowanej nadwyżki budżetowej,  w tym na:",false,4,2020,1300000,"2016-03-03","2016-03-03"]
[2016,"test","WIDUCHOWA",3206092,2,null,340,5.2,null," Inne rozchody niezwiązane ze spłatą długu",false,5,2021,0,"2016-03-03","2016-03-03"]
[2016,"test","WIDUCHOWA",3206092,2,null,180,"2.1.3.1",null,"   odsetki i dyskonto określone w art. 243 ust. 1 ustawy, w tym:",false,1,2017,340000,"2016-03-03","2016-03-03"]
[2016,"test","WIDUCHOWA",3206092,2,null,580,11.1,null," Wydatki bieżące na wynagrodzenia i składki od nich naliczane",false,8,2024,9083273,"2016-03-03","2016-03-03"]
[2016,"test","WIDUCHOWA",3206092,2,null,630,11.4,null," Wydatki inwestycyjne kontynuowane ",true,0,2016,0,"2016-03-03","2016-03-03"]
[2016,"test","WIDUCHOWA",3206092,2,null,250,"4.2.1",null,"   w tym na pokrycie deficytu budżetu",false,3,2019,0,"2016-03-03","2016-03-03"]
[2016,"test","WIDUCHOWA",3206092,2,null,180,"2.1.3.1",null,"   odsetki i dyskonto określone w art. 243 ust. 1 ustawy, w tym:",false,5,2021,215000,"2016-03-03","2016-03-03"]
[2016,"test","WIDUCHOWA",3206092,2,null,650,11.6,null," Wydatki majątkowe w formie dotacji ",true,8,2024,0,"2016-03-03","2016-03-03"]
[2016,"test","WIDUCHOWA",3206092,2,null,920,"14.3.2",null,"  związane z umowami zaliczanymi do tytułów dłużnych wliczanych do państwowego długu publicznego",true,7,2023,0,"2016-03-03","2016-03-03"]
[2016,"test","WIDUCHOWA",3206092,2,null,184,"2.1.3.1.2",null,"    odsetki i dyskonto podlegające wyłączeniu z limitu spłaty zobowiązań, o którym mowa w art. 243 ustawy, z tytułu zobowiązań  zaciągniętych na wkład krajowy",false,4,2020,44000,"2016-03-03","2016-03-03"]
[2016,"test","WIDUCHOWA",3206092,2,null,540,"9.7.1","[9.6.1]-[9.4]","  Informacja o spełnieniu wskaźnika spłaty zobowiązań określonego w art. 243 ustawy, po uwzględnieniu zobowiązań związku współtworzonego przez jednostkę samorządu terytorialnego oraz po uwzględnieniu ustawowych wyłączeń, obliczonego w oparciu o wykonanie roku poprzedzającego rok budżetowy",false,3,2019,120,"2016-03-03","2016-03-03"]
[2016,"test","WIDUCHOWA",3206092,2,null,200,3,"[1] -[2]","Wynik budżetu",false,0,2016,400000,"2016-03-03","2016-03-03"]
[2016,"test","WIDUCHOWA",3206092,2,null,110,"1.2.2",null,"  z tytułu dotacji oraz środków przeznaczonych na inwestycje",true,7,2023,0,"2016-03-03","2016-03-03"]
[2016,"test","WIDUCHOWA",3206092,2,null,680,"12.1.1",null,"  -  w tym środki określone w art. 5 ust. 1 pkt 2 ustawy",true,8,2024,0,"2016-03-03","2016-03-03"]
[2016,"test","WIDUCHOWA",3206092,2,null,140,"2.1.1",null,"  z tytułu poręczeń i gwarancji",true,4,2020,0,"2016-03-03","2016-03-03"]
[2016,"test","WIDUCHOWA",3206092,2,null,320,"5.1.1","[5.1.1.1] + [5.1.1.2] + [5.1.1.3]","  w tym łączna kwota przypadających na dany rok kwot ustawowych wyłączeń z limitu spłaty zobowiązań, o którym mowa w art. 243 ustawy, z tego:",true,1,2017,0,"2016-03-03","2016-03-03"]
[2016,"test","WIDUCHOWA",3206092,2,null,920,"14.3.2",null,"  związane z umowami zaliczanymi do tytułów dłużnych wliczanych do państwowego długu publicznego",true,8,2024,0,"2016-03-03","2016-03-03"]
[2016,"test","WIDUCHOWA",3206092,2,null,160,"2.1.2",null,"   na spłatę przejętych zobowiązań samodzielnego publicznego zakładu opieki zdrowotnej przekształconego na zasadach określonych w przepisach  o działalności leczniczej, w wysokości w jakiej nie podlegają sfinansowaniu dotacją z budżetu państwa",true,3,2019,0,"2016-03-03","2016-03-03"]
[2016,"test","WIDUCHOWA",3206092,2,null,130,2.1,null," Wydatki bieżące, w tym:",true,0,2016,17135413.07,"2016-03-03","2016-03-03"]
[2016,"test","WIDUCHOWA",3206092,2,null,90,1.2,null,"  Dochody majątkowe, w tym",true,6,2022,300000,"2016-03-03","2016-03-03"]
[2016,"test","WIDUCHOWA",3206092,2,null,810,13.2,null," Dochody budżetowe z tytułu dotacji celowej z budżetu państwa, o której mowa w art. 196 ustawy z  dnia 15 kwietnia 2011 r.  o działalności leczniczej (Dz.U. Nr 112, poz. 654, z późn. zm.)",true,1,2017,0,"2016-03-03","2016-03-03"]
[2016,"test","WIDUCHOWA",3206092,2,null,761,"12.4.1",null,"  -  w tym finansowane środkami określonymi w art. 5 ust. 1 pkt 2 ustawy",true,1,2017,1272600,"2016-03-03","2016-03-03"]
[2016,"test","WIDUCHOWA",3206092,2,null,766,"12.6.1",null,"  w tym w związku z już zawartą umową na realizację programu, projektu lub zadania",true,0,2016,0,"2016-03-03","2016-03-03"]
[2016,"test","WIDUCHOWA",3206092,2,null,100,"1.2.1",null,"  ze sprzedaży majątku",true,8,2024,300000,"2016-03-03","2016-03-03"]
[2016,"test","WIDUCHOWA",3206092,2,null,870,14,null,"Dane uzupełniające o długu i jego spłacie",true,6,2022,0,"2016-03-03","2016-03-03"]
[2016,"test","WIDUCHOWA",3206092,2,null,100,"1.2.1",null,"  ze sprzedaży majątku",true,4,2020,400000,"2016-03-03","2016-03-03"]
[2016,"test","WIDUCHOWA",3206092,2,null,620,"11.3.2",null,"   majątkowe",true,6,2022,179000,"2016-03-03","2016-03-03"]
[2016,"test","WIDUCHOWA",3206092,2,null,80,"1.1.5",null,"  z tytułu dotacji i środków przeznaczonych na cele bieżące",true,5,2021,7090000,"2016-03-03","2016-03-03"]
[2016,"test","WIDUCHOWA",3206092,2,null,763,12.5,null," Wydatki na wkład krajowy w związku z umową na realizację programu, projektu lub zadania finansowanego z udziałem środków, o których mowa w art. 5 ust. 1 pkt 2 ustawy bez względu na stopień finansowania tymi środkami ",true,0,2016,264428,"2016-03-03","2016-03-03"]
[2016,"test","WIDUCHOWA",3206092,2,null,830,13.4,null," Wydatki na spłatę przejętych zobowiązań samodzielnego publicznego zakładu opieki zdrowotnej przekształconego na zasadach określonych w przepisach  o działalności leczniczej",true,2,2018,0,"2016-03-03","2016-03-03"]
[2016,"test","WIDUCHOWA",3206092,2,null,250,"4.2.1",null,"   w tym na pokrycie deficytu budżetu",false,8,2024,0,"2016-03-03","2016-03-03"]
[2016,"test","WIDUCHOWA",3206092,2,null,180,"2.1.3.1",null,"   odsetki i dyskonto określone w art. 243 ust. 1 ustawy, w tym:",false,4,2020,260000,"2016-03-03","2016-03-03"]
[2016,"test","WIDUCHOWA",3206092,2,null,640,11.5,null," Nowe wydatki inwestycyjne",true,5,2021,0,"2016-03-03","2016-03-03"]
[2016,"test","WIDUCHOWA",3206092,2,null,430,8.1999999999999993,"[1.1] + [4.1] + [4.2] - (  [2.1] - [2.1.2]  )"," Różnica między dochodami bieżącymi, skorygowanymi o środki a wydatkami bieżącymi, pomniejszonymi  o wydatki",false,0,2016,1445151,"2016-03-03","2016-03-03"]
[2016,"test","WIDUCHOWA",3206092,2,null,182,"2.1.3.1.1",null,"    odsetki i dyskonto podlegające wyłączeniu z limitu spłaty zobowiązań, o którym mowa w art. 243 ustawy, w terminie nie dłuższym niż 90 dni po zakończeniu programu, projektu lub zadania i otrzymaniu refundacji z tych środków (bez odsetek i dyskonta od zobowiązań na wkład krajowy)",false,0,2016,0,"2016-03-03","2016-03-03"]
[2016,"test","WIDUCHOWA",3206092,2,null,480,9.1999999999999993,"( ([2.1.1]-[2.1.1.1])+([2.1.3.1]-[2.1.3.1.1]-[2.1.3.1.2])+([5.1]-[5.1.1]) )/([1]-[15.1.1])"," Wskaźnik planowanej łącznej kwoty spłaty zobowiązań, o której mowa w art. 243 ust. 1 ustawy do dochodów, bez uwzględnienia zobowiązań związku współtworzonego przez jednostkę samorządu terytorialnego, po uwzględnieniu ustawowych wyłączeń przypadających na dany rok.",false,0,2016,3.2599999999999997E-2,"2016-03-03","2016-03-03"]
[2016,"test","WIDUCHOWA",3206092,2,null,940,14.4,null," Wynik operacji niekasowych wpływających na kwotę długu ( m.in. umorzenia, różnice kursowe)",true,6,2022,0,"2016-03-03","2016-03-03"]
[2016,"test","WIDUCHOWA",3206092,2,null,510,9.6,null," Dopuszczalny wskaźnik spłaty zobowiązań określony w art. 243 ustawy, po uwzględnieniu ustawowych wyłączeń , obliczony w oparciu o plan 3 kwartału roku poprzedzającego pierwszy rok prognozy (wskaźnik ustalony w oparciu o średnią arytmetyczną z 3 poprzednich lat) ",true,2,2018,6.9599999999999995E-2,"2016-03-03","2016-03-03"]
[2016,"test","WIDUCHOWA",3206092,2,null,440,9,null,"Wskaźnik spłaty zobowiązań",false,2,2018,0,"2016-03-03","2016-03-03"]
[2016,"test","WIDUCHOWA",3206092,2,null,960,15.1,null," Środki z przedsięwzięcia gromadzone na rachunku bankowym,  w tym:",true,5,2021,0,"2016-03-03","2016-03-03"]
[2016,"test","WIDUCHOWA",3206092,2,null,170,"2.1.3",null,"  wydatki na obsługę długu, w tym:",true,2,2018,320000,"2016-03-03","2016-03-03"]
[2016,"test","WIDUCHOWA",3206092,2,null,550,10,null,"Przeznaczenie prognozowanej nadwyżki budżetowej,  w tym na:",false,8,2024,1548000,"2016-03-03","2016-03-03"]
[2016,"test","WIDUCHOWA",3206092,2,null,110,"1.2.2",null,"  z tytułu dotacji oraz środków przeznaczonych na inwestycje",true,3,2019,0,"2016-03-03","2016-03-03"]
[2016,"test","WIDUCHOWA",3206092,2,null,870,14,null,"Dane uzupełniające o długu i jego spłacie",true,3,2019,0,"2016-03-03","2016-03-03"]
[2016,"test","WIDUCHOWA",3206092,2,null,260,4.3,null,"  Kredyty, pożyczki, emisja papierów wartościowych",true,2,2018,0,"2016-03-03","2016-03-03"]
[2016,"test","WIDUCHOWA",3206092,2,null,182,"2.1.3.1.1",null,"    odsetki i dyskonto podlegające wyłączeniu z limitu spłaty zobowiązań, o którym mowa w art. 243 ustawy, w terminie nie dłuższym niż 90 dni po zakończeniu programu, projektu lub zadania i otrzymaniu refundacji z tych środków (bez odsetek i dyskonta od zobowiązań na wkład krajowy)",false,6,2022,0,"2016-03-03","2016-03-03"]
[2016,"test","WIDUCHOWA",3206092,2,null,840,13.5,null," Wydatki na spłatę przejętych zobowiązań samodzielnego publicznego zakładu opieki zdrowotnej likwidowanego na zasadach określonych w przepisach  o działalności leczniczej",true,7,2023,0,"2016-03-03","2016-03-03"]
[2016,"test","WIDUCHOWA",3206092,2,null,920,"14.3.2",null,"  związane z umowami zaliczanymi do tytułów dłużnych wliczanych do państwowego długu publicznego",true,9,2025,0,"2016-03-03","2016-03-03"]
[2016,"test","WIDUCHOWA",3206092,2,null,950,15,null,"Dane dotyczące emitowanych obligacji przychodowych",true,3,2019,0,"2016-03-03","2016-03-03"]
[2016,"test","WIDUCHOWA",3206092,2,null,860,13.7,null," Wydatki bieżące na pokrycie ujemnego wyniku finansowego samodzielnego publicznego zakładu opieki zdrowotnej",true,3,2019,0,"2016-03-03","2016-03-03"]
[2016,"test","WIDUCHOWA",3206092,2,null,1000,16.100000000000001,null," Stopień niezachowania relacji zrównoważenia wydatków bieżących, o której mowa w poz. 8.2.",true,7,2023,0,"2016-03-03","2016-03-03"]
[2016,"test","WIDUCHOWA",3206092,2,null,870,14,null,"Dane uzupełniające o długu i jego spłacie",true,2,2018,0,"2016-03-03","2016-03-03"]
[2016,"test","WIDUCHOWA",3206092,2,null,761,"12.4.1",null,"  -  w tym finansowane środkami określonymi w art. 5 ust. 1 pkt 2 ustawy",true,0,2016,462622,"2016-03-03","2016-03-03"]
[2016,"test","WIDUCHOWA",3206092,2,null,620,"11.3.2",null,"   majątkowe",true,0,2016,897050,"2016-03-03","2016-03-03"]
[2016,"test","WIDUCHOWA",3206092,2,null,240,4.2,null," Wolne środki, o których mowa w art. 217 ust.2 pkt 6 ustawy",false,5,2021,0,"2016-03-03","2016-03-03"]
[2016,"test","WIDUCHOWA",3206092,2,null,200,3,"[1] -[2]","Wynik budżetu",false,7,2023,1510000,"2016-03-03","2016-03-03"]
[2016,"test","WIDUCHOWA",3206092,2,null,1010,16.2,null," Stopień niezachowania wskaźnika spłaty zobowiązań, o którym mowa w poz. 9.7.",true,8,2024,0,"2016-03-03","2016-03-03"]
[2016,"test","WIDUCHOWA",3206092,2,null,580,11.1,null," Wydatki bieżące na wynagrodzenia i składki od nich naliczane",false,2,2018,7607098,"2016-03-03","2016-03-03"]
[2016,"test","WIDUCHOWA",3206092,2,null,720,"12.2.1.1",null,"    - w tym środki określone w art. 5 ust. 1 pkt 2 ustawy wynikające wyłącznie z zawartych umów na realizację programu, projektu lub zadania",false,9,2025,0,"2016-03-03","2016-03-03"]
[2016,"test","WIDUCHOWA",3206092,2,null,610,"11.3.1",null,"   bieżące",true,0,2016,418000,"2016-03-03","2016-03-03"]
[2016,"test","WIDUCHOWA",3206092,2,null,810,13.2,null," Dochody budżetowe z tytułu dotacji celowej z budżetu państwa, o której mowa w art. 196 ustawy z  dnia 15 kwietnia 2011 r.  o działalności leczniczej (Dz.U. Nr 112, poz. 654, z późn. zm.)",true,2,2018,0,"2016-03-03","2016-03-03"]
[2016,"test","WIDUCHOWA",3206092,2,null,1010,16.2,null," Stopień niezachowania wskaźnika spłaty zobowiązań, o którym mowa w poz. 9.7.",true,7,2023,0,"2016-03-03","2016-03-03"]
[2016,"test","WIDUCHOWA",3206092,2,null,580,11.1,null," Wydatki bieżące na wynagrodzenia i składki od nich naliczane",false,1,2017,7385532,"2016-03-03","2016-03-03"]
[2016,"test","WIDUCHOWA",3206092,2,null,950,15,null,"Dane dotyczące emitowanych obligacji przychodowych",true,6,2022,0,"2016-03-03","2016-03-03"]
[2016,"test","WIDUCHOWA",3206092,2,null,508,9.5,"(([1.1] - [15.1.1])+[1.2.1] - ([2.1]-[2.1.2]-[15.2]))/ ([1]-[15.1.1])"," Wskaźnik dochodów bieżących powiększonych o dochody ze sprzedaży majątku oraz pomniejszonych o wydatki bieżące, do dochodów budżetu, ustalony dla danego roku (wskaźnik jednoroczny)",false,3,2019,7.7399999999999997E-2,"2016-03-03","2016-03-03"]
[2016,"test","WIDUCHOWA",3206092,2,null,560,10.1,null," Spłaty kredytów, pożyczek i wykup papierów wartościowych",false,2,2018,600000,"2016-03-03","2016-03-03"]
[2016,"test","WIDUCHOWA",3206092,2,null,280,4.4000000000000004,null," Inne przychody niezwiązane z zaciągnięciem długu",false,1,2017,0,"2016-03-03","2016-03-03"]
[2016,"test","WIDUCHOWA",3206092,2,null,769,12.8,null," Przychody z tytułu kredytów, pożyczek, emisji papierów wartościowych powstające w związku z zawartą po dniu 1 stycznia 2013 r. umową na realizację programu, projektu lub zadania finansowanego w co najmniej 60% środkami, o których mowa w art. 5 ust. 1 pkt 2 ustawy",true,1,2017,0,"2016-03-03","2016-03-03"]
[2016,"test","WIDUCHOWA",3206092,2,null,508,9.5,"(([1.1] - [15.1.1])+[1.2.1] - ([2.1]-[2.1.2]-[15.2]))/ ([1]-[15.1.1])"," Wskaźnik dochodów bieżących powiększonych o dochody ze sprzedaży majątku oraz pomniejszonych o wydatki bieżące, do dochodów budżetu, ustalony dla danego roku (wskaźnik jednoroczny)",false,1,2017,7.0599999999999996E-2,"2016-03-03","2016-03-03"]
[2016,"test","WIDUCHOWA",3206092,2,null,184,"2.1.3.1.2",null,"    odsetki i dyskonto podlegające wyłączeniu z limitu spłaty zobowiązań, o którym mowa w art. 243 ustawy, z tytułu zobowiązań  zaciągniętych na wkład krajowy",false,7,2023,14000,"2016-03-03","2016-03-03"]
[2016,"test","WIDUCHOWA",3206092,2,null,740,"12.3.1",null,"  -  w tym finansowane środkami określonymi w art. 5 ust. 1 pkt 2 ustawy ",false,9,2025,0,"2016-03-03","2016-03-03"]
[2016,"test","WIDUCHOWA",3206092,2,null,420,8.1,"[1.1] - [2.1]"," Różnica między dochodami bieżącymi a  wydatkami bieżącymi",false,9,2025,1736654,"2016-03-03","2016-03-03"]
[2016,"test","WIDUCHOWA",3206092,2,null,710,"12.2.1",null,"   -  w tym środki określone w art. 5 ust. 1 pkt 2 ustawy",false,4,2020,0,"2016-03-03","2016-03-03"]
[2016,"test","WIDUCHOWA",3206092,2,null,765,12.6,null," Wydatki na wkład krajowy w związku z zawartą po dniu 1 stycznia 2013 r. umową na realizację programu, projektu lub zadania finansowanego w co najmniej 60% środkami, o których mowa w art. 5 ust. 1 pkt 2 ustawy",true,0,2016,264428,"2016-03-03","2016-03-03"]
[2016,"test","WIDUCHOWA",3206092,2,null,20,1.1000000000000001,null," Dochody bieżące",true,6,2022,20834936,"2016-03-03","2016-03-03"]
[2016,"test","WIDUCHOWA",3206092,2,null,400,7,null,"Kwota zobowiązań wynikających z przejęcia przez jednostkę samorządu terytorialnego zobowiązań po likwidowanych i przekształcanych jednostkach zaliczanych do sektora  finansów publicznych",true,1,2017,0,"2016-03-03","2016-03-03"]
[2016,"test","WIDUCHOWA",3206092,2,null,765,12.6,null," Wydatki na wkład krajowy w związku z zawartą po dniu 1 stycznia 2013 r. umową na realizację programu, projektu lub zadania finansowanego w co najmniej 60% środkami, o których mowa w art. 5 ust. 1 pkt 2 ustawy",true,9,2025,0,"2016-03-03","2016-03-03"]
[2016,"test","WIDUCHOWA",3206092,2,null,350,6,null,"Kwota długu",true,1,2017,9995000,"2016-03-03","2016-03-03"]
[2016,"test","WIDUCHOWA",3206092,2,null,100,"1.2.1",null,"  ze sprzedaży majątku",true,2,2018,400000,"2016-03-03","2016-03-03"]
[2016,"test","WIDUCHOWA",3206092,2,null,720,"12.2.1.1",null,"    - w tym środki określone w art. 5 ust. 1 pkt 2 ustawy wynikające wyłącznie z zawartych umów na realizację programu, projektu lub zadania",false,1,2017,0,"2016-03-03","2016-03-03"]
[2016,"test","WIDUCHOWA",3206092,2,null,280,4.4000000000000004,null," Inne przychody niezwiązane z zaciągnięciem długu",false,9,2025,0,"2016-03-03","2016-03-03"]
[2016,"test","WIDUCHOWA",3206092,2,null,768,"12.7.1",null,"  w tym w związku z już zawartą umową na realizację programu, projektu lub zadania",true,4,2020,0,"2016-03-03","2016-03-03"]
[2016,"test","WIDUCHOWA",3206092,2,null,750,"12.3.2",null,"  Wydatki bieżące na realizację programu, projektu lub zadania wynikające wyłącznie z zawartych umów z podmiotem dysponującym środkami, o których mowa w art. 5 ust. 1 pkt 2 ustawy ",false,0,2016,0,"2016-03-03","2016-03-03"]
[2016,"test","WIDUCHOWA",3206092,2,null,470,9.1,"([2.1.1] + [2.1.3.1] + [5.1] ) / [1]"," Wskaźnik planowanej łącznej kwoty spłaty zobowiązań, o której mowa w art. 243 ust. 1 ustawy do dochodów, bez uwzględnienia zobowiązań związku współtworzonego przez jednostkę samorządu terytorialnego  i bez uwzględnienia ustawowych wyłączeń przypadających na dany rok.",true,9,2025,3.4099999999999998E-2,"2016-03-03","2016-03-03"]
[2016,"test","WIDUCHOWA",3206092,2,null,230,"4.1.1",null,"  w tym na pokrycie deficytu budżetu",false,5,2021,0,"2016-03-03","2016-03-03"]
[2016,"test","WIDUCHOWA",3206092,2,null,720,"12.2.1.1",null,"    - w tym środki określone w art. 5 ust. 1 pkt 2 ustawy wynikające wyłącznie z zawartych umów na realizację programu, projektu lub zadania",false,7,2023,0,"2016-03-03","2016-03-03"]
[2016,"test","WIDUCHOWA",3206092,2,null,530,9.6999999999999993,"[9.6]-[9.4]"," Informacja o spełnieniu wskaźnika spłaty zobowiązań określonego w art. 243 ustawy, po uwzględnieniu zobowiązań związku współtworzonego przez jednostkę samorządu terytorialnego oraz po uwzględnieniu ustawowych wyłączeń, obliczonego w oparciu o plan 3 kwartałów roku poprzedzającego rok budżetowy",false,2,2018,282,"2016-03-03","2016-03-03"]
[2016,"test","WIDUCHOWA",3206092,2,null,750,"12.3.2",null,"  Wydatki bieżące na realizację programu, projektu lub zadania wynikające wyłącznie z zawartych umów z podmiotem dysponującym środkami, o których mowa w art. 5 ust. 1 pkt 2 ustawy ",false,4,2020,0,"2016-03-03","2016-03-03"]
[2016,"test","WIDUCHOWA",3206092,2,null,765,12.6,null," Wydatki na wkład krajowy w związku z zawartą po dniu 1 stycznia 2013 r. umową na realizację programu, projektu lub zadania finansowanego w co najmniej 60% środkami, o których mowa w art. 5 ust. 1 pkt 2 ustawy",true,7,2023,0,"2016-03-03","2016-03-03"]
[2016,"test","WIDUCHOWA",3206092,2,null,400,7,null,"Kwota zobowiązań wynikających z przejęcia przez jednostkę samorządu terytorialnego zobowiązań po likwidowanych i przekształcanych jednostkach zaliczanych do sektora  finansów publicznych",true,0,2016,0,"2016-03-03","2016-03-03"]
[2016,"test","WIDUCHOWA",3206092,2,null,650,11.6,null," Wydatki majątkowe w formie dotacji ",true,1,2017,0,"2016-03-03","2016-03-03"]
[2016,"test","WIDUCHOWA",3206092,2,null,20,1.1000000000000001,null," Dochody bieżące",true,5,2021,20363045,"2016-03-03","2016-03-03"]
[2016,"test","WIDUCHOWA",3206092,2,null,761,"12.4.1",null,"  -  w tym finansowane środkami określonymi w art. 5 ust. 1 pkt 2 ustawy",true,5,2021,0,"2016-03-03","2016-03-03"]
[2016,"test","WIDUCHOWA",3206092,2,null,970,"15.1.1",null,"  środki na zaspokojenie roszczeń obligatariuszy",true,1,2017,0,"2016-03-03","2016-03-03"]
[2016,"test","WIDUCHOWA",3206092,2,null,762,"12.4.2",null,"  Wydatki majątkowe na realizację programu, projektu lub zadania wynikające wyłącznie z zawartych umów z podmiotem dysponującym środkami, o których mowa w art. 5 ust. 1 pkt 2 ustawy ",true,3,2019,0,"2016-03-03","2016-03-03"]
[2016,"test","WIDUCHOWA",3206092,2,null,510,9.6,null," Dopuszczalny wskaźnik spłaty zobowiązań określony w art. 243 ustawy, po uwzględnieniu ustawowych wyłączeń , obliczony w oparciu o plan 3 kwartału roku poprzedzającego pierwszy rok prognozy (wskaźnik ustalony w oparciu o średnią arytmetyczną z 3 poprzednich lat) ",true,4,2020,7.5499999999999998E-2,"2016-03-03","2016-03-03"]
[2016,"test","WIDUCHOWA",3206092,2,null,710,"12.2.1",null,"   -  w tym środki określone w art. 5 ust. 1 pkt 2 ustawy",false,1,2017,1272600,"2016-03-03","2016-03-03"]
[2016,"test","WIDUCHOWA",3206092,2,null,620,"11.3.2",null,"   majątkowe",true,2,2018,157000,"2016-03-03","2016-03-03"]
[2016,"test","WIDUCHOWA",3206092,2,null,700,12.2,null," Dochody majątkowe  na programy, projekty lub zadania finansowane z udziałem środków, o których mowa w art. 5 ust. 1 pkt 2 i 3 ustawy",false,8,2024,0,"2016-03-03","2016-03-03"]
[2016,"test","WIDUCHOWA",3206092,2,null,508,9.5,"(([1.1] - [15.1.1])+[1.2.1] - ([2.1]-[2.1.2]-[15.2]))/ ([1]-[15.1.1])"," Wskaźnik dochodów bieżących powiększonych o dochody ze sprzedaży majątku oraz pomniejszonych o wydatki bieżące, do dochodów budżetu, ustalony dla danego roku (wskaźnik jednoroczny)",false,4,2020,7.9600000000000004E-2,"2016-03-03","2016-03-03"]
[2016,"test","WIDUCHOWA",3206092,2,null,940,14.4,null," Wynik operacji niekasowych wpływających na kwotę długu ( m.in. umorzenia, różnice kursowe)",true,9,2025,0,"2016-03-03","2016-03-03"]
[2016,"test","WIDUCHOWA",3206092,2,null,200,3,"[1] -[2]","Wynik budżetu",false,9,2025,743000,"2016-03-03","2016-03-03"]
[2016,"test","WIDUCHOWA",3206092,2,null,120,2,"[2.1] + [2.2]","Wydatki ogółem",false,5,2021,19463045,"2016-03-03","2016-03-03"]
[2016,"test","WIDUCHOWA",3206092,2,null,170,"2.1.3",null,"  wydatki na obsługę długu, w tym:",true,6,2022,175000,"2016-03-03","2016-03-03"]
[2016,"test","WIDUCHOWA",3206092,2,null,290,"4.4.1",null,"   w tym na pokrycie deficytu budżetu",false,3,2019,0,"2016-03-03","2016-03-03"]
[2016,"test","WIDUCHOWA",3206092,2,null,910,"14.3.1",null,"  spłata zobowiązań wymagalnych z lat poprzednich, innych niż w pkt 14.3.3",true,5,2021,0,"2016-03-03","2016-03-03"]
[2016,"test","WIDUCHOWA",3206092,2,null,520,"9.6.1",null,"   Dopuszczalny wskaźnik spłaty zobowiązań określony w art. 243 ustawy, po uwzględnieniu ustawowych wyłączeń, obliczony w oparciu o wykonanie roku poprzedzającego pierwszy rok prognozy (wskaźnik ustalony w oparciu o średnią arytmetyczną z 3 poprzednich lat) ",true,5,2021,7.85E-2,"2016-03-03","2016-03-03"]
[2016,"test","WIDUCHOWA",3206092,2,null,190,2.2000000000000002,null," Wydatki majątkowe",false,3,2019,406904,"2016-03-03","2016-03-03"]
[2016,"test","WIDUCHOWA",3206092,2,null,170,"2.1.3",null,"  wydatki na obsługę długu, w tym:",true,9,2025,26000,"2016-03-03","2016-03-03"]
[2016,"test","WIDUCHOWA",3206092,2,null,520,"9.6.1",null,"   Dopuszczalny wskaźnik spłaty zobowiązań określony w art. 243 ustawy, po uwzględnieniu ustawowych wyłączeń, obliczony w oparciu o wykonanie roku poprzedzającego pierwszy rok prognozy (wskaźnik ustalony w oparciu o średnią arytmetyczną z 3 poprzednich lat) ",true,0,2016,4.4900000000000002E-2,"2016-03-03","2016-03-03"]
[2016,"test","WIDUCHOWA",3206092,2,null,550,10,null,"Przeznaczenie prognozowanej nadwyżki budżetowej,  w tym na:",false,6,2022,1330000,"2016-03-03","2016-03-03"]
[2016,"test","WIDUCHOWA",3206092,2,null,680,"12.1.1",null,"  -  w tym środki określone w art. 5 ust. 1 pkt 2 ustawy",true,3,2019,0,"2016-03-03","2016-03-03"]
[2016,"test","WIDUCHOWA",3206092,2,null,680,"12.1.1",null,"  -  w tym środki określone w art. 5 ust. 1 pkt 2 ustawy",true,9,2025,0,"2016-03-03","2016-03-03"]
[2016,"test","WIDUCHOWA",3206092,2,null,250,"4.2.1",null,"   w tym na pokrycie deficytu budżetu",false,0,2016,0,"2016-03-03","2016-03-03"]
[2016,"test","WIDUCHOWA",3206092,2,null,960,15.1,null," Środki z przedsięwzięcia gromadzone na rachunku bankowym,  w tym:",true,8,2024,0,"2016-03-03","2016-03-03"]
[2016,"test","WIDUCHOWA",3206092,2,null,760,12.4,null," Wydatki majątkowe na programy, projekty lub zadania finansowane z udziałem środków, o których mowa w art. 5 ust. 1 pkt 2 i 3 ustawy",true,7,2023,0,"2016-03-03","2016-03-03"]
[2016,"test","WIDUCHOWA",3206092,2,null,1010,16.2,null," Stopień niezachowania wskaźnika spłaty zobowiązań, o którym mowa w poz. 9.7.",true,6,2022,0,"2016-03-03","2016-03-03"]
[2016,"test","WIDUCHOWA",3206092,2,null,840,13.5,null," Wydatki na spłatę przejętych zobowiązań samodzielnego publicznego zakładu opieki zdrowotnej likwidowanego na zasadach określonych w przepisach  o działalności leczniczej",true,1,2017,0,"2016-03-03","2016-03-03"]
[2016,"test","WIDUCHOWA",3206092,2,null,761,"12.4.1",null,"  -  w tym finansowane środkami określonymi w art. 5 ust. 1 pkt 2 ustawy",true,9,2025,0,"2016-03-03","2016-03-03"]
[2016,"test","WIDUCHOWA",3206092,2,null,170,"2.1.3",null,"  wydatki na obsługę długu, w tym:",true,8,2024,79000,"2016-03-03","2016-03-03"]
[2016,"test","WIDUCHOWA",3206092,2,null,400,7,null,"Kwota zobowiązań wynikających z przejęcia przez jednostkę samorządu terytorialnego zobowiązań po likwidowanych i przekształcanych jednostkach zaliczanych do sektora  finansów publicznych",true,3,2019,0,"2016-03-03","2016-03-03"]
[2016,"test","WIDUCHOWA",3206092,2,null,334,"5.1.1.2",null,"   kwota przypadających na dany rok kwot ustawowych wyłączeń określonych w art. 243 ust. 3a ustawy",true,5,2021,0,"2016-03-03","2016-03-03"]
[2016,"test","WIDUCHOWA",3206092,2,null,500,9.4,"(([2.1.1]-[2.1.1.1]) + ([2.1.3.1]-[2.1.3.1.1]-[2.1.3.1.2])+([5.1]-[5.1.1])+[9.3]) /([1]-[15.1.1])"," Wskaźnik planowanej łącznej kwoty spłaty zobowiązań, o której mowa w art. 243 ust. 1 ustawy do dochodów, po uwzględnieniu zobowiązań związku współtworzonego przez jednostkę samorządu terytorialnego oraz po uwzględnieniu ustawowych wyłączeń przypadających na dany rok",false,3,2019,6.9199999999999998E-2,"2016-03-03","2016-03-03"]
[2016,"test","WIDUCHOWA",3206092,2,null,200,3,"[1] -[2]","Wynik budżetu",false,1,2017,600000,"2016-03-03","2016-03-03"]
[2016,"test","WIDUCHOWA",3206092,2,null,40,"1.1.2",null,"  dochody z tytułu udziału we wpływach z podatku dochodowego od osób prawnych",true,2,2018,9000,"2016-03-03","2016-03-03"]
[2016,"test","WIDUCHOWA",3206092,2,null,1010,16.2,null," Stopień niezachowania wskaźnika spłaty zobowiązań, o którym mowa w poz. 9.7.",true,3,2019,0,"2016-03-03","2016-03-03"]
[2016,"test","WIDUCHOWA",3206092,2,null,970,"15.1.1",null,"  środki na zaspokojenie roszczeń obligatariuszy",true,0,2016,0,"2016-03-03","2016-03-03"]
[2016,"test","WIDUCHOWA",3206092,2,null,650,11.6,null," Wydatki majątkowe w formie dotacji ",true,6,2022,0,"2016-03-03","2016-03-03"]
[2016,"test","WIDUCHOWA",3206092,2,null,90,1.2,null,"  Dochody majątkowe, w tym",true,2,2018,400000,"2016-03-03","2016-03-03"]
[2016,"test","WIDUCHOWA",3206092,2,null,770,"12.8.1",null,"  w tym w związku z już zawartą umową na realizację programu, projektu lub zadania",true,2,2018,0,"2016-03-03","2016-03-03"]
[2016,"test","WIDUCHOWA",3206092,2,null,880,14.1,null," Spłaty rat kapitałowych oraz wykup papierów wartościowych, o których mowa w pkt. 5.1., wynikające wyłącznie z tytułu zobowiązań już zaciągniętych",true,9,2025,743000,"2016-03-03","2016-03-03"]
[2016,"test","WIDUCHOWA",3206092,2,null,60,"1.1.3.1",null,"   z podatku od nieruchomości",true,9,2025,2752000,"2016-03-03","2016-03-03"]
[2016,"test","WIDUCHOWA",3206092,2,null,182,"2.1.3.1.1",null,"    odsetki i dyskonto podlegające wyłączeniu z limitu spłaty zobowiązań, o którym mowa w art. 243 ustawy, w terminie nie dłuższym niż 90 dni po zakończeniu programu, projektu lub zadania i otrzymaniu refundacji z tych środków (bez odsetek i dyskonta od zobowiązań na wkład krajowy)",false,9,2025,0,"2016-03-03","2016-03-03"]
[2016,"test","WIDUCHOWA",3206092,2,null,700,12.2,null," Dochody majątkowe  na programy, projekty lub zadania finansowane z udziałem środków, o których mowa w art. 5 ust. 1 pkt 2 i 3 ustawy",false,6,2022,0,"2016-03-03","2016-03-03"]
[2016,"test","WIDUCHOWA",3206092,2,null,766,"12.6.1",null,"  w tym w związku z już zawartą umową na realizację programu, projektu lub zadania",true,5,2021,0,"2016-03-03","2016-03-03"]
[2016,"test","WIDUCHOWA",3206092,2,null,334,"5.1.1.2",null,"   kwota przypadających na dany rok kwot ustawowych wyłączeń określonych w art. 243 ust. 3a ustawy",true,7,2023,0,"2016-03-03","2016-03-03"]
[2016,"test","WIDUCHOWA",3206092,2,null,336,"5.1.1.3",null,"   kwota przypadających na dany rok kwot ustawowych wyłączeń innych niż określone w art. 243 ustawy",true,0,2016,0,"2016-03-03","2016-03-03"]
[2016,"test","WIDUCHOWA",3206092,2,null,850,13.6,null," Wydatki na spłatę zobowiązań samodzielnego publicznego zakładu opieki zdrowotnej przejętych do końca 2011 r. na podstawie przepisów o zakładach opieki zdrowotnej",true,2,2018,0,"2016-03-03","2016-03-03"]
[2016,"test","WIDUCHOWA",3206092,2,null,120,2,"[2.1] + [2.2]","Wydatki ogółem",false,2,2018,19845387,"2016-03-03","2016-03-03"]
[2016,"test","WIDUCHOWA",3206092,2,null,750,"12.3.2",null,"  Wydatki bieżące na realizację programu, projektu lub zadania wynikające wyłącznie z zawartych umów z podmiotem dysponującym środkami, o których mowa w art. 5 ust. 1 pkt 2 ustawy ",false,5,2021,0,"2016-03-03","2016-03-03"]
[2016,"test","WIDUCHOWA",3206092,2,null,762,"12.4.2",null,"  Wydatki majątkowe na realizację programu, projektu lub zadania wynikające wyłącznie z zawartych umów z podmiotem dysponującym środkami, o których mowa w art. 5 ust. 1 pkt 2 ustawy ",true,7,2023,0,"2016-03-03","2016-03-03"]
[2016,"test","WIDUCHOWA",3206092,2,null,400,7,null,"Kwota zobowiązań wynikających z przejęcia przez jednostkę samorządu terytorialnego zobowiązań po likwidowanych i przekształcanych jednostkach zaliczanych do sektora  finansów publicznych",true,6,2022,0,"2016-03-03","2016-03-03"]
[2016,"test","WIDUCHOWA",3206092,2,null,570,11,null,"Informacje uzupełniające o wybranych rodzajach wydatków budżetowych",false,2,2018,0,"2016-03-03","2016-03-03"]
[2016,"test","WIDUCHOWA",3206092,2,null,870,14,null,"Dane uzupełniające o długu i jego spłacie",true,4,2020,0,"2016-03-03","2016-03-03"]
[2016,"test","WIDUCHOWA",3206092,2,null,950,15,null,"Dane dotyczące emitowanych obligacji przychodowych",true,1,2017,0,"2016-03-03","2016-03-03"]
[2016,"test","WIDUCHOWA",3206092,2,null,550,10,null,"Przeznaczenie prognozowanej nadwyżki budżetowej,  w tym na:",false,1,2017,600000,"2016-03-03","2016-03-03"]
[2016,"test","WIDUCHOWA",3206092,2,null,766,"12.6.1",null,"  w tym w związku z już zawartą umową na realizację programu, projektu lub zadania",true,4,2020,0,"2016-03-03","2016-03-03"]
[2016,"test","WIDUCHOWA",3206092,2,null,336,"5.1.1.3",null,"   kwota przypadających na dany rok kwot ustawowych wyłączeń innych niż określone w art. 243 ustawy",true,4,2020,0,"2016-03-03","2016-03-03"]
[2016,"test","WIDUCHOWA",3206092,2,null,980,15.2,null," Wydatki bieżące z tytułu świadczenia emitenta należnego obligatariuszom,  nieuwzględniane  w limicie spłaty zobowiązań, o którym mowa w art. 243 ustawy",true,9,2025,0,"2016-03-03","2016-03-03"]
[2016,"test","WIDUCHOWA",3206092,2,null,490,9.3000000000000007,null," Kwota zobowiązań związku współtworzonego przez jednostkę samorządu terytorialnego przypadających do spłaty w danym roku budżetowym, podlegająca doliczeniu zgodnie z art. 244 ustawy",true,7,2023,0,"2016-03-03","2016-03-03"]
[2016,"test","WIDUCHOWA",3206092,2,null,470,9.1,"([2.1.1] + [2.1.3.1] + [5.1] ) / [1]"," Wskaźnik planowanej łącznej kwoty spłaty zobowiązań, o której mowa w art. 243 ust. 1 ustawy do dochodów, bez uwzględnienia zobowiązań związku współtworzonego przez jednostkę samorządu terytorialnego  i bez uwzględnienia ustawowych wyłączeń przypadających na dany rok.",true,6,2022,7.1199999999999999E-2,"2016-03-03","2016-03-03"]
[2016,"test","WIDUCHOWA",3206092,2,null,910,"14.3.1",null,"  spłata zobowiązań wymagalnych z lat poprzednich, innych niż w pkt 14.3.3",true,9,2025,0,"2016-03-03","2016-03-03"]
[2016,"test","WIDUCHOWA",3206092,2,null,220,4.0999999999999996,null," Nadwyżka budżetowa z lat ubiegłych",false,5,2021,0,"2016-03-03","2016-03-03"]
[2016,"test","WIDUCHOWA",3206092,2,null,250,"4.2.1",null,"   w tym na pokrycie deficytu budżetu",false,6,2022,0,"2016-03-03","2016-03-03"]
[2016,"test","WIDUCHOWA",3206092,2,null,400,7,null,"Kwota zobowiązań wynikających z przejęcia przez jednostkę samorządu terytorialnego zobowiązań po likwidowanych i przekształcanych jednostkach zaliczanych do sektora  finansów publicznych",true,4,2020,0,"2016-03-03","2016-03-03"]
[2016,"test","WIDUCHOWA",3206092,2,null,660,12,null,"Finansowanie programów, projektów lub zadań realizowanych z udziałem środków, o których mowa w art. 5 ust. 1 pkt 2 i 3 ustawy",true,4,2020,0,"2016-03-03","2016-03-03"]
[2016,"test","WIDUCHOWA",3206092,2,null,740,"12.3.1",null,"  -  w tym finansowane środkami określonymi w art. 5 ust. 1 pkt 2 ustawy ",false,7,2023,0,"2016-03-03","2016-03-03"]
[2016,"test","WIDUCHOWA",3206092,2,null,650,11.6,null," Wydatki majątkowe w formie dotacji ",true,4,2020,0,"2016-03-03","2016-03-03"]
[2016,"test","WIDUCHOWA",3206092,2,null,600,11.3,"[11.3.1] + [11.3.2]"," Wydatki objęte limitem, o którym mowa w art. 226 ust. 3 pkt 4 ustawy",true,6,2022,179000,"2016-03-03","2016-03-03"]
[2016,"test","WIDUCHOWA",3206092,2,null,710,"12.2.1",null,"   -  w tym środki określone w art. 5 ust. 1 pkt 2 ustawy",false,7,2023,0,"2016-03-03","2016-03-03"]
[2016,"test","WIDUCHOWA",3206092,2,null,730,12.3,null," Wydatki bieżące na programy, projekty lub zadania finansowane z udziałem środków, o których mowa w art. 5 ust. 1 pkt 2 i 3 ustawy",false,2,2018,0,"2016-03-03","2016-03-03"]
[2016,"test","WIDUCHOWA",3206092,2,null,350,6,null,"Kwota długu",true,5,2021,5236000,"2016-03-03","2016-03-03"]
[2016,"test","WIDUCHOWA",3206092,2,null,930,"14.3.3",null,"  wypłaty z tytułu wymagalnych poręczeń i gwarancji",true,8,2024,0,"2016-03-03","2016-03-03"]
[2016,"test","WIDUCHOWA",3206092,2,null,190,2.2000000000000002,null," Wydatki majątkowe",false,7,2023,386559,"2016-03-03","2016-03-03"]
[2016,"test","WIDUCHOWA",3206092,2,null,160,"2.1.2",null,"   na spłatę przejętych zobowiązań samodzielnego publicznego zakładu opieki zdrowotnej przekształconego na zasadach określonych w przepisach  o działalności leczniczej, w wysokości w jakiej nie podlegają sfinansowaniu dotacją z budżetu państwa",true,1,2017,0,"2016-03-03","2016-03-03"]
[2016,"test","WIDUCHOWA",3206092,2,null,640,11.5,null," Nowe wydatki inwestycyjne",true,9,2025,0,"2016-03-03","2016-03-03"]
[2016,"test","WIDUCHOWA",3206092,2,null,430,8.1999999999999993,"[1.1] + [4.1] + [4.2] - (  [2.1] - [2.1.2]  )"," Różnica między dochodami bieżącymi, skorygowanymi o środki a wydatkami bieżącymi, pomniejszonymi  o wydatki",false,3,2019,1206904,"2016-03-03","2016-03-03"]
[2016,"test","WIDUCHOWA",3206092,2,null,230,"4.1.1",null,"  w tym na pokrycie deficytu budżetu",false,6,2022,0,"2016-03-03","2016-03-03"]
[2016,"test","WIDUCHOWA",3206092,2,null,800,13.1,null," Kwota zobowiązań wynikających z przejęcia przez jednostkę samorządu terytorialnego zobowiązań po likwidowanych i przekształcanych samodzielnych zakładach opieki zdrowotnej",true,6,2022,0,"2016-03-03","2016-03-03"]
[2016,"test","WIDUCHOWA",3206092,2,null,670,12.1,null," Dochody bieżące  na programy, projekty lub zadania finansowane z udziałem środków, o których mowa w art. 5 ust. 1 pkt 2 i 3 ustawy",true,6,2022,0,"2016-03-03","2016-03-03"]
[2016,"test","WIDUCHOWA",3206092,2,null,790,13,null,"Kwoty dotyczące przejęcia i spłaty zobowiązań po samodzielnych publicznych zakładach opieki zdrowotnej oraz pokrycia ujemnego wyniku ",true,5,2021,0,"2016-03-03","2016-03-03"]
[2016,"test","WIDUCHOWA",3206092,2,null,762,"12.4.2",null,"  Wydatki majątkowe na realizację programu, projektu lub zadania wynikające wyłącznie z zawartych umów z podmiotem dysponującym środkami, o których mowa w art. 5 ust. 1 pkt 2 ustawy ",true,1,2017,0,"2016-03-03","2016-03-03"]
[2016,"test","WIDUCHOWA",3206092,2,null,470,9.1,"([2.1.1] + [2.1.3.1] + [5.1] ) / [1]"," Wskaźnik planowanej łącznej kwoty spłaty zobowiązań, o której mowa w art. 243 ust. 1 ustawy do dochodów, bez uwzględnienia zobowiązań związku współtworzonego przez jednostkę samorządu terytorialnego  i bez uwzględnienia ustawowych wyłączeń przypadających na dany rok.",true,3,2019,7.22E-2,"2016-03-03","2016-03-03"]
[2016,"test","WIDUCHOWA",3206092,2,null,720,"12.2.1.1",null,"    - w tym środki określone w art. 5 ust. 1 pkt 2 ustawy wynikające wyłącznie z zawartych umów na realizację programu, projektu lub zadania",false,5,2021,0,"2016-03-03","2016-03-03"]
[2016,"test","WIDUCHOWA",3206092,2,null,440,9,null,"Wskaźnik spłaty zobowiązań",false,6,2022,0,"2016-03-03","2016-03-03"]
[2016,"test","WIDUCHOWA",3206092,2,null,765,12.6,null," Wydatki na wkład krajowy w związku z zawartą po dniu 1 stycznia 2013 r. umową na realizację programu, projektu lub zadania finansowanego w co najmniej 60% środkami, o których mowa w art. 5 ust. 1 pkt 2 ustawy",true,1,2017,727400,"2016-03-03","2016-03-03"]
[2016,"test","WIDUCHOWA",3206092,2,null,240,4.2,null," Wolne środki, o których mowa w art. 217 ust.2 pkt 6 ustawy",false,9,2025,0,"2016-03-03","2016-03-03"]
[2016,"test","WIDUCHOWA",3206092,2,null,10,1,"[1.1] + [1.2]","Dochody ogółem",true,0,2016,19443564.07,"2016-03-03","2016-03-03"]
[2016,"test","WIDUCHOWA",3206092,2,null,490,9.3000000000000007,null," Kwota zobowiązań związku współtworzonego przez jednostkę samorządu terytorialnego przypadających do spłaty w danym roku budżetowym, podlegająca doliczeniu zgodnie z art. 244 ustawy",true,4,2020,0,"2016-03-03","2016-03-03"]
[2016,"test","WIDUCHOWA",3206092,2,null,70,"1.1.4",null,"  z subwencji ogólnej",true,7,2023,6400000,"2016-03-03","2016-03-03"]
[2016,"test","WIDUCHOWA",3206092,2,null,990,16,null,"Stopnie niezachowania relacji określonych w art. 242-244 ustawy w przypadku określonym w @par16_1 ustawy",true,0,2016,0,"2016-03-03","2016-03-03"]
[2016,"test","WIDUCHOWA",3206092,2,null,762,"12.4.2",null,"  Wydatki majątkowe na realizację programu, projektu lub zadania wynikające wyłącznie z zawartych umów z podmiotem dysponującym środkami, o których mowa w art. 5 ust. 1 pkt 2 ustawy ",true,8,2024,0,"2016-03-03","2016-03-03"]
[2016,"test","WIDUCHOWA",3206092,2,null,810,13.2,null," Dochody budżetowe z tytułu dotacji celowej z budżetu państwa, o której mowa w art. 196 ustawy z  dnia 15 kwietnia 2011 r.  o działalności leczniczej (Dz.U. Nr 112, poz. 654, z późn. zm.)",true,6,2022,0,"2016-03-03","2016-03-03"]
[2016,"test","WIDUCHOWA",3206092,2,null,70,"1.1.4",null,"  z subwencji ogólnej",true,1,2017,5800000,"2016-03-03","2016-03-03"]
[2016,"test","WIDUCHOWA",3206092,2,null,420,8.1,"[1.1] - [2.1]"," Różnica między dochodami bieżącymi a  wydatkami bieżącymi",false,3,2019,1206904,"2016-03-03","2016-03-03"]
[2016,"test","WIDUCHOWA",3206092,2,null,1020,16.3,null," Stopień niezachowania wskaźnika spłaty zobowiązań, o którym mowa w poz. 9.7.1.",true,4,2020,0,"2016-03-03","2016-03-03"]
[2016,"test","WIDUCHOWA",3206092,2,null,400,7,null,"Kwota zobowiązań wynikających z przejęcia przez jednostkę samorządu terytorialnego zobowiązań po likwidowanych i przekształcanych jednostkach zaliczanych do sektora  finansów publicznych",true,5,2021,0,"2016-03-03","2016-03-03"]
[2016,"test","WIDUCHOWA",3206092,2,null,870,14,null,"Dane uzupełniające o długu i jego spłacie",true,0,2016,0,"2016-03-03","2016-03-03"]
[2016,"test","WIDUCHOWA",3206092,2,null,320,"5.1.1","[5.1.1.1] + [5.1.1.2] + [5.1.1.3]","  w tym łączna kwota przypadających na dany rok kwot ustawowych wyłączeń z limitu spłaty zobowiązań, o którym mowa w art. 243 ustawy, z tego:",true,8,2024,0,"2016-03-03","2016-03-03"]
[2016,"test","WIDUCHOWA",3206092,2,null,182,"2.1.3.1.1",null,"    odsetki i dyskonto podlegające wyłączeniu z limitu spłaty zobowiązań, o którym mowa w art. 243 ustawy, w terminie nie dłuższym niż 90 dni po zakończeniu programu, projektu lub zadania i otrzymaniu refundacji z tych środków (bez odsetek i dyskonta od zobowiązań na wkład krajowy)",false,5,2021,0,"2016-03-03","2016-03-03"]
[2016,"test","WIDUCHOWA",3206092,2,null,763,12.5,null," Wydatki na wkład krajowy w związku z umową na realizację programu, projektu lub zadania finansowanego z udziałem środków, o których mowa w art. 5 ust. 1 pkt 2 ustawy bez względu na stopień finansowania tymi środkami ",true,7,2023,0,"2016-03-03","2016-03-03"]
[2016,"test","WIDUCHOWA",3206092,2,null,900,14.3,null," Wydatki zmniejszające dług, w tym",true,7,2023,0,"2016-03-03","2016-03-03"]
[2016,"test","WIDUCHOWA",3206092,2,null,530,9.6999999999999993,"[9.6]-[9.4]"," Informacja o spełnieniu wskaźnika spłaty zobowiązań określonego w art. 243 ustawy, po uwzględnieniu zobowiązań związku współtworzonego przez jednostkę samorządu terytorialnego oraz po uwzględnieniu ustawowych wyłączeń, obliczonego w oparciu o plan 3 kwartałów roku poprzedzającego rok budżetowy",false,1,2017,212,"2016-03-03","2016-03-03"]
[2016,"test","WIDUCHOWA",3206092,2,null,920,"14.3.2",null,"  związane z umowami zaliczanymi do tytułów dłużnych wliczanych do państwowego długu publicznego",true,1,2017,124000,"2016-03-03","2016-03-03"]
[2016,"test","WIDUCHOWA",3206092,2,null,570,11,null,"Informacje uzupełniające o wybranych rodzajach wydatków budżetowych",false,7,2023,0,"2016-03-03","2016-03-03"]
[2016,"test","WIDUCHOWA",3206092,2,null,690,"12.1.1.1",null,"   - w tym środki określone w art. 5 ust. 1 pkt 2 ustawy wynikające wyłącznie z  zawartych umów na realizację programu, projektu lub zadania",true,5,2021,0,"2016-03-03","2016-03-03"]
[2016,"test","WIDUCHOWA",3206092,2,null,270,"4.3.1",null,"   w tym na pokrycie deficytu budżetu",true,7,2023,0,"2016-03-03","2016-03-03"]
[2016,"test","WIDUCHOWA",3206092,2,null,900,14.3,null," Wydatki zmniejszające dług, w tym",true,8,2024,0,"2016-03-03","2016-03-03"]
[2016,"test","WIDUCHOWA",3206092,2,null,770,"12.8.1",null,"  w tym w związku z już zawartą umową na realizację programu, projektu lub zadania",true,5,2021,0,"2016-03-03","2016-03-03"]
[2016,"test","WIDUCHOWA",3206092,2,null,570,11,null,"Informacje uzupełniające o wybranych rodzajach wydatków budżetowych",false,9,2025,0,"2016-03-03","2016-03-03"]
[2016,"test","WIDUCHOWA",3206092,2,null,680,"12.1.1",null,"  -  w tym środki określone w art. 5 ust. 1 pkt 2 ustawy",true,7,2023,0,"2016-03-03","2016-03-03"]
[2016,"test","WIDUCHOWA",3206092,2,null,130,2.1,null," Wydatki bieżące, w tym:",true,6,2022,19193510,"2016-03-03","2016-03-03"]
[2016,"test","WIDUCHOWA",3206092,2,null,940,14.4,null," Wynik operacji niekasowych wpływających na kwotę długu ( m.in. umorzenia, różnice kursowe)",true,2,2018,0,"2016-03-03","2016-03-03"]
[2016,"test","WIDUCHOWA",3206092,2,null,80,"1.1.5",null,"  z tytułu dotacji i środków przeznaczonych na cele bieżące",true,1,2017,7500000,"2016-03-03","2016-03-03"]
[2016,"test","WIDUCHOWA",3206092,2,null,768,"12.7.1",null,"  w tym w związku z już zawartą umową na realizację programu, projektu lub zadania",true,7,2023,0,"2016-03-03","2016-03-03"]
[2016,"test","WIDUCHOWA",3206092,2,null,840,13.5,null," Wydatki na spłatę przejętych zobowiązań samodzielnego publicznego zakładu opieki zdrowotnej likwidowanego na zasadach określonych w przepisach  o działalności leczniczej",true,3,2019,0,"2016-03-03","2016-03-03"]
[2016,"test","WIDUCHOWA",3206092,2,null,160,"2.1.2",null,"   na spłatę przejętych zobowiązań samodzielnego publicznego zakładu opieki zdrowotnej przekształconego na zasadach określonych w przepisach  o działalności leczniczej, w wysokości w jakiej nie podlegają sfinansowaniu dotacją z budżetu państwa",true,2,2018,0,"2016-03-03","2016-03-03"]
[2016,"test","WIDUCHOWA",3206092,2,null,610,"11.3.1",null,"   bieżące",true,8,2024,0,"2016-03-03","2016-03-03"]
[2016,"test","WIDUCHOWA",3206092,2,null,720,"12.2.1.1",null,"    - w tym środki określone w art. 5 ust. 1 pkt 2 ustawy wynikające wyłącznie z zawartych umów na realizację programu, projektu lub zadania",false,6,2022,0,"2016-03-03","2016-03-03"]
[2016,"test","WIDUCHOWA",3206092,2,null,730,12.3,null," Wydatki bieżące na programy, projekty lub zadania finansowane z udziałem środków, o których mowa w art. 5 ust. 1 pkt 2 i 3 ustawy",false,0,2016,0,"2016-03-03","2016-03-03"]
[2016,"test","WIDUCHOWA",3206092,2,null,800,13.1,null," Kwota zobowiązań wynikających z przejęcia przez jednostkę samorządu terytorialnego zobowiązań po likwidowanych i przekształcanych samodzielnych zakładach opieki zdrowotnej",true,9,2025,0,"2016-03-03","2016-03-03"]
[2016,"test","WIDUCHOWA",3206092,2,null,250,"4.2.1",null,"   w tym na pokrycie deficytu budżetu",false,7,2023,0,"2016-03-03","2016-03-03"]
[2016,"test","WIDUCHOWA",3206092,2,null,910,"14.3.1",null,"  spłata zobowiązań wymagalnych z lat poprzednich, innych niż w pkt 14.3.3",true,3,2019,0,"2016-03-03","2016-03-03"]
[2016,"test","WIDUCHOWA",3206092,2,null,190,2.2000000000000002,null," Wydatki majątkowe",false,8,2024,315945,"2016-03-03","2016-03-03"]
[2016,"test","WIDUCHOWA",3206092,2,null,70,"1.1.4",null,"  z subwencji ogólnej",true,0,2016,5855736,"2016-03-03","2016-03-03"]
[2016,"test","WIDUCHOWA",3206092,2,null,400,7,null,"Kwota zobowiązań wynikających z przejęcia przez jednostkę samorządu terytorialnego zobowiązań po likwidowanych i przekształcanych jednostkach zaliczanych do sektora  finansów publicznych",true,7,2023,0,"2016-03-03","2016-03-03"]
[2016,"test","WIDUCHOWA",3206092,2,null,480,9.1999999999999993,"( ([2.1.1]-[2.1.1.1])+([2.1.3.1]-[2.1.3.1.1]-[2.1.3.1.2])+([5.1]-[5.1.1]) )/([1]-[15.1.1])"," Wskaźnik planowanej łącznej kwoty spłaty zobowiązań, o której mowa w art. 243 ust. 1 ustawy do dochodów, bez uwzględnienia zobowiązań związku współtworzonego przez jednostkę samorządu terytorialnego, po uwzględnieniu ustawowych wyłączeń przypadających na dany rok.",false,3,2019,6.9199999999999998E-2,"2016-03-03","2016-03-03"]
[2016,"test","WIDUCHOWA",3206092,2,null,140,"2.1.1",null,"  z tytułu poręczeń i gwarancji",true,6,2022,0,"2016-03-03","2016-03-03"]
[2016,"test","WIDUCHOWA",3206092,2,null,60,"1.1.3.1",null,"   z podatku od nieruchomości",true,5,2021,2311000,"2016-03-03","2016-03-03"]
[2016,"test","WIDUCHOWA",3206092,2,null,761,"12.4.1",null,"  -  w tym finansowane środkami określonymi w art. 5 ust. 1 pkt 2 ustawy",true,3,2019,0,"2016-03-03","2016-03-03"]
[2016,"test","WIDUCHOWA",3206092,2,null,520,"9.6.1",null,"   Dopuszczalny wskaźnik spłaty zobowiązań określony w art. 243 ustawy, po uwzględnieniu ustawowych wyłączeń, obliczony w oparciu o wykonanie roku poprzedzającego pierwszy rok prognozy (wskaźnik ustalony w oparciu o średnią arytmetyczną z 3 poprzednich lat) ",true,2,2018,6.9199999999999998E-2,"2016-03-03","2016-03-03"]
[2016,"test","WIDUCHOWA",3206092,2,null,230,"4.1.1",null,"  w tym na pokrycie deficytu budżetu",false,4,2020,0,"2016-03-03","2016-03-03"]
[2016,"test","WIDUCHOWA",3206092,2,null,670,12.1,null," Dochody bieżące  na programy, projekty lub zadania finansowane z udziałem środków, o których mowa w art. 5 ust. 1 pkt 2 i 3 ustawy",true,8,2024,0,"2016-03-03","2016-03-03"]
[2016,"test","WIDUCHOWA",3206092,2,null,290,"4.4.1",null,"   w tym na pokrycie deficytu budżetu",false,2,2018,0,"2016-03-03","2016-03-03"]
[2016,"test","WIDUCHOWA",3206092,2,null,240,4.2,null," Wolne środki, o których mowa w art. 217 ust.2 pkt 6 ustawy",false,4,2020,0,"2016-03-03","2016-03-03"]
[2016,"test","WIDUCHOWA",3206092,2,null,940,14.4,null," Wynik operacji niekasowych wpływających na kwotę długu ( m.in. umorzenia, różnice kursowe)",true,3,2019,0,"2016-03-03","2016-03-03"]
[2016,"test","WIDUCHOWA",3206092,2,null,90,1.2,null,"  Dochody majątkowe, w tym",true,0,2016,863000,"2016-03-03","2016-03-03"]
[2016,"test","WIDUCHOWA",3206092,2,null,940,14.4,null," Wynik operacji niekasowych wpływających na kwotę długu ( m.in. umorzenia, różnice kursowe)",true,8,2024,0,"2016-03-03","2016-03-03"]
[2016,"test","WIDUCHOWA",3206092,2,null,710,"12.2.1",null,"   -  w tym środki określone w art. 5 ust. 1 pkt 2 ustawy",false,5,2021,0,"2016-03-03","2016-03-03"]
[2016,"test","WIDUCHOWA",3206092,2,null,540,"9.7.1","[9.6.1]-[9.4]","  Informacja o spełnieniu wskaźnika spłaty zobowiązań określonego w art. 243 ustawy, po uwzględnieniu zobowiązań związku współtworzonego przez jednostkę samorządu terytorialnego oraz po uwzględnieniu ustawowych wyłączeń, obliczonego w oparciu o wykonanie roku poprzedzającego rok budżetowy",false,7,2023,90,"2016-03-03","2016-03-03"]
[2016,"test","WIDUCHOWA",3206092,2,null,20,1.1000000000000001,null," Dochody bieżące",true,8,2024,21630704,"2016-03-03","2016-03-03"]
[2016,"test","WIDUCHOWA",3206092,2,null,420,8.1,"[1.1] - [2.1]"," Różnica między dochodami bieżącymi a  wydatkami bieżącymi",false,1,2017,1188400,"2016-03-03","2016-03-03"]
[2016,"test","WIDUCHOWA",3206092,2,null,900,14.3,null," Wydatki zmniejszające dług, w tym",true,2,2018,120000,"2016-03-03","2016-03-03"]
[2016,"test","WIDUCHOWA",3206092,2,null,764,"12.5.1",null,"  w tym w związku z już zawartą umową na realizację programu, projektu lub zadania",true,4,2020,0,"2016-03-03","2016-03-03"]
[2016,"test","WIDUCHOWA",3206092,2,null,530,9.6999999999999993,"[9.6]-[9.4]"," Informacja o spełnieniu wskaźnika spłaty zobowiązań określonego w art. 243 ustawy, po uwzględnieniu zobowiązań związku współtworzonego przez jednostkę samorządu terytorialnego oraz po uwzględnieniu ustawowych wyłączeń, obliczonego w oparciu o plan 3 kwartałów roku poprzedzającego rok budżetowy",false,7,2023,90,"2016-03-03","2016-03-03"]
[2016,"test","WIDUCHOWA",3206092,2,null,1020,16.3,null," Stopień niezachowania wskaźnika spłaty zobowiązań, o którym mowa w poz. 9.7.1.",true,1,2017,0,"2016-03-03","2016-03-03"]
[2016,"test","WIDUCHOWA",3206092,2,null,70,"1.1.4",null,"  z subwencji ogólnej",true,9,2025,6500000,"2016-03-03","2016-03-03"]
[2016,"test","WIDUCHOWA",3206092,2,null,767,12.7,null," Przychody z tytułu kredytów, pożyczek, emisji papierów wartościowych powstające w związku z umową na realizację programu, projektu lub zadania finansowanego z udziałem środków, o których mowa w art. 5 ust. 1 pkt 2 ustawy bez względu na stopień finansowania tymi środkami ",true,7,2023,0,"2016-03-03","2016-03-03"]
[2016,"test","WIDUCHOWA",3206092,2,null,220,4.0999999999999996,null," Nadwyżka budżetowa z lat ubiegłych",false,9,2025,0,"2016-03-03","2016-03-03"]
[2016,"test","WIDUCHOWA",3206092,2,null,184,"2.1.3.1.2",null,"    odsetki i dyskonto podlegające wyłączeniu z limitu spłaty zobowiązań, o którym mowa w art. 243 ustawy, z tytułu zobowiązań  zaciągniętych na wkład krajowy",false,8,2024,13000,"2016-03-03","2016-03-03"]
[2016,"test","WIDUCHOWA",3206092,2,null,280,4.4000000000000004,null," Inne przychody niezwiązane z zaciągnięciem długu",false,7,2023,0,"2016-03-03","2016-03-03"]
[2016,"test","WIDUCHOWA",3206092,2,null,630,11.4,null," Wydatki inwestycyjne kontynuowane ",true,9,2025,0,"2016-03-03","2016-03-03"]
[2016,"test","WIDUCHOWA",3206092,2,null,1010,16.2,null," Stopień niezachowania wskaźnika spłaty zobowiązań, o którym mowa w poz. 9.7.",true,2,2018,0,"2016-03-03","2016-03-03"]
[2016,"test","WIDUCHOWA",3206092,2,null,890,14.2,null," Kwota długu, którego planowana spłata dokona się z wydatków budżetu",true,9,2025,0,"2016-03-03","2016-03-03"]
[2016,"test","WIDUCHOWA",3206092,2,null,610,"11.3.1",null,"   bieżące",true,6,2022,0,"2016-03-03","2016-03-03"]
[2016,"test","WIDUCHOWA",3206092,2,null,850,13.6,null," Wydatki na spłatę zobowiązań samodzielnego publicznego zakładu opieki zdrowotnej przejętych do końca 2011 r. na podstawie przepisów o zakładach opieki zdrowotnej",true,7,2023,0,"2016-03-03","2016-03-03"]
[2016,"test","WIDUCHOWA",3206092,2,null,810,13.2,null," Dochody budżetowe z tytułu dotacji celowej z budżetu państwa, o której mowa w art. 196 ustawy z  dnia 15 kwietnia 2011 r.  o działalności leczniczej (Dz.U. Nr 112, poz. 654, z późn. zm.)",true,7,2023,0,"2016-03-03","2016-03-03"]
[2016,"test","WIDUCHOWA",3206092,2,null,210,4,"[4.1] + [4.2] + [4.3] + [4.4]","Przychody budżetu",false,3,2019,0,"2016-03-03","2016-03-03"]
[2016,"test","WIDUCHOWA",3206092,2,null,1010,16.2,null," Stopień niezachowania wskaźnika spłaty zobowiązań, o którym mowa w poz. 9.7.",true,4,2020,0,"2016-03-03","2016-03-03"]
[2016,"test","WIDUCHOWA",3206092,2,null,900,14.3,null," Wydatki zmniejszające dług, w tym",true,0,2016,130000,"2016-03-03","2016-03-03"]
[2016,"test","WIDUCHOWA",3206092,2,null,765,12.6,null," Wydatki na wkład krajowy w związku z zawartą po dniu 1 stycznia 2013 r. umową na realizację programu, projektu lub zadania finansowanego w co najmniej 60% środkami, o których mowa w art. 5 ust. 1 pkt 2 ustawy",true,5,2021,0,"2016-03-03","2016-03-03"]
[2016,"test","WIDUCHOWA",3206092,2,null,184,"2.1.3.1.2",null,"    odsetki i dyskonto podlegające wyłączeniu z limitu spłaty zobowiązań, o którym mowa w art. 243 ustawy, z tytułu zobowiązań  zaciągniętych na wkład krajowy",false,3,2019,63000,"2016-03-03","2016-03-03"]
[2016,"test","WIDUCHOWA",3206092,2,null,320,"5.1.1","[5.1.1.1] + [5.1.1.2] + [5.1.1.3]","  w tym łączna kwota przypadających na dany rok kwot ustawowych wyłączeń z limitu spłaty zobowiązań, o którym mowa w art. 243 ustawy, z tego:",true,4,2020,0,"2016-03-03","2016-03-03"]
[2016,"test","WIDUCHOWA",3206092,2,null,762,"12.4.2",null,"  Wydatki majątkowe na realizację programu, projektu lub zadania wynikające wyłącznie z zawartych umów z podmiotem dysponującym środkami, o których mowa w art. 5 ust. 1 pkt 2 ustawy ",true,0,2016,0,"2016-03-03","2016-03-03"]
[2016,"test","WIDUCHOWA",3206092,2,null,880,14.1,null," Spłaty rat kapitałowych oraz wykup papierów wartościowych, o których mowa w pkt. 5.1., wynikające wyłącznie z tytułu zobowiązań już zaciągniętych",true,3,2019,1200000,"2016-03-03","2016-03-03"]
[2016,"test","WIDUCHOWA",3206092,2,null,530,9.6999999999999993,"[9.6]-[9.4]"," Informacja o spełnieniu wskaźnika spłaty zobowiązań określonego w art. 243 ustawy, po uwzględnieniu zobowiązań związku współtworzonego przez jednostkę samorządu terytorialnego oraz po uwzględnieniu ustawowych wyłączeń, obliczonego w oparciu o plan 3 kwartałów roku poprzedzającego rok budżetowy",false,4,2020,23,"2016-03-03","2016-03-03"]
[2016,"test","WIDUCHOWA",3206092,2,null,210,4,"[4.1] + [4.2] + [4.3] + [4.4]","Przychody budżetu",false,9,2025,0,"2016-03-03","2016-03-03"]
[2016,"test","WIDUCHOWA",3206092,2,null,210,4,"[4.1] + [4.2] + [4.3] + [4.4]","Przychody budżetu",false,2,2018,0,"2016-03-03","2016-03-03"]
[2016,"test","WIDUCHOWA",3206092,2,null,40,"1.1.2",null,"  dochody z tytułu udziału we wpływach z podatku dochodowego od osób prawnych",true,8,2024,15000,"2016-03-03","2016-03-03"]
[2016,"test","WIDUCHOWA",3206092,2,null,310,5.0999999999999996,null," Spłaty rat kapitałowych kredytów i pożyczek oraz wykup papierów wartościowych",true,7,2023,1510000,"2016-03-03","2016-03-03"]
[2016,"test","WIDUCHOWA",3206092,2,null,182,"2.1.3.1.1",null,"    odsetki i dyskonto podlegające wyłączeniu z limitu spłaty zobowiązań, o którym mowa w art. 243 ustawy, w terminie nie dłuższym niż 90 dni po zakończeniu programu, projektu lub zadania i otrzymaniu refundacji z tych środków (bez odsetek i dyskonta od zobowiązań na wkład krajowy)",false,1,2017,0,"2016-03-03","2016-03-03"]
[2016,"test","WIDUCHOWA",3206092,2,null,180,"2.1.3.1",null,"   odsetki i dyskonto określone w art. 243 ust. 1 ustawy, w tym:",false,2,2018,320000,"2016-03-03","2016-03-03"]
[2016,"test","WIDUCHOWA",3206092,2,null,700,12.2,null," Dochody majątkowe  na programy, projekty lub zadania finansowane z udziałem środków, o których mowa w art. 5 ust. 1 pkt 2 i 3 ustawy",false,3,2019,0,"2016-03-03","2016-03-03"]
[2016,"test","WIDUCHOWA",3206092,2,null,630,11.4,null," Wydatki inwestycyjne kontynuowane ",true,7,2023,0,"2016-03-03","2016-03-03"]
[2016,"test","WIDUCHOWA",3206092,2,null,310,5.0999999999999996,null," Spłaty rat kapitałowych kredytów i pożyczek oraz wykup papierów wartościowych",true,0,2016,400000,"2016-03-03","2016-03-03"]
[2016,"test","WIDUCHOWA",3206092,2,null,910,"14.3.1",null,"  spłata zobowiązań wymagalnych z lat poprzednich, innych niż w pkt 14.3.3",true,2,2018,0,"2016-03-03","2016-03-03"]
[2016,"test","WIDUCHOWA",3206092,2,null,890,14.2,null," Kwota długu, którego planowana spłata dokona się z wydatków budżetu",true,1,2017,564000,"2016-03-03","2016-03-03"]
[2016,"test","WIDUCHOWA",3206092,2,null,100,"1.2.1",null,"  ze sprzedaży majątku",true,1,2017,300000,"2016-03-03","2016-03-03"]
[2016,"test","WIDUCHOWA",3206092,2,null,440,9,null,"Wskaźnik spłaty zobowiązań",false,7,2023,0,"2016-03-03","2016-03-03"]
[2016,"test","WIDUCHOWA",3206092,2,null,130,2.1,null," Wydatki bieżące, w tym:",true,8,2024,20066759,"2016-03-03","2016-03-03"]
[2016,"test","WIDUCHOWA",3206092,2,null,336,"5.1.1.3",null,"   kwota przypadających na dany rok kwot ustawowych wyłączeń innych niż określone w art. 243 ustawy",true,7,2023,0,"2016-03-03","2016-03-03"]
[2016,"test","WIDUCHOWA",3206092,2,null,520,"9.6.1",null,"   Dopuszczalny wskaźnik spłaty zobowiązań określony w art. 243 ustawy, po uwzględnieniu ustawowych wyłączeń, obliczony w oparciu o wykonanie roku poprzedzającego pierwszy rok prognozy (wskaźnik ustalony w oparciu o średnią arytmetyczną z 3 poprzednich lat) ",true,4,2020,7.5499999999999998E-2,"2016-03-03","2016-03-03"]
[2016,"test","WIDUCHOWA",3206092,2,null,510,9.6,null," Dopuszczalny wskaźnik spłaty zobowiązań określony w art. 243 ustawy, po uwzględnieniu ustawowych wyłączeń , obliczony w oparciu o plan 3 kwartału roku poprzedzającego pierwszy rok prognozy (wskaźnik ustalony w oparciu o średnią arytmetyczną z 3 poprzednich lat) ",true,1,2017,6.13E-2,"2016-03-03","2016-03-03"]
[2016,"test","WIDUCHOWA",3206092,2,null,210,4,"[4.1] + [4.2] + [4.3] + [4.4]","Przychody budżetu",false,6,2022,0,"2016-03-03","2016-03-03"]
[2016,"test","WIDUCHOWA",3206092,2,null,580,11.1,null," Wydatki bieżące na wynagrodzenia i składki od nich naliczane",false,6,2022,8561856,"2016-03-03","2016-03-03"]
[2016,"test","WIDUCHOWA",3206092,2,null,200,3,"[1] -[2]","Wynik budżetu",false,6,2022,1330000,"2016-03-03","2016-03-03"]
[2016,"test","WIDUCHOWA",3206092,2,null,800,13.1,null," Kwota zobowiązań wynikających z przejęcia przez jednostkę samorządu terytorialnego zobowiązań po likwidowanych i przekształcanych samodzielnych zakładach opieki zdrowotnej",true,7,2023,0,"2016-03-03","2016-03-03"]
[2016,"test","WIDUCHOWA",3206092,2,null,650,11.6,null," Wydatki majątkowe w formie dotacji ",true,7,2023,0,"2016-03-03","2016-03-03"]
[2016,"test","WIDUCHOWA",3206092,2,null,910,"14.3.1",null,"  spłata zobowiązań wymagalnych z lat poprzednich, innych niż w pkt 14.3.3",true,0,2016,0,"2016-03-03","2016-03-03"]
[2016,"test","WIDUCHOWA",3206092,2,null,910,"14.3.1",null,"  spłata zobowiązań wymagalnych z lat poprzednich, innych niż w pkt 14.3.3",true,4,2020,0,"2016-03-03","2016-03-03"]
[2016,"test","WIDUCHOWA",3206092,2,null,280,4.4000000000000004,null," Inne przychody niezwiązane z zaciągnięciem długu",false,0,2016,0,"2016-03-03","2016-03-03"]
[2016,"test","WIDUCHOWA",3206092,2,null,760,12.4,null," Wydatki majątkowe na programy, projekty lub zadania finansowane z udziałem środków, o których mowa w art. 5 ust. 1 pkt 2 i 3 ustawy",true,9,2025,0,"2016-03-03","2016-03-03"]
[2016,"test","WIDUCHOWA",3206092,2,null,767,12.7,null," Przychody z tytułu kredytów, pożyczek, emisji papierów wartościowych powstające w związku z umową na realizację programu, projektu lub zadania finansowanego z udziałem środków, o których mowa w art. 5 ust. 1 pkt 2 ustawy bez względu na stopień finansowania tymi środkami ",true,2,2018,0,"2016-03-03","2016-03-03"]
[2016,"test","WIDUCHOWA",3206092,2,null,400,7,null,"Kwota zobowiązań wynikających z przejęcia przez jednostkę samorządu terytorialnego zobowiązań po likwidowanych i przekształcanych jednostkach zaliczanych do sektora  finansów publicznych",true,8,2024,0,"2016-03-03","2016-03-03"]
[2016,"test","WIDUCHOWA",3206092,2,null,670,12.1,null," Dochody bieżące  na programy, projekty lub zadania finansowane z udziałem środków, o których mowa w art. 5 ust. 1 pkt 2 i 3 ustawy",true,0,2016,0,"2016-03-03","2016-03-03"]
[2016,"test","WIDUCHOWA",3206092,2,null,510,9.6,null," Dopuszczalny wskaźnik spłaty zobowiązań określony w art. 243 ustawy, po uwzględnieniu ustawowych wyłączeń , obliczony w oparciu o plan 3 kwartału roku poprzedzającego pierwszy rok prognozy (wskaźnik ustalony w oparciu o średnią arytmetyczną z 3 poprzednich lat) ",true,8,2024,8.7400000000000005E-2,"2016-03-03","2016-03-03"]
[2016,"test","WIDUCHOWA",3206092,2,null,990,16,null,"Stopnie niezachowania relacji określonych w art. 242-244 ustawy w przypadku określonym w @par16_1 ustawy",true,7,2023,0,"2016-03-03","2016-03-03"]
[2016,"test","WIDUCHOWA",3206092,2,null,60,"1.1.3.1",null,"   z podatku od nieruchomości",true,0,2016,1920000,"2016-03-03","2016-03-03"]
[2016,"test","WIDUCHOWA",3206092,2,null,590,11.2,null," Wydatki związane z funkcjonowaniem organów jednostki samorządu terytorialnego",true,2,2018,2500000,"2016-03-03","2016-03-03"]
[2016,"test","WIDUCHOWA",3206092,2,null,740,"12.3.1",null,"  -  w tym finansowane środkami określonymi w art. 5 ust. 1 pkt 2 ustawy ",false,2,2018,0,"2016-03-03","2016-03-03"]
[2016,"test","WIDUCHOWA",3206092,2,null,20,1.1000000000000001,null," Dochody bieżące",true,4,2020,20307811,"2016-03-03","2016-03-03"]
[2016,"test","WIDUCHOWA",3206092,2,null,470,9.1,"([2.1.1] + [2.1.3.1] + [5.1] ) / [1]"," Wskaźnik planowanej łącznej kwoty spłaty zobowiązań, o której mowa w art. 243 ust. 1 ustawy do dochodów, bez uwzględnienia zobowiązań związku współtworzonego przez jednostkę samorządu terytorialnego  i bez uwzględnienia ustawowych wyłączeń przypadających na dany rok.",true,0,2016,3.8100000000000002E-2,"2016-03-03","2016-03-03"]
[2016,"test","WIDUCHOWA",3206092,2,null,420,8.1,"[1.1] - [2.1]"," Różnica między dochodami bieżącymi a  wydatkami bieżącymi",false,6,2022,1641426,"2016-03-03","2016-03-03"]
[2016,"test","WIDUCHOWA",3206092,2,null,570,11,null,"Informacje uzupełniające o wybranych rodzajach wydatków budżetowych",false,5,2021,0,"2016-03-03","2016-03-03"]
[2016,"test","WIDUCHOWA",3206092,2,null,332,"5.1.1.1",null,"   kwota przypadających na dany rok kwot ustawowych wyłączeń określonych w art. 243 ust. 3 ustawy",true,0,2016,0,"2016-03-03","2016-03-03"]
[2016,"test","WIDUCHOWA",3206092,2,null,80,"1.1.5",null,"  z tytułu dotacji i środków przeznaczonych na cele bieżące",true,0,2016,5259568.07,"2016-03-03","2016-03-03"]
[2016,"test","WIDUCHOWA",3206092,2,null,990,16,null,"Stopnie niezachowania relacji określonych w art. 242-244 ustawy w przypadku określonym w @par16_1 ustawy",true,1,2017,0,"2016-03-03","2016-03-03"]
[2016,"test","WIDUCHOWA",3206092,2,null,190,2.2000000000000002,null," Wydatki majątkowe",false,4,2020,347662,"2016-03-03","2016-03-03"]
[2016,"test","WIDUCHOWA",3206092,2,null,580,11.1,null," Wydatki bieżące na wynagrodzenia i składki od nich naliczane",false,7,2023,8818712,"2016-03-03","2016-03-03"]
[2016,"test","WIDUCHOWA",3206092,2,null,800,13.1,null," Kwota zobowiązań wynikających z przejęcia przez jednostkę samorządu terytorialnego zobowiązań po likwidowanych i przekształcanych samodzielnych zakładach opieki zdrowotnej",true,8,2024,0,"2016-03-03","2016-03-03"]
[2016,"test","WIDUCHOWA",3206092,2,null,510,9.6,null," Dopuszczalny wskaźnik spłaty zobowiązań określony w art. 243 ustawy, po uwzględnieniu ustawowych wyłączeń , obliczony w oparciu o plan 3 kwartału roku poprzedzającego pierwszy rok prognozy (wskaźnik ustalony w oparciu o średnią arytmetyczną z 3 poprzednich lat) ",true,7,2023,8.4500000000000006E-2,"2016-03-03","2016-03-03"]
[2016,"test","WIDUCHOWA",3206092,2,null,768,"12.7.1",null,"  w tym w związku z już zawartą umową na realizację programu, projektu lub zadania",true,6,2022,0,"2016-03-03","2016-03-03"]
[2016,"test","WIDUCHOWA",3206092,2,null,762,"12.4.2",null,"  Wydatki majątkowe na realizację programu, projektu lub zadania wynikające wyłącznie z zawartych umów z podmiotem dysponującym środkami, o których mowa w art. 5 ust. 1 pkt 2 ustawy ",true,4,2020,0,"2016-03-03","2016-03-03"]
[2016,"test","WIDUCHOWA",3206092,2,null,260,4.3,null,"  Kredyty, pożyczki, emisja papierów wartościowych",true,8,2024,0,"2016-03-03","2016-03-03"]
[2016,"test","WIDUCHOWA",3206092,2,null,260,4.3,null,"  Kredyty, pożyczki, emisja papierów wartościowych",true,6,2022,0,"2016-03-03","2016-03-03"]
[2016,"test","WIDUCHOWA",3206092,2,null,184,"2.1.3.1.2",null,"    odsetki i dyskonto podlegające wyłączeniu z limitu spłaty zobowiązań, o którym mowa w art. 243 ustawy, z tytułu zobowiązań  zaciągniętych na wkład krajowy",false,9,2025,13000,"2016-03-03","2016-03-03"]
[2016,"test","WIDUCHOWA",3206092,2,null,80,"1.1.5",null,"  z tytułu dotacji i środków przeznaczonych na cele bieżące",true,9,2025,7600000,"2016-03-03","2016-03-03"]
[2016,"test","WIDUCHOWA",3206092,2,null,340,5.2,null," Inne rozchody niezwiązane ze spłatą długu",false,2,2018,0,"2016-03-03","2016-03-03"]
[2016,"test","WIDUCHOWA",3206092,2,null,510,9.6,null," Dopuszczalny wskaźnik spłaty zobowiązań określony w art. 243 ustawy, po uwzględnieniu ustawowych wyłączeń , obliczony w oparciu o plan 3 kwartału roku poprzedzającego pierwszy rok prognozy (wskaźnik ustalony w oparciu o średnią arytmetyczną z 3 poprzednich lat) ",true,3,2019,8.1199999999999994E-2,"2016-03-03","2016-03-03"]
[2016,"test","WIDUCHOWA",3206092,2,null,750,"12.3.2",null,"  Wydatki bieżące na realizację programu, projektu lub zadania wynikające wyłącznie z zawartych umów z podmiotem dysponującym środkami, o których mowa w art. 5 ust. 1 pkt 2 ustawy ",false,7,2023,0,"2016-03-03","2016-03-03"]
[2016,"test","WIDUCHOWA",3206092,2,null,300,5,"[5.1] + [5.2]","Rozchody budżetu",false,1,2017,600000,"2016-03-03","2016-03-03"]
[2016,"test","WIDUCHOWA",3206092,2,null,768,"12.7.1",null,"  w tym w związku z już zawartą umową na realizację programu, projektu lub zadania",true,8,2024,0,"2016-03-03","2016-03-03"]
[2016,"test","WIDUCHOWA",3206092,2,null,440,9,null,"Wskaźnik spłaty zobowiązań",false,5,2021,0,"2016-03-03","2016-03-03"]
[2016,"test","WIDUCHOWA",3206092,2,null,170,"2.1.3",null,"  wydatki na obsługę długu, w tym:",true,4,2020,260000,"2016-03-03","2016-03-03"]
[2016,"test","WIDUCHOWA",3206092,2,null,220,4.0999999999999996,null," Nadwyżka budżetowa z lat ubiegłych",false,1,2017,0,"2016-03-03","2016-03-03"]
[2016,"test","WIDUCHOWA",3206092,2,null,20,1.1000000000000001,null," Dochody bieżące",true,7,2023,21223984,"2016-03-03","2016-03-03"]
[2016,"test","WIDUCHOWA",3206092,2,null,760,12.4,null," Wydatki majątkowe na programy, projekty lub zadania finansowane z udziałem środków, o których mowa w art. 5 ust. 1 pkt 2 i 3 ustawy",true,5,2021,0,"2016-03-03","2016-03-03"]
[2016,"test","WIDUCHOWA",3206092,2,null,840,13.5,null," Wydatki na spłatę przejętych zobowiązań samodzielnego publicznego zakładu opieki zdrowotnej likwidowanego na zasadach określonych w przepisach  o działalności leczniczej",true,8,2024,0,"2016-03-03","2016-03-03"]
[2016,"test","WIDUCHOWA",3206092,2,null,720,"12.2.1.1",null,"    - w tym środki określone w art. 5 ust. 1 pkt 2 ustawy wynikające wyłącznie z zawartych umów na realizację programu, projektu lub zadania",false,3,2019,0,"2016-03-03","2016-03-03"]
[2016,"test","WIDUCHOWA",3206092,2,null,930,"14.3.3",null,"  wypłaty z tytułu wymagalnych poręczeń i gwarancji",true,3,2019,0,"2016-03-03","2016-03-03"]
[2016,"test","WIDUCHOWA",3206092,2,null,10,1,"[1.1] + [1.2]","Dochody ogółem",true,3,2019,20768748,"2016-03-03","2016-03-03"]
[2016,"test","WIDUCHOWA",3206092,2,null,120,2,"[2.1] + [2.2]","Wydatki ogółem",false,6,2022,19804936,"2016-03-03","2016-03-03"]
[2016,"test","WIDUCHOWA",3206092,2,null,240,4.2,null," Wolne środki, o których mowa w art. 217 ust.2 pkt 6 ustawy",false,0,2016,0,"2016-03-03","2016-03-03"]
[2016,"test","WIDUCHOWA",3206092,2,null,470,9.1,"([2.1.1] + [2.1.3.1] + [5.1] ) / [1]"," Wskaźnik planowanej łącznej kwoty spłaty zobowiązań, o której mowa w art. 243 ust. 1 ustawy do dochodów, bez uwzględnienia zobowiązań związku współtworzonego przez jednostkę samorządu terytorialnego  i bez uwzględnienia ustawowych wyłączeń przypadających na dany rok.",true,1,2017,4.4600000000000001E-2,"2016-03-03","2016-03-03"]
[2016,"test","WIDUCHOWA",3206092,2,null,620,"11.3.2",null,"   majątkowe",true,1,2017,2161000,"2016-03-03","2016-03-03"]
[2016,"test","WIDUCHOWA",3206092,2,null,960,15.1,null," Środki z przedsięwzięcia gromadzone na rachunku bankowym,  w tym:",true,6,2022,0,"2016-03-03","2016-03-03"]
[2016,"test","WIDUCHOWA",3206092,2,null,600,11.3,"[11.3.1] + [11.3.2]"," Wydatki objęte limitem, o którym mowa w art. 226 ust. 3 pkt 4 ustawy",true,4,2020,149000,"2016-03-03","2016-03-03"]
[2016,"test","WIDUCHOWA",3206092,2,null,860,13.7,null," Wydatki bieżące na pokrycie ujemnego wyniku finansowego samodzielnego publicznego zakładu opieki zdrowotnej",true,6,2022,0,"2016-03-03","2016-03-03"]
[2016,"test","WIDUCHOWA",3206092,2,null,800,13.1,null," Kwota zobowiązań wynikających z przejęcia przez jednostkę samorządu terytorialnego zobowiązań po likwidowanych i przekształcanych samodzielnych zakładach opieki zdrowotnej",true,0,2016,0,"2016-03-03","2016-03-03"]
[2016,"test","WIDUCHOWA",3206092,2,null,810,13.2,null," Dochody budżetowe z tytułu dotacji celowej z budżetu państwa, o której mowa w art. 196 ustawy z  dnia 15 kwietnia 2011 r.  o działalności leczniczej (Dz.U. Nr 112, poz. 654, z późn. zm.)",true,5,2021,0,"2016-03-03","2016-03-03"]
[2016,"test","WIDUCHOWA",3206092,2,null,70,"1.1.4",null,"  z subwencji ogólnej",true,5,2021,6133000,"2016-03-03","2016-03-03"]
[2016,"test","WIDUCHOWA",3206092,2,null,430,8.1999999999999993,"[1.1] + [4.1] + [4.2] - (  [2.1] - [2.1.2]  )"," Różnica między dochodami bieżącymi, skorygowanymi o środki a wydatkami bieżącymi, pomniejszonymi  o wydatki",false,6,2022,1641426,"2016-03-03","2016-03-03"]
[2016,"test","WIDUCHOWA",3206092,2,null,700,12.2,null," Dochody majątkowe  na programy, projekty lub zadania finansowane z udziałem środków, o których mowa w art. 5 ust. 1 pkt 2 i 3 ustawy",false,4,2020,0,"2016-03-03","2016-03-03"]
[2016,"test","WIDUCHOWA",3206092,2,null,920,"14.3.2",null,"  związane z umowami zaliczanymi do tytułów dłużnych wliczanych do państwowego długu publicznego",true,4,2020,113000,"2016-03-03","2016-03-03"]
[2016,"test","WIDUCHOWA",3206092,2,null,80,"1.1.5",null,"  z tytułu dotacji i środków przeznaczonych na cele bieżące",true,3,2019,7350000,"2016-03-03","2016-03-03"]
[2016,"test","WIDUCHOWA",3206092,2,null,890,14.2,null," Kwota długu, którego planowana spłata dokona się z wydatków budżetu",true,7,2023,0,"2016-03-03","2016-03-03"]
[2016,"test","WIDUCHOWA",3206092,2,null,670,12.1,null," Dochody bieżące  na programy, projekty lub zadania finansowane z udziałem środków, o których mowa w art. 5 ust. 1 pkt 2 i 3 ustawy",true,4,2020,0,"2016-03-03","2016-03-03"]
[2016,"test","WIDUCHOWA",3206092,2,null,830,13.4,null," Wydatki na spłatę przejętych zobowiązań samodzielnego publicznego zakładu opieki zdrowotnej przekształconego na zasadach określonych w przepisach  o działalności leczniczej",true,1,2017,0,"2016-03-03","2016-03-03"]
[2016,"test","WIDUCHOWA",3206092,2,null,490,9.3000000000000007,null," Kwota zobowiązań związku współtworzonego przez jednostkę samorządu terytorialnego przypadających do spłaty w danym roku budżetowym, podlegająca doliczeniu zgodnie z art. 244 ustawy",true,6,2022,0,"2016-03-03","2016-03-03"]
[2016,"test","WIDUCHOWA",3206092,2,null,990,16,null,"Stopnie niezachowania relacji określonych w art. 242-244 ustawy w przypadku określonym w @par16_1 ustawy",true,8,2024,0,"2016-03-03","2016-03-03"]
[2016,"test","WIDUCHOWA",3206092,2,null,590,11.2,null," Wydatki związane z funkcjonowaniem organów jednostki samorządu terytorialnego",true,5,2021,2800000,"2016-03-03","2016-03-03"]
[2016,"test","WIDUCHOWA",3206092,2,null,300,5,"[5.1] + [5.2]","Rozchody budżetu",false,9,2025,743000,"2016-03-03","2016-03-03"]
[2016,"test","WIDUCHOWA",3206092,2,null,530,9.6999999999999993,"[9.6]-[9.4]"," Informacja o spełnieniu wskaźnika spłaty zobowiązań określonego w art. 243 ustawy, po uwzględnieniu zobowiązań związku współtworzonego przez jednostkę samorządu terytorialnego oraz po uwzględnieniu ustawowych wyłączeń, obliczonego w oparciu o plan 3 kwartałów roku poprzedzającego rok budżetowy",false,6,2022,94,"2016-03-03","2016-03-03"]
[2016,"test","WIDUCHOWA",3206092,2,null,184,"2.1.3.1.2",null,"    odsetki i dyskonto podlegające wyłączeniu z limitu spłaty zobowiązań, o którym mowa w art. 243 ustawy, z tytułu zobowiązań  zaciągniętych na wkład krajowy",false,6,2022,20000,"2016-03-03","2016-03-03"]
[2016,"test","WIDUCHOWA",3206092,2,null,340,5.2,null," Inne rozchody niezwiązane ze spłatą długu",false,4,2020,0,"2016-03-03","2016-03-03"]
[2016,"test","WIDUCHOWA",3206092,2,null,120,2,"[2.1] + [2.2]","Wydatki ogółem",false,3,2019,19568748,"2016-03-03","2016-03-03"]
[2016,"test","WIDUCHOWA",3206092,2,null,768,"12.7.1",null,"  w tym w związku z już zawartą umową na realizację programu, projektu lub zadania",true,2,2018,0,"2016-03-03","2016-03-03"]
[2016,"test","WIDUCHOWA",3206092,2,null,184,"2.1.3.1.2",null,"    odsetki i dyskonto podlegające wyłączeniu z limitu spłaty zobowiązań, o którym mowa w art. 243 ustawy, z tytułu zobowiązań  zaciągniętych na wkład krajowy",false,0,2016,105951.71,"2016-03-03","2016-03-03"]
[2016,"test","WIDUCHOWA",3206092,2,null,334,"5.1.1.2",null,"   kwota przypadających na dany rok kwot ustawowych wyłączeń określonych w art. 243 ust. 3a ustawy",true,8,2024,0,"2016-03-03","2016-03-03"]
[2016,"test","WIDUCHOWA",3206092,2,null,740,"12.3.1",null,"  -  w tym finansowane środkami określonymi w art. 5 ust. 1 pkt 2 ustawy ",false,8,2024,0,"2016-03-03","2016-03-03"]
[2016,"test","WIDUCHOWA",3206092,2,null,750,"12.3.2",null,"  Wydatki bieżące na realizację programu, projektu lub zadania wynikające wyłącznie z zawartych umów z podmiotem dysponującym środkami, o których mowa w art. 5 ust. 1 pkt 2 ustawy ",false,1,2017,0,"2016-03-03","2016-03-03"]
[2016,"test","WIDUCHOWA",3206092,2,null,930,"14.3.3",null,"  wypłaty z tytułu wymagalnych poręczeń i gwarancji",true,1,2017,0,"2016-03-03","2016-03-03"]
[2016,"test","WIDUCHOWA",3206092,2,null,540,"9.7.1","[9.6.1]-[9.4]","  Informacja o spełnieniu wskaźnika spłaty zobowiązań określonego w art. 243 ustawy, po uwzględnieniu zobowiązań związku współtworzonego przez jednostkę samorządu terytorialnego oraz po uwzględnieniu ustawowych wyłączeń, obliczonego w oparciu o wykonanie roku poprzedzającego rok budżetowy",false,9,2025,548,"2016-03-03","2016-03-03"]
[2016,"test","WIDUCHOWA",3206092,2,null,560,10.1,null," Spłaty kredytów, pożyczek i wykup papierów wartościowych",false,0,2016,400000,"2016-03-03","2016-03-03"]
[2016,"test","WIDUCHOWA",3206092,2,null,310,5.0999999999999996,null," Spłaty rat kapitałowych kredytów i pożyczek oraz wykup papierów wartościowych",true,4,2020,1300000,"2016-03-03","2016-03-03"]
[2016,"test","WIDUCHOWA",3206092,2,null,950,15,null,"Dane dotyczące emitowanych obligacji przychodowych",true,0,2016,0,"2016-03-03","2016-03-03"]
[2016,"test","WIDUCHOWA",3206092,2,null,720,"12.2.1.1",null,"    - w tym środki określone w art. 5 ust. 1 pkt 2 ustawy wynikające wyłącznie z zawartych umów na realizację programu, projektu lub zadania",false,4,2020,0,"2016-03-03","2016-03-03"]
[2016,"test","WIDUCHOWA",3206092,2,null,140,"2.1.1",null,"  z tytułu poręczeń i gwarancji",true,0,2016,0,"2016-03-03","2016-03-03"]
[2016,"test","WIDUCHOWA",3206092,2,null,764,"12.5.1",null,"  w tym w związku z już zawartą umową na realizację programu, projektu lub zadania",true,8,2024,0,"2016-03-03","2016-03-03"]
[2016,"test","WIDUCHOWA",3206092,2,null,290,"4.4.1",null,"   w tym na pokrycie deficytu budżetu",false,8,2024,0,"2016-03-03","2016-03-03"]
[2016,"test","WIDUCHOWA",3206092,2,null,350,6,null,"Kwota długu",true,8,2024,743000,"2016-03-03","2016-03-03"]
[2016,"test","WIDUCHOWA",3206092,2,null,870,14,null,"Dane uzupełniające o długu i jego spłacie",true,5,2021,0,"2016-03-03","2016-03-03"]
[2016,"test","WIDUCHOWA",3206092,2,null,100,"1.2.1",null,"  ze sprzedaży majątku",true,0,2016,391378,"2016-03-03","2016-03-03"]
[2016,"test","WIDUCHOWA",3206092,2,null,768,"12.7.1",null,"  w tym w związku z już zawartą umową na realizację programu, projektu lub zadania",true,3,2019,0,"2016-03-03","2016-03-03"]
[2016,"test","WIDUCHOWA",3206092,2,null,764,"12.5.1",null,"  w tym w związku z już zawartą umową na realizację programu, projektu lub zadania",true,3,2019,0,"2016-03-03","2016-03-03"]
[2016,"test","WIDUCHOWA",3206092,2,null,980,15.2,null," Wydatki bieżące z tytułu świadczenia emitenta należnego obligatariuszom,  nieuwzględniane  w limicie spłaty zobowiązań, o którym mowa w art. 243 ustawy",true,4,2020,0,"2016-03-03","2016-03-03"]
[2016,"test","WIDUCHOWA",3206092,2,null,710,"12.2.1",null,"   -  w tym środki określone w art. 5 ust. 1 pkt 2 ustawy",false,2,2018,0,"2016-03-03","2016-03-03"]
[2016,"test","WIDUCHOWA",3206092,2,null,690,"12.1.1.1",null,"   - w tym środki określone w art. 5 ust. 1 pkt 2 ustawy wynikające wyłącznie z  zawartych umów na realizację programu, projektu lub zadania",true,4,2020,0,"2016-03-03","2016-03-03"]
[2016,"test","WIDUCHOWA",3206092,2,null,900,14.3,null," Wydatki zmniejszające dług, w tym",true,3,2019,117000,"2016-03-03","2016-03-03"]
[2016,"test","WIDUCHOWA",3206092,2,null,1020,16.3,null," Stopień niezachowania wskaźnika spłaty zobowiązań, o którym mowa w poz. 9.7.1.",true,5,2021,0,"2016-03-03","2016-03-03"]
[2016,"test","WIDUCHOWA",3206092,2,null,30,"1.1.1",null,"  dochody z tytułu udziału we wpływach z podatku dochodowego od osób fizycznych",true,7,2023,2300000,"2016-03-03","2016-03-03"]
[2016,"test","WIDUCHOWA",3206092,2,null,640,11.5,null," Nowe wydatki inwestycyjne",true,4,2020,0,"2016-03-03","2016-03-03"]
[2016,"test","WIDUCHOWA",3206092,2,null,690,"12.1.1.1",null,"   - w tym środki określone w art. 5 ust. 1 pkt 2 ustawy wynikające wyłącznie z  zawartych umów na realizację programu, projektu lub zadania",true,8,2024,0,"2016-03-03","2016-03-03"]
[2016,"test","WIDUCHOWA",3206092,2,null,920,"14.3.2",null,"  związane z umowami zaliczanymi do tytułów dłużnych wliczanych do państwowego długu publicznego",true,2,2018,120000,"2016-03-03","2016-03-03"]
[2016,"test","WIDUCHOWA",3206092,2,null,250,"4.2.1",null,"   w tym na pokrycie deficytu budżetu",false,5,2021,0,"2016-03-03","2016-03-03"]
[2016,"test","WIDUCHOWA",3206092,2,null,220,4.0999999999999996,null," Nadwyżka budżetowa z lat ubiegłych",false,2,2018,0,"2016-03-03","2016-03-03"]
[2016,"test","WIDUCHOWA",3206092,2,null,860,13.7,null," Wydatki bieżące na pokrycie ujemnego wyniku finansowego samodzielnego publicznego zakładu opieki zdrowotnej",true,4,2020,0,"2016-03-03","2016-03-03"]
[2016,"test","WIDUCHOWA",3206092,2,null,630,11.4,null," Wydatki inwestycyjne kontynuowane ",true,1,2017,0,"2016-03-03","2016-03-03"]
[2016,"test","WIDUCHOWA",3206092,2,null,600,11.3,"[11.3.1] + [11.3.2]"," Wydatki objęte limitem, o którym mowa w art. 226 ust. 3 pkt 4 ustawy",true,8,2024,0,"2016-03-03","2016-03-03"]
[2016,"test","WIDUCHOWA",3206092,2,null,660,12,null,"Finansowanie programów, projektów lub zadań realizowanych z udziałem środków, o których mowa w art. 5 ust. 1 pkt 2 i 3 ustawy",true,7,2023,0,"2016-03-03","2016-03-03"]
[2016,"test","WIDUCHOWA",3206092,2,null,60,"1.1.3.1",null,"   z podatku od nieruchomości",true,8,2024,2636000,"2016-03-03","2016-03-03"]
[2016,"test","WIDUCHOWA",3206092,2,null,280,4.4000000000000004,null," Inne przychody niezwiązane z zaciągnięciem długu",false,4,2020,0,"2016-03-03","2016-03-03"]
[2016,"test","WIDUCHOWA",3206092,2,null,160,"2.1.2",null,"   na spłatę przejętych zobowiązań samodzielnego publicznego zakładu opieki zdrowotnej przekształconego na zasadach określonych w przepisach  o działalności leczniczej, w wysokości w jakiej nie podlegają sfinansowaniu dotacją z budżetu państwa",true,5,2021,0,"2016-03-03","2016-03-03"]
[2016,"test","WIDUCHOWA",3206092,2,null,160,"2.1.2",null,"   na spłatę przejętych zobowiązań samodzielnego publicznego zakładu opieki zdrowotnej przekształconego na zasadach określonych w przepisach  o działalności leczniczej, w wysokości w jakiej nie podlegają sfinansowaniu dotacją z budżetu państwa",true,9,2025,0,"2016-03-03","2016-03-03"]
[2016,"test","WIDUCHOWA",3206092,2,null,90,1.2,null,"  Dochody majątkowe, w tym",true,8,2024,300000,"2016-03-03","2016-03-03"]
[2016,"test","WIDUCHOWA",3206092,2,null,80,"1.1.5",null,"  z tytułu dotacji i środków przeznaczonych na cele bieżące",true,2,2018,7550000,"2016-03-03","2016-03-03"]
[2016,"test","WIDUCHOWA",3206092,2,null,610,"11.3.1",null,"   bieżące",true,4,2020,0,"2016-03-03","2016-03-03"]
[2016,"test","WIDUCHOWA",3206092,2,null,260,4.3,null,"  Kredyty, pożyczki, emisja papierów wartościowych",true,3,2019,0,"2016-03-03","2016-03-03"]
[2016,"test","WIDUCHOWA",3206092,2,null,890,14.2,null," Kwota długu, którego planowana spłata dokona się z wydatków budżetu",true,4,2020,214000,"2016-03-03","2016-03-03"]
[2016,"test","WIDUCHOWA",3206092,2,null,480,9.1999999999999993,"( ([2.1.1]-[2.1.1.1])+([2.1.3.1]-[2.1.3.1.1]-[2.1.3.1.2])+([5.1]-[5.1.1]) )/([1]-[15.1.1])"," Wskaźnik planowanej łącznej kwoty spłaty zobowiązań, o której mowa w art. 243 ust. 1 ustawy do dochodów, bez uwzględnienia zobowiązań związku współtworzonego przez jednostkę samorządu terytorialnego, po uwzględnieniu ustawowych wyłączeń przypadających na dany rok.",false,1,2017,4.0099999999999997E-2,"2016-03-03","2016-03-03"]
[2016,"test","WIDUCHOWA",3206092,2,null,620,"11.3.2",null,"   majątkowe",true,3,2019,153000,"2016-03-03","2016-03-03"]
[2016,"test","WIDUCHOWA",3206092,2,null,630,11.4,null," Wydatki inwestycyjne kontynuowane ",true,8,2024,0,"2016-03-03","2016-03-03"]
[2016,"test","WIDUCHOWA",3206092,2,null,590,11.2,null," Wydatki związane z funkcjonowaniem organów jednostki samorządu terytorialnego",true,6,2022,2900000,"2016-03-03","2016-03-03"]
[2016,"test","WIDUCHOWA",3206092,2,null,30,"1.1.1",null,"  dochody z tytułu udziału we wpływach z podatku dochodowego od osób fizycznych",true,8,2024,2350000,"2016-03-03","2016-03-03"]
[2016,"test","WIDUCHOWA",3206092,2,null,90,1.2,null,"  Dochody majątkowe, w tym",true,3,2019,400000,"2016-03-03","2016-03-03"]
[2016,"test","WIDUCHOWA",3206092,2,null,900,14.3,null," Wydatki zmniejszające dług, w tym",true,4,2020,113000,"2016-03-03","2016-03-03"]
[2016,"test","WIDUCHOWA",3206092,2,null,140,"2.1.1",null,"  z tytułu poręczeń i gwarancji",true,3,2019,0,"2016-03-03","2016-03-03"]
[2016,"test","WIDUCHOWA",3206092,2,null,150,"2.1.1.1",null,"   w tym: gwarancje i poręczenia podlegające wyłączeniu z limitu spłaty zobowiązań, o którym mowa w art. 243 ustawy",true,0,2016,0,"2016-03-03","2016-03-03"]
[2016,"test","WIDUCHOWA",3206092,2,null,420,8.1,"[1.1] - [2.1]"," Różnica między dochodami bieżącymi a  wydatkami bieżącymi",false,7,2023,1596559,"2016-03-03","2016-03-03"]
[2016,"test","WIDUCHOWA",3206092,2,null,920,"14.3.2",null,"  związane z umowami zaliczanymi do tytułów dłużnych wliczanych do państwowego długu publicznego",true,6,2022,105000,"2016-03-03","2016-03-03"]
[2016,"test","WIDUCHOWA",3206092,2,null,334,"5.1.1.2",null,"   kwota przypadających na dany rok kwot ustawowych wyłączeń określonych w art. 243 ust. 3a ustawy",true,0,2016,0,"2016-03-03","2016-03-03"]
[2016,"test","WIDUCHOWA",3206092,2,null,160,"2.1.2",null,"   na spłatę przejętych zobowiązań samodzielnego publicznego zakładu opieki zdrowotnej przekształconego na zasadach określonych w przepisach  o działalności leczniczej, w wysokości w jakiej nie podlegają sfinansowaniu dotacją z budżetu państwa",true,4,2020,0,"2016-03-03","2016-03-03"]
[2016,"test","WIDUCHOWA",3206092,2,null,770,"12.8.1",null,"  w tym w związku z już zawartą umową na realizację programu, projektu lub zadania",true,4,2020,0,"2016-03-03","2016-03-03"]
[2016,"test","WIDUCHOWA",3206092,2,null,340,5.2,null," Inne rozchody niezwiązane ze spłatą długu",false,9,2025,0,"2016-03-03","2016-03-03"]
[2016,"test","WIDUCHOWA",3206092,2,null,770,"12.8.1",null,"  w tym w związku z już zawartą umową na realizację programu, projektu lub zadania",true,7,2023,0,"2016-03-03","2016-03-03"]
[2016,"test","WIDUCHOWA",3206092,2,null,700,12.2,null," Dochody majątkowe  na programy, projekty lub zadania finansowane z udziałem środków, o których mowa w art. 5 ust. 1 pkt 2 i 3 ustawy",false,7,2023,0,"2016-03-03","2016-03-03"]
[2016,"test","WIDUCHOWA",3206092,2,null,761,"12.4.1",null,"  -  w tym finansowane środkami określonymi w art. 5 ust. 1 pkt 2 ustawy",true,6,2022,0,"2016-03-03","2016-03-03"]
[2016,"test","WIDUCHOWA",3206092,2,null,580,11.1,null," Wydatki bieżące na wynagrodzenia i składki od nich naliczane",false,9,2025,9355771,"2016-03-03","2016-03-03"]
[2016,"test","WIDUCHOWA",3206092,2,null,630,11.4,null," Wydatki inwestycyjne kontynuowane ",true,4,2020,0,"2016-03-03","2016-03-03"]
[2016,"test","WIDUCHOWA",3206092,2,null,910,"14.3.1",null,"  spłata zobowiązań wymagalnych z lat poprzednich, innych niż w pkt 14.3.3",true,6,2022,0,"2016-03-03","2016-03-03"]
[2016,"test","WIDUCHOWA",3206092,2,null,720,"12.2.1.1",null,"    - w tym środki określone w art. 5 ust. 1 pkt 2 ustawy wynikające wyłącznie z zawartych umów na realizację programu, projektu lub zadania",false,0,2016,0,"2016-03-03","2016-03-03"]
[2016,"test","WIDUCHOWA",3206092,2,null,980,15.2,null," Wydatki bieżące z tytułu świadczenia emitenta należnego obligatariuszom,  nieuwzględniane  w limicie spłaty zobowiązań, o którym mowa w art. 243 ustawy",true,6,2022,0,"2016-03-03","2016-03-03"]
[2016,"test","WIDUCHOWA",3206092,2,null,300,5,"[5.1] + [5.2]","Rozchody budżetu",false,3,2019,1200000,"2016-03-03","2016-03-03"]
[2016,"test","WIDUCHOWA",3206092,2,null,170,"2.1.3",null,"  wydatki na obsługę długu, w tym:",true,1,2017,340000,"2016-03-03","2016-03-03"]
[2016,"test","WIDUCHOWA",3206092,2,null,336,"5.1.1.3",null,"   kwota przypadających na dany rok kwot ustawowych wyłączeń innych niż określone w art. 243 ustawy",true,5,2021,0,"2016-03-03","2016-03-03"]
[2016,"test","WIDUCHOWA",3206092,2,null,30,"1.1.1",null,"  dochody z tytułu udziału we wpływach z podatku dochodowego od osób fizycznych",true,1,2017,2000000,"2016-03-03","2016-03-03"]
[2016,"test","WIDUCHOWA",3206092,2,null,870,14,null,"Dane uzupełniające o długu i jego spłacie",true,9,2025,0,"2016-03-03","2016-03-03"]
[2016,"test","WIDUCHOWA",3206092,2,null,480,9.1999999999999993,"( ([2.1.1]-[2.1.1.1])+([2.1.3.1]-[2.1.3.1.1]-[2.1.3.1.2])+([5.1]-[5.1.1]) )/([1]-[15.1.1])"," Wskaźnik planowanej łącznej kwoty spłaty zobowiązań, o której mowa w art. 243 ust. 1 ustawy do dochodów, bez uwzględnienia zobowiązań związku współtworzonego przez jednostkę samorządu terytorialnego, po uwzględnieniu ustawowych wyłączeń przypadających na dany rok.",false,7,2023,7.5499999999999998E-2,"2016-03-03","2016-03-03"]
[2016,"test","WIDUCHOWA",3206092,2,null,150,"2.1.1.1",null,"   w tym: gwarancje i poręczenia podlegające wyłączeniu z limitu spłaty zobowiązań, o którym mowa w art. 243 ustawy",true,8,2024,0,"2016-03-03","2016-03-03"]
[2016,"test","WIDUCHOWA",3206092,2,null,1000,16.100000000000001,null," Stopień niezachowania relacji zrównoważenia wydatków bieżących, o której mowa w poz. 8.2.",true,5,2021,0,"2016-03-03","2016-03-03"]
[2016,"test","WIDUCHOWA",3206092,2,null,210,4,"[4.1] + [4.2] + [4.3] + [4.4]","Przychody budżetu",false,1,2017,0,"2016-03-03","2016-03-03"]
[2016,"test","WIDUCHOWA",3206092,2,null,690,"12.1.1.1",null,"   - w tym środki określone w art. 5 ust. 1 pkt 2 ustawy wynikające wyłącznie z  zawartych umów na realizację programu, projektu lub zadania",true,2,2018,0,"2016-03-03","2016-03-03"]
[2016,"test","WIDUCHOWA",3206092,2,null,770,"12.8.1",null,"  w tym w związku z już zawartą umową na realizację programu, projektu lub zadania",true,3,2019,0,"2016-03-03","2016-03-03"]
[2016,"test","WIDUCHOWA",3206092,2,null,440,9,null,"Wskaźnik spłaty zobowiązań",false,3,2019,0,"2016-03-03","2016-03-03"]
[2016,"test","WIDUCHOWA",3206092,2,null,508,9.5,"(([1.1] - [15.1.1])+[1.2.1] - ([2.1]-[2.1.2]-[15.2]))/ ([1]-[15.1.1])"," Wskaźnik dochodów bieżących powiększonych o dochody ze sprzedaży majątku oraz pomniejszonych o wydatki bieżące, do dochodów budżetu, ustalony dla danego roku (wskaźnik jednoroczny)",false,0,2016,9.4500000000000001E-2,"2016-03-03","2016-03-03"]
[2016,"test","WIDUCHOWA",3206092,2,null,80,"1.1.5",null,"  z tytułu dotacji i środków przeznaczonych na cele bieżące",true,4,2020,6900000,"2016-03-03","2016-03-03"]
[2016,"test","WIDUCHOWA",3206092,2,null,150,"2.1.1.1",null,"   w tym: gwarancje i poręczenia podlegające wyłączeniu z limitu spłaty zobowiązań, o którym mowa w art. 243 ustawy",true,6,2022,0,"2016-03-03","2016-03-03"]
[2016,"test","WIDUCHOWA",3206092,2,null,120,2,"[2.1] + [2.2]","Wydatki ogółem",false,0,2016,19043564.07,"2016-03-03","2016-03-03"]
[2016,"test","WIDUCHOWA",3206092,2,null,960,15.1,null," Środki z przedsięwzięcia gromadzone na rachunku bankowym,  w tym:",true,0,2016,0,"2016-03-03","2016-03-03"]
[2016,"test","WIDUCHOWA",3206092,2,null,570,11,null,"Informacje uzupełniające o wybranych rodzajach wydatków budżetowych",false,3,2019,0,"2016-03-03","2016-03-03"]
[2016,"test","WIDUCHOWA",3206092,2,null,769,12.8,null," Przychody z tytułu kredytów, pożyczek, emisji papierów wartościowych powstające w związku z zawartą po dniu 1 stycznia 2013 r. umową na realizację programu, projektu lub zadania finansowanego w co najmniej 60% środkami, o których mowa w art. 5 ust. 1 pkt 2 ustawy",true,5,2021,0,"2016-03-03","2016-03-03"]
[2016,"test","WIDUCHOWA",3206092,2,null,110,"1.2.2",null,"  z tytułu dotacji oraz środków przeznaczonych na inwestycje",true,0,2016,462622,"2016-03-03","2016-03-03"]
[2016,"test","WIDUCHOWA",3206092,2,null,1000,16.100000000000001,null," Stopień niezachowania relacji zrównoważenia wydatków bieżących, o której mowa w poz. 8.2.",true,0,2016,0,"2016-03-03","2016-03-03"]
[2016,"test","WIDUCHOWA",3206092,2,null,70,"1.1.4",null,"  z subwencji ogólnej",true,2,2018,5900000,"2016-03-03","2016-03-03"]
[2016,"test","WIDUCHOWA",3206092,2,null,610,"11.3.1",null,"   bieżące",true,7,2023,0,"2016-03-03","2016-03-03"]
[2016,"test","WIDUCHOWA",3206092,2,null,840,13.5,null," Wydatki na spłatę przejętych zobowiązań samodzielnego publicznego zakładu opieki zdrowotnej likwidowanego na zasadach określonych w przepisach  o działalności leczniczej",true,6,2022,0,"2016-03-03","2016-03-03"]
[2016,"test","WIDUCHOWA",3206092,2,null,30,"1.1.1",null,"  dochody z tytułu udziału we wpływach z podatku dochodowego od osób fizycznych",true,0,2016,1930520,"2016-03-03","2016-03-03"]
[2016,"test","WIDUCHOWA",3206092,2,null,40,"1.1.2",null,"  dochody z tytułu udziału we wpływach z podatku dochodowego od osób prawnych",true,5,2021,12000,"2016-03-03","2016-03-03"]
[2016,"test","WIDUCHOWA",3206092,2,null,320,"5.1.1","[5.1.1.1] + [5.1.1.2] + [5.1.1.3]","  w tym łączna kwota przypadających na dany rok kwot ustawowych wyłączeń z limitu spłaty zobowiązań, o którym mowa w art. 243 ustawy, z tego:",true,6,2022,0,"2016-03-03","2016-03-03"]
[2016,"test","WIDUCHOWA",3206092,2,null,100,"1.2.1",null,"  ze sprzedaży majątku",true,3,2019,400000,"2016-03-03","2016-03-03"]
[2016,"test","WIDUCHOWA",3206092,2,null,440,9,null,"Wskaźnik spłaty zobowiązań",false,0,2016,0,"2016-03-03","2016-03-03"]
[2016,"test","WIDUCHOWA",3206092,2,null,910,"14.3.1",null,"  spłata zobowiązań wymagalnych z lat poprzednich, innych niż w pkt 14.3.3",true,1,2017,0,"2016-03-03","2016-03-03"]
[2016,"test","WIDUCHOWA",3206092,2,null,860,13.7,null," Wydatki bieżące na pokrycie ujemnego wyniku finansowego samodzielnego publicznego zakładu opieki zdrowotnej",true,8,2024,0,"2016-03-03","2016-03-03"]
[2016,"test","WIDUCHOWA",3206092,2,null,300,5,"[5.1] + [5.2]","Rozchody budżetu",false,6,2022,1330000,"2016-03-03","2016-03-03"]
[2016,"test","WIDUCHOWA",3206092,2,null,670,12.1,null," Dochody bieżące  na programy, projekty lub zadania finansowane z udziałem środków, o których mowa w art. 5 ust. 1 pkt 2 i 3 ustawy",true,3,2019,0,"2016-03-03","2016-03-03"]
[2016,"test","WIDUCHOWA",3206092,2,null,760,12.4,null," Wydatki majątkowe na programy, projekty lub zadania finansowane z udziałem środków, o których mowa w art. 5 ust. 1 pkt 2 i 3 ustawy",true,8,2024,0,"2016-03-03","2016-03-03"]
[2016,"test","WIDUCHOWA",3206092,2,null,40,"1.1.2",null,"  dochody z tytułu udziału we wpływach z podatku dochodowego od osób prawnych",true,0,2016,3000,"2016-03-03","2016-03-03"]
[2016,"test","WIDUCHOWA",3206092,2,null,790,13,null,"Kwoty dotyczące przejęcia i spłaty zobowiązań po samodzielnych publicznych zakładach opieki zdrowotnej oraz pokrycia ujemnego wyniku ",true,3,2019,0,"2016-03-03","2016-03-03"]
[2016,"test","WIDUCHOWA",3206092,2,null,600,11.3,"[11.3.1] + [11.3.2]"," Wydatki objęte limitem, o którym mowa w art. 226 ust. 3 pkt 4 ustawy",true,0,2016,1315050,"2016-03-03","2016-03-03"]
[2016,"test","WIDUCHOWA",3206092,2,null,190,2.2000000000000002,null," Wydatki majątkowe",false,9,2025,1293654,"2016-03-03","2016-03-03"]
[2016,"test","WIDUCHOWA",3206092,2,null,500,9.4,"(([2.1.1]-[2.1.1.1]) + ([2.1.3.1]-[2.1.3.1.1]-[2.1.3.1.2])+([5.1]-[5.1.1])+[9.3]) /([1]-[15.1.1])"," Wskaźnik planowanej łącznej kwoty spłaty zobowiązań, o której mowa w art. 243 ust. 1 ustawy do dochodów, po uwzględnieniu zobowiązań związku współtworzonego przez jednostkę samorządu terytorialnego oraz po uwzględnieniu ustawowych wyłączeń przypadających na dany rok",false,4,2020,7.3200000000000001E-2,"2016-03-03","2016-03-03"]
[2016,"test","WIDUCHOWA",3206092,2,null,550,10,null,"Przeznaczenie prognozowanej nadwyżki budżetowej,  w tym na:",false,0,2016,400000,"2016-03-03","2016-03-03"]
[2016,"test","WIDUCHOWA",3206092,2,null,890,14.2,null," Kwota długu, którego planowana spłata dokona się z wydatków budżetu",true,2,2018,444000,"2016-03-03","2016-03-03"]
[2016,"test","WIDUCHOWA",3206092,2,null,90,1.2,null,"  Dochody majątkowe, w tym",true,1,2017,1572600,"2016-03-03","2016-03-03"]
[2016,"test","WIDUCHOWA",3206092,2,null,110,"1.2.2",null,"  z tytułu dotacji oraz środków przeznaczonych na inwestycje",true,8,2024,0,"2016-03-03","2016-03-03"]
[2016,"test","WIDUCHOWA",3206092,2,null,880,14.1,null," Spłaty rat kapitałowych oraz wykup papierów wartościowych, o których mowa w pkt. 5.1., wynikające wyłącznie z tytułu zobowiązań już zaciągniętych",true,8,2024,1548000,"2016-03-03","2016-03-03"]
[2016,"test","WIDUCHOWA",3206092,2,null,184,"2.1.3.1.2",null,"    odsetki i dyskonto podlegające wyłączeniu z limitu spłaty zobowiązań, o którym mowa w art. 243 ustawy, z tytułu zobowiązań  zaciągniętych na wkład krajowy",false,2,2018,74000,"2016-03-03","2016-03-03"]
[2016,"test","WIDUCHOWA",3206092,2,null,710,"12.2.1",null,"   -  w tym środki określone w art. 5 ust. 1 pkt 2 ustawy",false,0,2016,462622,"2016-03-03","2016-03-03"]
[2016,"test","WIDUCHOWA",3206092,2,null,660,12,null,"Finansowanie programów, projektów lub zadań realizowanych z udziałem środków, o których mowa w art. 5 ust. 1 pkt 2 i 3 ustawy",true,2,2018,0,"2016-03-03","2016-03-03"]
[2016,"test","WIDUCHOWA",3206092,2,null,810,13.2,null," Dochody budżetowe z tytułu dotacji celowej z budżetu państwa, o której mowa w art. 196 ustawy z  dnia 15 kwietnia 2011 r.  o działalności leczniczej (Dz.U. Nr 112, poz. 654, z późn. zm.)",true,8,2024,0,"2016-03-03","2016-03-03"]
[2016,"test","WIDUCHOWA",3206092,2,null,840,13.5,null," Wydatki na spłatę przejętych zobowiązań samodzielnego publicznego zakładu opieki zdrowotnej likwidowanego na zasadach określonych w przepisach  o działalności leczniczej",true,9,2025,0,"2016-03-03","2016-03-03"]
[2016,"test","WIDUCHOWA",3206092,2,null,440,9,null,"Wskaźnik spłaty zobowiązań",false,9,2025,0,"2016-03-03","2016-03-03"]
[2016,"test","WIDUCHOWA",3206092,2,null,210,4,"[4.1] + [4.2] + [4.3] + [4.4]","Przychody budżetu",false,5,2021,0,"2016-03-03","2016-03-03"]
[2016,"test","WIDUCHOWA",3206092,2,null,270,"4.3.1",null,"   w tym na pokrycie deficytu budżetu",true,8,2024,0,"2016-03-03","2016-03-03"]
[2016,"test","WIDUCHOWA",3206092,2,null,440,9,null,"Wskaźnik spłaty zobowiązań",false,8,2024,0,"2016-03-03","2016-03-03"]
[2016,"test","WIDUCHOWA",3206092,2,null,620,"11.3.2",null,"   majątkowe",true,4,2020,149000,"2016-03-03","2016-03-03"]
[2016,"test","WIDUCHOWA",3206092,2,null,60,"1.1.3.1",null,"   z podatku od nieruchomości",true,7,2023,2525000,"2016-03-03","2016-03-03"]
[2016,"test","WIDUCHOWA",3206092,2,null,790,13,null,"Kwoty dotyczące przejęcia i spłaty zobowiązań po samodzielnych publicznych zakładach opieki zdrowotnej oraz pokrycia ujemnego wyniku ",true,4,2020,0,"2016-03-03","2016-03-03"]
[2016,"test","WIDUCHOWA",3206092,2,null,336,"5.1.1.3",null,"   kwota przypadających na dany rok kwot ustawowych wyłączeń innych niż określone w art. 243 ustawy",true,9,2025,0,"2016-03-03","2016-03-03"]
[2016,"test","WIDUCHOWA",3206092,2,null,990,16,null,"Stopnie niezachowania relacji określonych w art. 242-244 ustawy w przypadku określonym w @par16_1 ustawy",true,9,2025,0,"2016-03-03","2016-03-03"]
[2016,"test","WIDUCHOWA",3206092,2,null,290,"4.4.1",null,"   w tym na pokrycie deficytu budżetu",false,9,2025,0,"2016-03-03","2016-03-03"]
[2016,"test","WIDUCHOWA",3206092,2,null,508,9.5,"(([1.1] - [15.1.1])+[1.2.1] - ([2.1]-[2.1.2]-[15.2]))/ ([1]-[15.1.1])"," Wskaźnik dochodów bieżących powiększonych o dochody ze sprzedaży majątku oraz pomniejszonych o wydatki bieżące, do dochodów budżetu, ustalony dla danego roku (wskaźnik jednoroczny)",false,7,2023,8.8099999999999998E-2,"2016-03-03","2016-03-03"]
[2016,"test","WIDUCHOWA",3206092,2,null,830,13.4,null," Wydatki na spłatę przejętych zobowiązań samodzielnego publicznego zakładu opieki zdrowotnej przekształconego na zasadach określonych w przepisach  o działalności leczniczej",true,4,2020,0,"2016-03-03","2016-03-03"]
[2016,"test","WIDUCHOWA",3206092,2,null,140,"2.1.1",null,"  z tytułu poręczeń i gwarancji",true,1,2017,0,"2016-03-03","2016-03-03"]
[2016,"test","WIDUCHOWA",3206092,2,null,820,13.3,null," Wysokość zobowiązań podlegających umorzeniu, o którym mowa w art. 190 ustawy o działalności leczniczej",true,8,2024,0,"2016-03-03","2016-03-03"]
[2016,"test","WIDUCHOWA",3206092,2,null,200,3,"[1] -[2]","Wynik budżetu",false,5,2021,1200000,"2016-03-03","2016-03-03"]
[2016,"test","WIDUCHOWA",3206092,2,null,830,13.4,null," Wydatki na spłatę przejętych zobowiązań samodzielnego publicznego zakładu opieki zdrowotnej przekształconego na zasadach określonych w przepisach  o działalności leczniczej",true,8,2024,0,"2016-03-03","2016-03-03"]
[2016,"test","WIDUCHOWA",3206092,2,null,350,6,null,"Kwota długu",true,9,2025,0,"2016-03-03","2016-03-03"]
[2016,"test","WIDUCHOWA",3206092,2,null,970,"15.1.1",null,"  środki na zaspokojenie roszczeń obligatariuszy",true,3,2019,0,"2016-03-03","2016-03-03"]
[2016,"test","WIDUCHOWA",3206092,2,null,740,"12.3.1",null,"  -  w tym finansowane środkami określonymi w art. 5 ust. 1 pkt 2 ustawy ",false,6,2022,0,"2016-03-03","2016-03-03"]
[2016,"test","WIDUCHOWA",3206092,2,null,490,9.3000000000000007,null," Kwota zobowiązań związku współtworzonego przez jednostkę samorządu terytorialnego przypadających do spłaty w danym roku budżetowym, podlegająca doliczeniu zgodnie z art. 244 ustawy",true,1,2017,0,"2016-03-03","2016-03-03"]
[2016,"test","WIDUCHOWA",3206092,2,null,650,11.6,null," Wydatki majątkowe w formie dotacji ",true,9,2025,0,"2016-03-03","2016-03-03"]
[2016,"test","WIDUCHOWA",3206092,2,null,140,"2.1.1",null,"  z tytułu poręczeń i gwarancji",true,8,2024,0,"2016-03-03","2016-03-03"]
[2016,"test","WIDUCHOWA",3206092,2,null,150,"2.1.1.1",null,"   w tym: gwarancje i poręczenia podlegające wyłączeniu z limitu spłaty zobowiązań, o którym mowa w art. 243 ustawy",true,5,2021,0,"2016-03-03","2016-03-03"]
[2016,"test","WIDUCHOWA",3206092,2,null,650,11.6,null," Wydatki majątkowe w formie dotacji ",true,5,2021,0,"2016-03-03","2016-03-03"]
[2016,"test","WIDUCHOWA",3206092,2,null,710,"12.2.1",null,"   -  w tym środki określone w art. 5 ust. 1 pkt 2 ustawy",false,3,2019,0,"2016-03-03","2016-03-03"]
[2016,"test","WIDUCHOWA",3206092,2,null,830,13.4,null," Wydatki na spłatę przejętych zobowiązań samodzielnego publicznego zakładu opieki zdrowotnej przekształconego na zasadach określonych w przepisach  o działalności leczniczej",true,3,2019,0,"2016-03-03","2016-03-03"]
[2016,"test","WIDUCHOWA",3206092,2,null,860,13.7,null," Wydatki bieżące na pokrycie ujemnego wyniku finansowego samodzielnego publicznego zakładu opieki zdrowotnej",true,1,2017,0,"2016-03-03","2016-03-03"]
[2016,"test","WIDUCHOWA",3206092,2,null,332,"5.1.1.1",null,"   kwota przypadających na dany rok kwot ustawowych wyłączeń określonych w art. 243 ust. 3 ustawy",true,9,2025,0,"2016-03-03","2016-03-03"]
[2016,"test","WIDUCHOWA",3206092,2,null,960,15.1,null," Środki z przedsięwzięcia gromadzone na rachunku bankowym,  w tym:",true,9,2025,0,"2016-03-03","2016-03-03"]
[2016,"test","WIDUCHOWA",3206092,2,null,508,9.5,"(([1.1] - [15.1.1])+[1.2.1] - ([2.1]-[2.1.2]-[15.2]))/ ([1]-[15.1.1])"," Wskaźnik dochodów bieżących powiększonych o dochody ze sprzedaży majątku oraz pomniejszonych o wydatki bieżące, do dochodów budżetu, ustalony dla danego roku (wskaźnik jednoroczny)",false,2,2018,7.85E-2,"2016-03-03","2016-03-03"]
[2016,"test","WIDUCHOWA",3206092,2,null,850,13.6,null," Wydatki na spłatę zobowiązań samodzielnego publicznego zakładu opieki zdrowotnej przejętych do końca 2011 r. na podstawie przepisów o zakładach opieki zdrowotnej",true,1,2017,0,"2016-03-03","2016-03-03"]
[2016,"test","WIDUCHOWA",3206092,2,null,766,"12.6.1",null,"  w tym w związku z już zawartą umową na realizację programu, projektu lub zadania",true,9,2025,0,"2016-03-03","2016-03-03"]
[2016,"test","WIDUCHOWA",3206092,2,null,110,"1.2.2",null,"  z tytułu dotacji oraz środków przeznaczonych na inwestycje",true,9,2025,0,"2016-03-03","2016-03-03"]
[2016,"test","WIDUCHOWA",3206092,2,null,240,4.2,null," Wolne środki, o których mowa w art. 217 ust.2 pkt 6 ustawy",false,8,2024,0,"2016-03-03","2016-03-03"]
[2016,"test","WIDUCHOWA",3206092,2,null,440,9,null,"Wskaźnik spłaty zobowiązań",false,4,2020,0,"2016-03-03","2016-03-03"]
[2016,"test","WIDUCHOWA",3206092,2,null,110,"1.2.2",null,"  z tytułu dotacji oraz środków przeznaczonych na inwestycje",true,1,2017,1272600,"2016-03-03","2016-03-03"]
[2016,"test","WIDUCHOWA",3206092,2,null,290,"4.4.1",null,"   w tym na pokrycie deficytu budżetu",false,1,2017,0,"2016-03-03","2016-03-03"]
[2016,"test","WIDUCHOWA",3206092,2,null,690,"12.1.1.1",null,"   - w tym środki określone w art. 5 ust. 1 pkt 2 ustawy wynikające wyłącznie z  zawartych umów na realizację programu, projektu lub zadania",true,0,2016,0,"2016-03-03","2016-03-03"]
[2016,"test","WIDUCHOWA",3206092,2,null,334,"5.1.1.2",null,"   kwota przypadających na dany rok kwot ustawowych wyłączeń określonych w art. 243 ust. 3a ustawy",true,3,2019,0,"2016-03-03","2016-03-03"]
[2016,"test","WIDUCHOWA",3206092,2,null,130,2.1,null," Wydatki bieżące, w tym:",true,4,2020,19060149,"2016-03-03","2016-03-03"]
[2016,"test","WIDUCHOWA",3206092,2,null,530,9.6999999999999993,"[9.6]-[9.4]"," Informacja o spełnieniu wskaźnika spłaty zobowiązań określonego w art. 243 ustawy, po uwzględnieniu zobowiązań związku współtworzonego przez jednostkę samorządu terytorialnego oraz po uwzględnieniu ustawowych wyłączeń, obliczonego w oparciu o plan 3 kwartałów roku poprzedzającego rok budżetowy",false,9,2025,548,"2016-03-03","2016-03-03"]
[2016,"test","WIDUCHOWA",3206092,2,null,650,11.6,null," Wydatki majątkowe w formie dotacji ",true,3,2019,0,"2016-03-03","2016-03-03"]
[2016,"test","WIDUCHOWA",3206092,2,null,30,"1.1.1",null,"  dochody z tytułu udziału we wpływach z podatku dochodowego od osób fizycznych",true,5,2021,2200000,"2016-03-03","2016-03-03"]
[2016,"test","WIDUCHOWA",3206092,2,null,980,15.2,null," Wydatki bieżące z tytułu świadczenia emitenta należnego obligatariuszom,  nieuwzględniane  w limicie spłaty zobowiązań, o którym mowa w art. 243 ustawy",true,0,2016,0,"2016-03-03","2016-03-03"]
[2016,"test","WIDUCHOWA",3206092,2,null,690,"12.1.1.1",null,"   - w tym środki określone w art. 5 ust. 1 pkt 2 ustawy wynikające wyłącznie z  zawartych umów na realizację programu, projektu lub zadania",true,6,2022,0,"2016-03-03","2016-03-03"]
[2016,"test","WIDUCHOWA",3206092,2,null,860,13.7,null," Wydatki bieżące na pokrycie ujemnego wyniku finansowego samodzielnego publicznego zakładu opieki zdrowotnej",true,7,2023,0,"2016-03-03","2016-03-03"]
[2016,"test","WIDUCHOWA",3206092,2,null,332,"5.1.1.1",null,"   kwota przypadających na dany rok kwot ustawowych wyłączeń określonych w art. 243 ust. 3 ustawy",true,4,2020,0,"2016-03-03","2016-03-03"]
[2016,"test","WIDUCHOWA",3206092,2,null,690,"12.1.1.1",null,"   - w tym środki określone w art. 5 ust. 1 pkt 2 ustawy wynikające wyłącznie z  zawartych umów na realizację programu, projektu lub zadania",true,1,2017,0,"2016-03-03","2016-03-03"]
[2016,"test","WIDUCHOWA",3206092,2,null,769,12.8,null," Przychody z tytułu kredytów, pożyczek, emisji papierów wartościowych powstające w związku z zawartą po dniu 1 stycznia 2013 r. umową na realizację programu, projektu lub zadania finansowanego w co najmniej 60% środkami, o których mowa w art. 5 ust. 1 pkt 2 ustawy",true,6,2022,0,"2016-03-03","2016-03-03"]
[2016,"test","WIDUCHOWA",3206092,2,null,510,9.6,null," Dopuszczalny wskaźnik spłaty zobowiązań określony w art. 243 ustawy, po uwzględnieniu ustawowych wyłączeń , obliczony w oparciu o plan 3 kwartału roku poprzedzającego pierwszy rok prognozy (wskaźnik ustalony w oparciu o średnią arytmetyczną z 3 poprzednich lat) ",true,6,2022,7.9699999999999993E-2,"2016-03-03","2016-03-03"]
[2016,"test","WIDUCHOWA",3206092,2,null,520,"9.6.1",null,"   Dopuszczalny wskaźnik spłaty zobowiązań określony w art. 243 ustawy, po uwzględnieniu ustawowych wyłączeń, obliczony w oparciu o wykonanie roku poprzedzającego pierwszy rok prognozy (wskaźnik ustalony w oparciu o średnią arytmetyczną z 3 poprzednich lat) ",true,8,2024,8.7400000000000005E-2,"2016-03-03","2016-03-03"]
[2016,"test","WIDUCHOWA",3206092,2,null,740,"12.3.1",null,"  -  w tym finansowane środkami określonymi w art. 5 ust. 1 pkt 2 ustawy ",false,3,2019,0,"2016-03-03","2016-03-03"]
[2016,"test","WIDUCHOWA",3206092,2,null,570,11,null,"Informacje uzupełniające o wybranych rodzajach wydatków budżetowych",false,8,2024,0,"2016-03-03","2016-03-03"]
[2016,"test","WIDUCHOWA",3206092,2,null,410,8,null,"Relacja zrównoważenia wydatków bieżących, o której mowa w art. 242 ustawy",true,7,2023,0,"2016-03-03","2016-03-03"]
[2016,"test","WIDUCHOWA",3206092,2,null,50,"1.1.3",null,"  podatki i opłaty",true,9,2025,5493000,"2016-03-03","2016-03-03"]
[2016,"test","WIDUCHOWA",3206092,2,null,334,"5.1.1.2",null,"   kwota przypadających na dany rok kwot ustawowych wyłączeń określonych w art. 243 ust. 3a ustawy",true,6,2022,0,"2016-03-03","2016-03-03"]
[2016,"test","WIDUCHOWA",3206092,2,null,766,"12.6.1",null,"  w tym w związku z już zawartą umową na realizację programu, projektu lub zadania",true,1,2017,0,"2016-03-03","2016-03-03"]
[2016,"test","WIDUCHOWA",3206092,2,null,790,13,null,"Kwoty dotyczące przejęcia i spłaty zobowiązań po samodzielnych publicznych zakładach opieki zdrowotnej oraz pokrycia ujemnego wyniku ",true,8,2024,0,"2016-03-03","2016-03-03"]
[2016,"test","WIDUCHOWA",3206092,2,null,590,11.2,null," Wydatki związane z funkcjonowaniem organów jednostki samorządu terytorialnego",true,8,2024,3100000,"2016-03-03","2016-03-03"]
[2016,"test","WIDUCHOWA",3206092,2,null,820,13.3,null," Wysokość zobowiązań podlegających umorzeniu, o którym mowa w art. 190 ustawy o działalności leczniczej",true,7,2023,0,"2016-03-03","2016-03-03"]
[2016,"test","WIDUCHOWA",3206092,2,null,332,"5.1.1.1",null,"   kwota przypadających na dany rok kwot ustawowych wyłączeń określonych w art. 243 ust. 3 ustawy",true,1,2017,0,"2016-03-03","2016-03-03"]
[2016,"test","WIDUCHOWA",3206092,2,null,690,"12.1.1.1",null,"   - w tym środki określone w art. 5 ust. 1 pkt 2 ustawy wynikające wyłącznie z  zawartych umów na realizację programu, projektu lub zadania",true,9,2025,0,"2016-03-03","2016-03-03"]
[2016,"test","WIDUCHOWA",3206092,2,null,990,16,null,"Stopnie niezachowania relacji określonych w art. 242-244 ustawy w przypadku określonym w @par16_1 ustawy",true,5,2021,0,"2016-03-03","2016-03-03"]
[2016,"test","WIDUCHOWA",3206092,2,null,760,12.4,null," Wydatki majątkowe na programy, projekty lub zadania finansowane z udziałem środków, o których mowa w art. 5 ust. 1 pkt 2 i 3 ustawy",true,3,2019,0,"2016-03-03","2016-03-03"]
[2016,"test","WIDUCHOWA",3206092,2,null,480,9.1999999999999993,"( ([2.1.1]-[2.1.1.1])+([2.1.3.1]-[2.1.3.1.1]-[2.1.3.1.2])+([5.1]-[5.1.1]) )/([1]-[15.1.1])"," Wskaźnik planowanej łącznej kwoty spłaty zobowiązań, o której mowa w art. 243 ust. 1 ustawy do dochodów, bez uwzględnienia zobowiązań związku współtworzonego przez jednostkę samorządu terytorialnego, po uwzględnieniu ustawowych wyłączeń przypadających na dany rok.",false,5,2021,6.7299999999999999E-2,"2016-03-03","2016-03-03"]
[2016,"test","WIDUCHOWA",3206092,2,null,680,"12.1.1",null,"  -  w tym środki określone w art. 5 ust. 1 pkt 2 ustawy",true,6,2022,0,"2016-03-03","2016-03-03"]
[2016,"test","WIDUCHOWA",3206092,2,null,280,4.4000000000000004,null," Inne przychody niezwiązane z zaciągnięciem długu",false,6,2022,0,"2016-03-03","2016-03-03"]
[2016,"test","WIDUCHOWA",3206092,2,null,960,15.1,null," Środki z przedsięwzięcia gromadzone na rachunku bankowym,  w tym:",true,3,2019,0,"2016-03-03","2016-03-03"]
[2016,"test","WIDUCHOWA",3206092,2,null,130,2.1,null," Wydatki bieżące, w tym:",true,1,2017,18333929,"2016-03-03","2016-03-03"]
[2016,"test","WIDUCHOWA",3206092,2,null,20,1.1000000000000001,null," Dochody bieżące",true,3,2019,20368748,"2016-03-03","2016-03-03"]
[2016,"test","WIDUCHOWA",3206092,2,null,800,13.1,null," Kwota zobowiązań wynikających z przejęcia przez jednostkę samorządu terytorialnego zobowiązań po likwidowanych i przekształcanych samodzielnych zakładach opieki zdrowotnej",true,2,2018,0,"2016-03-03","2016-03-03"]
[2016,"test","WIDUCHOWA",3206092,2,null,930,"14.3.3",null,"  wypłaty z tytułu wymagalnych poręczeń i gwarancji",true,0,2016,0,"2016-03-03","2016-03-03"]
[2016,"test","WIDUCHOWA",3206092,2,null,760,12.4,null," Wydatki majątkowe na programy, projekty lub zadania finansowane z udziałem środków, o których mowa w art. 5 ust. 1 pkt 2 i 3 ustawy",true,4,2020,0,"2016-03-03","2016-03-03"]
[2016,"test","WIDUCHOWA",3206092,2,null,200,3,"[1] -[2]","Wynik budżetu",false,8,2024,1548000,"2016-03-03","2016-03-03"]
[2016,"test","WIDUCHOWA",3206092,2,null,764,"12.5.1",null,"  w tym w związku z już zawartą umową na realizację programu, projektu lub zadania",true,2,2018,0,"2016-03-03","2016-03-03"]
[2016,"test","WIDUCHOWA",3206092,2,null,620,"11.3.2",null,"   majątkowe",true,7,2023,0,"2016-03-03","2016-03-03"]
[2016,"test","WIDUCHOWA",3206092,2,null,182,"2.1.3.1.1",null,"    odsetki i dyskonto podlegające wyłączeniu z limitu spłaty zobowiązań, o którym mowa w art. 243 ustawy, w terminie nie dłuższym niż 90 dni po zakończeniu programu, projektu lub zadania i otrzymaniu refundacji z tych środków (bez odsetek i dyskonta od zobowiązań na wkład krajowy)",false,4,2020,0,"2016-03-03","2016-03-03"]
[2016,"test","WIDUCHOWA",3206092,2,null,767,12.7,null," Przychody z tytułu kredytów, pożyczek, emisji papierów wartościowych powstające w związku z umową na realizację programu, projektu lub zadania finansowanego z udziałem środków, o których mowa w art. 5 ust. 1 pkt 2 ustawy bez względu na stopień finansowania tymi środkami ",true,9,2025,0,"2016-03-03","2016-03-03"]
[2016,"test","WIDUCHOWA",3206092,2,null,769,12.8,null," Przychody z tytułu kredytów, pożyczek, emisji papierów wartościowych powstające w związku z zawartą po dniu 1 stycznia 2013 r. umową na realizację programu, projektu lub zadania finansowanego w co najmniej 60% środkami, o których mowa w art. 5 ust. 1 pkt 2 ustawy",true,0,2016,0,"2016-03-03","2016-03-03"]
[2016,"test","WIDUCHOWA",3206092,2,null,740,"12.3.1",null,"  -  w tym finansowane środkami określonymi w art. 5 ust. 1 pkt 2 ustawy ",false,1,2017,0,"2016-03-03","2016-03-03"]
[2016,"test","WIDUCHOWA",3206092,2,null,270,"4.3.1",null,"   w tym na pokrycie deficytu budżetu",true,5,2021,0,"2016-03-03","2016-03-03"]
[2016,"test","WIDUCHOWA",3206092,2,null,332,"5.1.1.1",null,"   kwota przypadających na dany rok kwot ustawowych wyłączeń określonych w art. 243 ust. 3 ustawy",true,5,2021,0,"2016-03-03","2016-03-03"]
[2016,"test","WIDUCHOWA",3206092,2,null,950,15,null,"Dane dotyczące emitowanych obligacji przychodowych",true,7,2023,0,"2016-03-03","2016-03-03"]
[2016,"test","WIDUCHOWA",3206092,2,null,340,5.2,null," Inne rozchody niezwiązane ze spłatą długu",false,3,2019,0,"2016-03-03","2016-03-03"]
[2016,"test","WIDUCHOWA",3206092,2,null,960,15.1,null," Środki z przedsięwzięcia gromadzone na rachunku bankowym,  w tym:",true,7,2023,0,"2016-03-03","2016-03-03"]
[2016,"test","WIDUCHOWA",3206092,2,null,470,9.1,"([2.1.1] + [2.1.3.1] + [5.1] ) / [1]"," Wskaźnik planowanej łącznej kwoty spłaty zobowiązań, o której mowa w art. 243 ust. 1 ustawy do dochodów, bez uwzględnienia zobowiązań związku współtworzonego przez jednostkę samorządu terytorialnego  i bez uwzględnienia ustawowych wyłączeń przypadających na dany rok.",true,2,2018,4.4999999999999998E-2,"2016-03-03","2016-03-03"]
[2016,"test","WIDUCHOWA",3206092,2,null,410,8,null,"Relacja zrównoważenia wydatków bieżących, o której mowa w art. 242 ustawy",true,6,2022,0,"2016-03-03","2016-03-03"]
[2016,"test","WIDUCHOWA",3206092,2,null,350,6,null,"Kwota długu",true,3,2019,7958000,"2016-03-03","2016-03-03"]
[2016,"test","WIDUCHOWA",3206092,2,null,680,"12.1.1",null,"  -  w tym środki określone w art. 5 ust. 1 pkt 2 ustawy",true,5,2021,0,"2016-03-03","2016-03-03"]
[2016,"test","WIDUCHOWA",3206092,2,null,1020,16.3,null," Stopień niezachowania wskaźnika spłaty zobowiązań, o którym mowa w poz. 9.7.1.",true,6,2022,0,"2016-03-03","2016-03-03"]
[2016,"test","WIDUCHOWA",3206092,2,null,762,"12.4.2",null,"  Wydatki majątkowe na realizację programu, projektu lub zadania wynikające wyłącznie z zawartych umów z podmiotem dysponującym środkami, o których mowa w art. 5 ust. 1 pkt 2 ustawy ",true,5,2021,0,"2016-03-03","2016-03-03"]
[2016,"test","WIDUCHOWA",3206092,2,null,180,"2.1.3.1",null,"   odsetki i dyskonto określone w art. 243 ust. 1 ustawy, w tym:",false,9,2025,26000,"2016-03-03","2016-03-03"]
[2016,"test","WIDUCHOWA",3206092,2,null,240,4.2,null," Wolne środki, o których mowa w art. 217 ust.2 pkt 6 ustawy",false,6,2022,0,"2016-03-03","2016-03-03"]
[2016,"test","WIDUCHOWA",3206092,2,null,350,6,null,"Kwota długu",true,2,2018,9275000,"2016-03-03","2016-03-03"]
[2016,"test","WIDUCHOWA",3206092,2,null,40,"1.1.2",null,"  dochody z tytułu udziału we wpływach z podatku dochodowego od osób prawnych",true,4,2020,11000,"2016-03-03","2016-03-03"]
[2016,"test","WIDUCHOWA",3206092,2,null,520,"9.6.1",null,"   Dopuszczalny wskaźnik spłaty zobowiązań określony w art. 243 ustawy, po uwzględnieniu ustawowych wyłączeń, obliczony w oparciu o wykonanie roku poprzedzającego pierwszy rok prognozy (wskaźnik ustalony w oparciu o średnią arytmetyczną z 3 poprzednich lat) ",true,6,2022,7.9699999999999993E-2,"2016-03-03","2016-03-03"]
[2016,"test","WIDUCHOWA",3206092,2,null,220,4.0999999999999996,null," Nadwyżka budżetowa z lat ubiegłych",false,4,2020,0,"2016-03-03","2016-03-03"]
[2016,"test","WIDUCHOWA",3206092,2,null,960,15.1,null," Środki z przedsięwzięcia gromadzone na rachunku bankowym,  w tym:",true,4,2020,0,"2016-03-03","2016-03-03"]
[2016,"test","WIDUCHOWA",3206092,2,null,950,15,null,"Dane dotyczące emitowanych obligacji przychodowych",true,8,2024,0,"2016-03-03","2016-03-03"]
[2016,"test","WIDUCHOWA",3206092,2,null,150,"2.1.1.1",null,"   w tym: gwarancje i poręczenia podlegające wyłączeniu z limitu spłaty zobowiązań, o którym mowa w art. 243 ustawy",true,4,2020,0,"2016-03-03","2016-03-03"]
[2016,"test","WIDUCHOWA",3206092,2,null,1020,16.3,null," Stopień niezachowania wskaźnika spłaty zobowiązań, o którym mowa w poz. 9.7.1.",true,2,2018,0,"2016-03-03","2016-03-03"]
[2016,"test","WIDUCHOWA",3206092,2,null,766,"12.6.1",null,"  w tym w związku z już zawartą umową na realizację programu, projektu lub zadania",true,3,2019,0,"2016-03-03","2016-03-03"]
[2016,"test","WIDUCHOWA",3206092,2,null,290,"4.4.1",null,"   w tym na pokrycie deficytu budżetu",false,7,2023,0,"2016-03-03","2016-03-03"]
[2016,"test","WIDUCHOWA",3206092,2,null,220,4.0999999999999996,null," Nadwyżka budżetowa z lat ubiegłych",false,3,2019,0,"2016-03-03","2016-03-03"]
[2016,"test","WIDUCHOWA",3206092,2,null,10,1,"[1.1] + [1.2]","Dochody ogółem",true,4,2020,20707811,"2016-03-03","2016-03-03"]
[2016,"test","WIDUCHOWA",3206092,2,null,700,12.2,null," Dochody majątkowe  na programy, projekty lub zadania finansowane z udziałem środków, o których mowa w art. 5 ust. 1 pkt 2 i 3 ustawy",false,5,2021,0,"2016-03-03","2016-03-03"]
[2016,"test","WIDUCHOWA",3206092,2,null,420,8.1,"[1.1] - [2.1]"," Różnica między dochodami bieżącymi a  wydatkami bieżącymi",false,8,2024,1563945,"2016-03-03","2016-03-03"]
[2016,"test","WIDUCHOWA",3206092,2,null,1010,16.2,null," Stopień niezachowania wskaźnika spłaty zobowiązań, o którym mowa w poz. 9.7.",true,9,2025,0,"2016-03-03","2016-03-03"]
[2016,"test","WIDUCHOWA",3206092,2,null,490,9.3000000000000007,null," Kwota zobowiązań związku współtworzonego przez jednostkę samorządu terytorialnego przypadających do spłaty w danym roku budżetowym, podlegająca doliczeniu zgodnie z art. 244 ustawy",true,0,2016,0,"2016-03-03","2016-03-03"]
[2016,"test","WIDUCHOWA",3206092,2,null,230,"4.1.1",null,"  w tym na pokrycie deficytu budżetu",false,1,2017,0,"2016-03-03","2016-03-03"]
[2016,"test","WIDUCHOWA",3206092,2,null,340,5.2,null," Inne rozchody niezwiązane ze spłatą długu",false,1,2017,0,"2016-03-03","2016-03-03"]
[2016,"test","WIDUCHOWA",3206092,2,null,40,"1.1.2",null,"  dochody z tytułu udziału we wpływach z podatku dochodowego od osób prawnych",true,6,2022,13000,"2016-03-03","2016-03-03"]
[2016,"test","WIDUCHOWA",3206092,2,null,410,8,null,"Relacja zrównoważenia wydatków bieżących, o której mowa w art. 242 ustawy",true,4,2020,0,"2016-03-03","2016-03-03"]
[2016,"test","WIDUCHOWA",3206092,2,null,430,8.1999999999999993,"[1.1] + [4.1] + [4.2] - (  [2.1] - [2.1.2]  )"," Różnica między dochodami bieżącymi, skorygowanymi o środki a wydatkami bieżącymi, pomniejszonymi  o wydatki",false,5,2021,1396481,"2016-03-03","2016-03-03"]
[2016,"test","WIDUCHOWA",3206092,2,null,490,9.3000000000000007,null," Kwota zobowiązań związku współtworzonego przez jednostkę samorządu terytorialnego przypadających do spłaty w danym roku budżetowym, podlegająca doliczeniu zgodnie z art. 244 ustawy",true,9,2025,0,"2016-03-03","2016-03-03"]
[2016,"test","WIDUCHOWA",3206092,2,null,560,10.1,null," Spłaty kredytów, pożyczek i wykup papierów wartościowych",false,8,2024,1548000,"2016-03-03","2016-03-03"]
[2016,"test","WIDUCHOWA",3206092,2,null,590,11.2,null," Wydatki związane z funkcjonowaniem organów jednostki samorządu terytorialnego",true,3,2019,2600000,"2016-03-03","2016-03-03"]
[2016,"test","WIDUCHOWA",3206092,2,null,300,5,"[5.1] + [5.2]","Rozchody budżetu",false,2,2018,600000,"2016-03-03","2016-03-03"]
[2016,"test","WIDUCHOWA",3206092,2,null,290,"4.4.1",null,"   w tym na pokrycie deficytu budżetu",false,0,2016,0,"2016-03-03","2016-03-03"]
[2016,"test","WIDUCHOWA",3206092,2,null,760,12.4,null," Wydatki majątkowe na programy, projekty lub zadania finansowane z udziałem środków, o których mowa w art. 5 ust. 1 pkt 2 i 3 ustawy",true,0,2016,727050,"2016-03-03","2016-03-03"]
[2016,"test","WIDUCHOWA",3206092,2,null,320,"5.1.1","[5.1.1.1] + [5.1.1.2] + [5.1.1.3]","  w tym łączna kwota przypadających na dany rok kwot ustawowych wyłączeń z limitu spłaty zobowiązań, o którym mowa w art. 243 ustawy, z tego:",true,0,2016,0,"2016-03-03","2016-03-03"]
[2016,"test","WIDUCHOWA",3206092,2,null,730,12.3,null," Wydatki bieżące na programy, projekty lub zadania finansowane z udziałem środków, o których mowa w art. 5 ust. 1 pkt 2 i 3 ustawy",false,1,2017,0,"2016-03-03","2016-03-03"]
[2016,"test","WIDUCHOWA",3206092,2,null,660,12,null,"Finansowanie programów, projektów lub zadań realizowanych z udziałem środków, o których mowa w art. 5 ust. 1 pkt 2 i 3 ustawy",true,0,2016,0,"2016-03-03","2016-03-03"]
[2016,"test","WIDUCHOWA",3206092,2,null,640,11.5,null," Nowe wydatki inwestycyjne",true,1,2017,2000000,"2016-03-03","2016-03-03"]
[2016,"test","WIDUCHOWA",3206092,2,null,210,4,"[4.1] + [4.2] + [4.3] + [4.4]","Przychody budżetu",false,8,2024,0,"2016-03-03","2016-03-03"]
[2016,"test","WIDUCHOWA",3206092,2,null,730,12.3,null," Wydatki bieżące na programy, projekty lub zadania finansowane z udziałem środków, o których mowa w art. 5 ust. 1 pkt 2 i 3 ustawy",false,5,2021,0,"2016-03-03","2016-03-03"]
[2016,"test","WIDUCHOWA",3206092,2,null,630,11.4,null," Wydatki inwestycyjne kontynuowane ",true,5,2021,0,"2016-03-03","2016-03-03"]
[2016,"test","WIDUCHOWA",3206092,2,null,800,13.1,null," Kwota zobowiązań wynikających z przejęcia przez jednostkę samorządu terytorialnego zobowiązań po likwidowanych i przekształcanych samodzielnych zakładach opieki zdrowotnej",true,5,2021,0,"2016-03-03","2016-03-03"]
[2016,"test","WIDUCHOWA",3206092,2,null,766,"12.6.1",null,"  w tym w związku z już zawartą umową na realizację programu, projektu lub zadania",true,7,2023,0,"2016-03-03","2016-03-03"]
[2016,"test","WIDUCHOWA",3206092,2,null,760,12.4,null," Wydatki majątkowe na programy, projekty lub zadania finansowane z udziałem środków, o których mowa w art. 5 ust. 1 pkt 2 i 3 ustawy",true,6,2022,0,"2016-03-03","2016-03-03"]
[2016,"test","WIDUCHOWA",3206092,2,null,990,16,null,"Stopnie niezachowania relacji określonych w art. 242-244 ustawy w przypadku określonym w @par16_1 ustawy",true,2,2018,0,"2016-03-03","2016-03-03"]
[2016,"test","WIDUCHOWA",3206092,2,null,500,9.4,"(([2.1.1]-[2.1.1.1]) + ([2.1.3.1]-[2.1.3.1.1]-[2.1.3.1.2])+([5.1]-[5.1.1])+[9.3]) /([1]-[15.1.1])"," Wskaźnik planowanej łącznej kwoty spłaty zobowiązań, o której mowa w art. 243 ust. 1 ustawy do dochodów, po uwzględnieniu zobowiązań związku współtworzonego przez jednostkę samorządu terytorialnego oraz po uwzględnieniu ustawowych wyłączeń przypadających na dany rok",false,8,2024,7.3599999999999999E-2,"2016-03-03","2016-03-03"]
[2016,"test","WIDUCHOWA",3206092,2,null,110,"1.2.2",null,"  z tytułu dotacji oraz środków przeznaczonych na inwestycje",true,2,2018,0,"2016-03-03","2016-03-03"]
[2016,"test","WIDUCHOWA",3206092,2,null,290,"4.4.1",null,"   w tym na pokrycie deficytu budżetu",false,5,2021,0,"2016-03-03","2016-03-03"]
[2016,"test","WIDUCHOWA",3206092,2,null,182,"2.1.3.1.1",null,"    odsetki i dyskonto podlegające wyłączeniu z limitu spłaty zobowiązań, o którym mowa w art. 243 ustawy, w terminie nie dłuższym niż 90 dni po zakończeniu programu, projektu lub zadania i otrzymaniu refundacji z tych środków (bez odsetek i dyskonta od zobowiązań na wkład krajowy)",false,7,2023,0,"2016-03-03","2016-03-03"]
[2016,"test","WIDUCHOWA",3206092,2,null,600,11.3,"[11.3.1] + [11.3.2]"," Wydatki objęte limitem, o którym mowa w art. 226 ust. 3 pkt 4 ustawy",true,7,2023,0,"2016-03-03","2016-03-03"]
[2016,"test","WIDUCHOWA",3206092,2,null,880,14.1,null," Spłaty rat kapitałowych oraz wykup papierów wartościowych, o których mowa w pkt. 5.1., wynikające wyłącznie z tytułu zobowiązań już zaciągniętych",true,1,2017,600000,"2016-03-03","2016-03-03"]
[2016,"test","WIDUCHOWA",3206092,2,null,500,9.4,"(([2.1.1]-[2.1.1.1]) + ([2.1.3.1]-[2.1.3.1.1]-[2.1.3.1.2])+([5.1]-[5.1.1])+[9.3]) /([1]-[15.1.1])"," Wskaźnik planowanej łącznej kwoty spłaty zobowiązań, o której mowa w art. 243 ust. 1 ustawy do dochodów, po uwzględnieniu zobowiązań związku współtworzonego przez jednostkę samorządu terytorialnego oraz po uwzględnieniu ustawowych wyłączeń przypadających na dany rok",false,0,2016,3.2599999999999997E-2,"2016-03-03","2016-03-03"]
[2016,"test","WIDUCHOWA",3206092,2,null,420,8.1,"[1.1] - [2.1]"," Różnica między dochodami bieżącymi a  wydatkami bieżącymi",false,4,2020,1247662,"2016-03-03","2016-03-03"]
[2016,"test","WIDUCHOWA",3206092,2,null,270,"4.3.1",null,"   w tym na pokrycie deficytu budżetu",true,1,2017,0,"2016-03-03","2016-03-03"]
[2016,"test","WIDUCHOWA",3206092,2,null,300,5,"[5.1] + [5.2]","Rozchody budżetu",false,8,2024,1548000,"2016-03-03","2016-03-03"]
[2016,"test","WIDUCHOWA",3206092,2,null,40,"1.1.2",null,"  dochody z tytułu udziału we wpływach z podatku dochodowego od osób prawnych",true,7,2023,14000,"2016-03-03","2016-03-03"]
[2016,"test","WIDUCHOWA",3206092,2,null,640,11.5,null," Nowe wydatki inwestycyjne",true,0,2016,1256151,"2016-03-03","2016-03-03"]
[2016,"test","WIDUCHOWA",3206092,2,null,610,"11.3.1",null,"   bieżące",true,5,2021,0,"2016-03-03","2016-03-03"]
[2016,"test","WIDUCHOWA",3206092,2,null,740,"12.3.1",null,"  -  w tym finansowane środkami określonymi w art. 5 ust. 1 pkt 2 ustawy ",false,5,2021,0,"2016-03-03","2016-03-03"]
[2016,"test","WIDUCHOWA",3206092,2,null,830,13.4,null," Wydatki na spłatę przejętych zobowiązań samodzielnego publicznego zakładu opieki zdrowotnej przekształconego na zasadach określonych w przepisach  o działalności leczniczej",true,0,2016,0,"2016-03-03","2016-03-03"]
[2016,"test","WIDUCHOWA",3206092,2,null,150,"2.1.1.1",null,"   w tym: gwarancje i poręczenia podlegające wyłączeniu z limitu spłaty zobowiązań, o którym mowa w art. 243 ustawy",true,9,2025,0,"2016-03-03","2016-03-03"]
[2016,"test","WIDUCHOWA",3206092,2,null,520,"9.6.1",null,"   Dopuszczalny wskaźnik spłaty zobowiązań określony w art. 243 ustawy, po uwzględnieniu ustawowych wyłączeń, obliczony w oparciu o wykonanie roku poprzedzającego pierwszy rok prognozy (wskaźnik ustalony w oparciu o średnią arytmetyczną z 3 poprzednich lat) ",true,3,2019,8.1199999999999994E-2,"2016-03-03","2016-03-03"]
[2016,"test","WIDUCHOWA",3206092,2,null,160,"2.1.2",null,"   na spłatę przejętych zobowiązań samodzielnego publicznego zakładu opieki zdrowotnej przekształconego na zasadach określonych w przepisach  o działalności leczniczej, w wysokości w jakiej nie podlegają sfinansowaniu dotacją z budżetu państwa",true,8,2024,0,"2016-03-03","2016-03-03"]
[2016,"test","WIDUCHOWA",3206092,2,null,970,"15.1.1",null,"  środki na zaspokojenie roszczeń obligatariuszy",true,8,2024,0,"2016-03-03","2016-03-03"]
[2016,"test","WIDUCHOWA",3206092,2,null,730,12.3,null," Wydatki bieżące na programy, projekty lub zadania finansowane z udziałem środków, o których mowa w art. 5 ust. 1 pkt 2 i 3 ustawy",false,8,2024,0,"2016-03-03","2016-03-03"]
[2016,"test","WIDUCHOWA",3206092,2,null,970,"15.1.1",null,"  środki na zaspokojenie roszczeń obligatariuszy",true,7,2023,0,"2016-03-03","2016-03-03"]
[2016,"test","WIDUCHOWA",3206092,2,null,680,"12.1.1",null,"  -  w tym środki określone w art. 5 ust. 1 pkt 2 ustawy",true,4,2020,0,"2016-03-03","2016-03-03"]
[2016,"test","WIDUCHOWA",3206092,2,null,184,"2.1.3.1.2",null,"    odsetki i dyskonto podlegające wyłączeniu z limitu spłaty zobowiązań, o którym mowa w art. 243 ustawy, z tytułu zobowiązań  zaciągniętych na wkład krajowy",false,1,2017,93200,"2016-03-03","2016-03-03"]
[2016,"test","WIDUCHOWA",3206092,2,null,720,"12.2.1.1",null,"    - w tym środki określone w art. 5 ust. 1 pkt 2 ustawy wynikające wyłącznie z zawartych umów na realizację programu, projektu lub zadania",false,2,2018,0,"2016-03-03","2016-03-03"]
[2016,"test","WIDUCHOWA",3206092,2,null,1010,16.2,null," Stopień niezachowania wskaźnika spłaty zobowiązań, o którym mowa w poz. 9.7.",true,0,2016,0,"2016-03-03","2016-03-03"]
[2016,"test","WIDUCHOWA",3206092,2,null,400,7,null,"Kwota zobowiązań wynikających z przejęcia przez jednostkę samorządu terytorialnego zobowiązań po likwidowanych i przekształcanych jednostkach zaliczanych do sektora  finansów publicznych",true,9,2025,0,"2016-03-03","2016-03-03"]
[2016,"test","WIDUCHOWA",3206092,2,null,590,11.2,null," Wydatki związane z funkcjonowaniem organów jednostki samorządu terytorialnego",true,7,2023,3000000,"2016-03-03","2016-03-03"]
[2016,"test","WIDUCHOWA",3206092,2,null,810,13.2,null," Dochody budżetowe z tytułu dotacji celowej z budżetu państwa, o której mowa w art. 196 ustawy z  dnia 15 kwietnia 2011 r.  o działalności leczniczej (Dz.U. Nr 112, poz. 654, z późn. zm.)",true,0,2016,0,"2016-03-03","2016-03-03"]
[2016,"test","WIDUCHOWA",3206092,2,null,790,13,null,"Kwoty dotyczące przejęcia i spłaty zobowiązań po samodzielnych publicznych zakładach opieki zdrowotnej oraz pokrycia ujemnego wyniku ",true,7,2023,0,"2016-03-03","2016-03-03"]
[2016,"test","WIDUCHOWA",3206092,2,null,768,"12.7.1",null,"  w tym w związku z już zawartą umową na realizację programu, projektu lub zadania",true,0,2016,0,"2016-03-03","2016-03-03"]
[2016,"test","WIDUCHOWA",3206092,2,null,430,8.1999999999999993,"[1.1] + [4.1] + [4.2] - (  [2.1] - [2.1.2]  )"," Różnica między dochodami bieżącymi, skorygowanymi o środki a wydatkami bieżącymi, pomniejszonymi  o wydatki",false,2,2018,1204150,"2016-03-03","2016-03-03"]
[2016,"test","WIDUCHOWA",3206092,2,null,930,"14.3.3",null,"  wypłaty z tytułu wymagalnych poręczeń i gwarancji",true,5,2021,0,"2016-03-03","2016-03-03"]
[2016,"test","WIDUCHOWA",3206092,2,null,761,"12.4.1",null,"  -  w tym finansowane środkami określonymi w art. 5 ust. 1 pkt 2 ustawy",true,4,2020,0,"2016-03-03","2016-03-03"]
[2016,"test","WIDUCHOWA",3206092,2,null,850,13.6,null," Wydatki na spłatę zobowiązań samodzielnego publicznego zakładu opieki zdrowotnej przejętych do końca 2011 r. na podstawie przepisów o zakładach opieki zdrowotnej",true,5,2021,0,"2016-03-03","2016-03-03"]
[2016,"test","WIDUCHOWA",3206092,2,null,910,"14.3.1",null,"  spłata zobowiązań wymagalnych z lat poprzednich, innych niż w pkt 14.3.3",true,8,2024,0,"2016-03-03","2016-03-03"]
[2016,"test","WIDUCHOWA",3206092,2,null,500,9.4,"(([2.1.1]-[2.1.1.1]) + ([2.1.3.1]-[2.1.3.1.1]-[2.1.3.1.2])+([5.1]-[5.1.1])+[9.3]) /([1]-[15.1.1])"," Wskaźnik planowanej łącznej kwoty spłaty zobowiązań, o której mowa w art. 243 ust. 1 ustawy do dochodów, po uwzględnieniu zobowiązań związku współtworzonego przez jednostkę samorządu terytorialnego oraz po uwzględnieniu ustawowych wyłączeń przypadających na dany rok",false,1,2017,4.0099999999999997E-2,"2016-03-03","2016-03-03"]
[2016,"test","WIDUCHOWA",3206092,2,null,960,15.1,null," Środki z przedsięwzięcia gromadzone na rachunku bankowym,  w tym:",true,2,2018,0,"2016-03-03","2016-03-03"]
[2016,"test","WIDUCHOWA",3206092,2,null,580,11.1,null," Wydatki bieżące na wynagrodzenia i składki od nich naliczane",false,4,2020,8070371,"2016-03-03","2016-03-03"]
[2016,"test","WIDUCHOWA",3206092,2,null,336,"5.1.1.3",null,"   kwota przypadających na dany rok kwot ustawowych wyłączeń innych niż określone w art. 243 ustawy",true,1,2017,0,"2016-03-03","2016-03-03"]
[2016,"test","WIDUCHOWA",3206092,2,null,880,14.1,null," Spłaty rat kapitałowych oraz wykup papierów wartościowych, o których mowa w pkt. 5.1., wynikające wyłącznie z tytułu zobowiązań już zaciągniętych",true,4,2020,1300000,"2016-03-03","2016-03-03"]
[2016,"test","WIDUCHOWA",3206092,2,null,770,"12.8.1",null,"  w tym w związku z już zawartą umową na realizację programu, projektu lub zadania",true,6,2022,0,"2016-03-03","2016-03-03"]
[2016,"test","WIDUCHOWA",3206092,2,null,764,"12.5.1",null,"  w tym w związku z już zawartą umową na realizację programu, projektu lub zadania",true,6,2022,0,"2016-03-03","2016-03-03"]
[2016,"test","WIDUCHOWA",3206092,2,null,990,16,null,"Stopnie niezachowania relacji określonych w art. 242-244 ustawy w przypadku określonym w @par16_1 ustawy",true,6,2022,0,"2016-03-03","2016-03-03"]
[2016,"test","WIDUCHOWA",3206092,2,null,763,12.5,null," Wydatki na wkład krajowy w związku z umową na realizację programu, projektu lub zadania finansowanego z udziałem środków, o których mowa w art. 5 ust. 1 pkt 2 ustawy bez względu na stopień finansowania tymi środkami ",true,9,2025,0,"2016-03-03","2016-03-03"]
[2016,"test","WIDUCHOWA",3206092,2,null,710,"12.2.1",null,"   -  w tym środki określone w art. 5 ust. 1 pkt 2 ustawy",false,8,2024,0,"2016-03-03","2016-03-03"]
[2016,"test","WIDUCHOWA",3206092,2,null,1000,16.100000000000001,null," Stopień niezachowania relacji zrównoważenia wydatków bieżących, o której mowa w poz. 8.2.",true,6,2022,0,"2016-03-03","2016-03-03"]
[2016,"test","WIDUCHOWA",3206092,2,null,410,8,null,"Relacja zrównoważenia wydatków bieżących, o której mowa w art. 242 ustawy",true,0,2016,0,"2016-03-03","2016-03-03"]
[2016,"test","WIDUCHOWA",3206092,2,null,130,2.1,null," Wydatki bieżące, w tym:",true,5,2021,18966564,"2016-03-03","2016-03-03"]
[2016,"test","WIDUCHOWA",3206092,2,null,880,14.1,null," Spłaty rat kapitałowych oraz wykup papierów wartościowych, o których mowa w pkt. 5.1., wynikające wyłącznie z tytułu zobowiązań już zaciągniętych",true,0,2016,400000,"2016-03-03","2016-03-03"]
[2016,"test","WIDUCHOWA",3206092,2,null,10,1,"[1.1] + [1.2]","Dochody ogółem",true,2,2018,20445387,"2016-03-03","2016-03-03"]
[2016,"test","WIDUCHOWA",3206092,2,null,500,9.4,"(([2.1.1]-[2.1.1.1]) + ([2.1.3.1]-[2.1.3.1.1]-[2.1.3.1.2])+([5.1]-[5.1.1])+[9.3]) /([1]-[15.1.1])"," Wskaźnik planowanej łącznej kwoty spłaty zobowiązań, o której mowa w art. 243 ust. 1 ustawy do dochodów, po uwzględnieniu zobowiązań związku współtworzonego przez jednostkę samorządu terytorialnego oraz po uwzględnieniu ustawowych wyłączeń przypadających na dany rok",false,9,2025,3.3500000000000002E-2,"2016-03-03","2016-03-03"]
[2016,"test","WIDUCHOWA",3206092,2,null,761,"12.4.1",null,"  -  w tym finansowane środkami określonymi w art. 5 ust. 1 pkt 2 ustawy",true,2,2018,0,"2016-03-03","2016-03-03"]
[2016,"test","WIDUCHOWA",3206092,2,null,260,4.3,null,"  Kredyty, pożyczki, emisja papierów wartościowych",true,1,2017,0,"2016-03-03","2016-03-03"]
[2016,"test","WIDUCHOWA",3206092,2,null,970,"15.1.1",null,"  środki na zaspokojenie roszczeń obligatariuszy",true,6,2022,0,"2016-03-03","2016-03-03"]
[2016,"test","WIDUCHOWA",3206092,2,null,320,"5.1.1","[5.1.1.1] + [5.1.1.2] + [5.1.1.3]","  w tym łączna kwota przypadających na dany rok kwot ustawowych wyłączeń z limitu spłaty zobowiązań, o którym mowa w art. 243 ustawy, z tego:",true,9,2025,0,"2016-03-03","2016-03-03"]
[2016,"test","WIDUCHOWA",3206092,2,null,820,13.3,null," Wysokość zobowiązań podlegających umorzeniu, o którym mowa w art. 190 ustawy o działalności leczniczej",true,2,2018,0,"2016-03-03","2016-03-03"]
[2016,"test","WIDUCHOWA",3206092,2,null,480,9.1999999999999993,"( ([2.1.1]-[2.1.1.1])+([2.1.3.1]-[2.1.3.1.1]-[2.1.3.1.2])+([5.1]-[5.1.1]) )/([1]-[15.1.1])"," Wskaźnik planowanej łącznej kwoty spłaty zobowiązań, o której mowa w art. 243 ust. 1 ustawy do dochodów, bez uwzględnienia zobowiązań związku współtworzonego przez jednostkę samorządu terytorialnego, po uwzględnieniu ustawowych wyłączeń przypadających na dany rok.",false,8,2024,7.3599999999999999E-2,"2016-03-03","2016-03-03"]
[2016,"test","WIDUCHOWA",3206092,2,null,700,12.2,null," Dochody majątkowe  na programy, projekty lub zadania finansowane z udziałem środków, o których mowa w art. 5 ust. 1 pkt 2 i 3 ustawy",false,0,2016,462622,"2016-03-03","2016-03-03"]
[2016,"test","WIDUCHOWA",3206092,2,null,763,12.5,null," Wydatki na wkład krajowy w związku z umową na realizację programu, projektu lub zadania finansowanego z udziałem środków, o których mowa w art. 5 ust. 1 pkt 2 ustawy bez względu na stopień finansowania tymi środkami ",true,4,2020,0,"2016-03-03","2016-03-03"]
[2016,"test","WIDUCHOWA",3206092,2,null,763,12.5,null," Wydatki na wkład krajowy w związku z umową na realizację programu, projektu lub zadania finansowanego z udziałem środków, o których mowa w art. 5 ust. 1 pkt 2 ustawy bez względu na stopień finansowania tymi środkami ",true,6,2022,0,"2016-03-03","2016-03-03"]
[2016,"test","WIDUCHOWA",3206092,2,null,930,"14.3.3",null,"  wypłaty z tytułu wymagalnych poręczeń i gwarancji",true,7,2023,0,"2016-03-03","2016-03-03"]
[2016,"test","WIDUCHOWA",3206092,2,null,420,8.1,"[1.1] - [2.1]"," Różnica między dochodami bieżącymi a  wydatkami bieżącymi",false,2,2018,1204150,"2016-03-03","2016-03-03"]
[2016,"test","WIDUCHOWA",3206092,2,null,830,13.4,null," Wydatki na spłatę przejętych zobowiązań samodzielnego publicznego zakładu opieki zdrowotnej przekształconego na zasadach określonych w przepisach  o działalności leczniczej",true,9,2025,0,"2016-03-03","2016-03-03"]
[2016,"test","WIDUCHOWA",3206092,2,null,770,"12.8.1",null,"  w tym w związku z już zawartą umową na realizację programu, projektu lub zadania",true,8,2024,0,"2016-03-03","2016-03-03"]
[2016,"test","WIDUCHOWA",3206092,2,null,250,"4.2.1",null,"   w tym na pokrycie deficytu budżetu",false,9,2025,0,"2016-03-03","2016-03-03"]
[2016,"test","WIDUCHOWA",3206092,2,null,830,13.4,null," Wydatki na spłatę przejętych zobowiązań samodzielnego publicznego zakładu opieki zdrowotnej przekształconego na zasadach określonych w przepisach  o działalności leczniczej",true,5,2021,0,"2016-03-03","2016-03-03"]
[2016,"test","WIDUCHOWA",3206092,2,null,600,11.3,"[11.3.1] + [11.3.2]"," Wydatki objęte limitem, o którym mowa w art. 226 ust. 3 pkt 4 ustawy",true,1,2017,2431100,"2016-03-03","2016-03-03"]
[2016,"test","WIDUCHOWA",3206092,2,null,140,"2.1.1",null,"  z tytułu poręczeń i gwarancji",true,5,2021,0,"2016-03-03","2016-03-03"]
[2016,"test","WIDUCHOWA",3206092,2,null,210,4,"[4.1] + [4.2] + [4.3] + [4.4]","Przychody budżetu",false,4,2020,0,"2016-03-03","2016-03-03"]
[2016,"test","WIDUCHOWA",3206092,2,null,332,"5.1.1.1",null,"   kwota przypadających na dany rok kwot ustawowych wyłączeń określonych w art. 243 ust. 3 ustawy",true,6,2022,0,"2016-03-03","2016-03-03"]
[2016,"test","WIDUCHOWA",3206092,2,null,290,"4.4.1",null,"   w tym na pokrycie deficytu budżetu",false,4,2020,0,"2016-03-03","2016-03-03"]
[2016,"test","WIDUCHOWA",3206092,2,null,740,"12.3.1",null,"  -  w tym finansowane środkami określonymi w art. 5 ust. 1 pkt 2 ustawy ",false,0,2016,0,"2016-03-03","2016-03-03"]
[2016,"test","WIDUCHOWA",3206092,2,null,120,2,"[2.1] + [2.2]","Wydatki ogółem",false,9,2025,21812625,"2016-03-03","2016-03-03"]
[2016,"test","WIDUCHOWA",3206092,2,null,200,3,"[1] -[2]","Wynik budżetu",false,4,2020,1300000,"2016-03-03","2016-03-03"]
[2016,"test","WIDUCHOWA",3206092,2,null,940,14.4,null," Wynik operacji niekasowych wpływających na kwotę długu ( m.in. umorzenia, różnice kursowe)",true,4,2020,0,"2016-03-03","2016-03-03"]
[2016,"test","WIDUCHOWA",3206092,2,null,336,"5.1.1.3",null,"   kwota przypadających na dany rok kwot ustawowych wyłączeń innych niż określone w art. 243 ustawy",true,3,2019,0,"2016-03-03","2016-03-03"]
[2016,"test","WIDUCHOWA",3206092,2,null,210,4,"[4.1] + [4.2] + [4.3] + [4.4]","Przychody budżetu",false,7,2023,0,"2016-03-03","2016-03-03"]
[2016,"test","WIDUCHOWA",3206092,2,null,610,"11.3.1",null,"   bieżące",true,1,2017,270100,"2016-03-03","2016-03-03"]
[2016,"test","WIDUCHOWA",3206092,2,null,790,13,null,"Kwoty dotyczące przejęcia i spłaty zobowiązań po samodzielnych publicznych zakładach opieki zdrowotnej oraz pokrycia ujemnego wyniku ",true,6,2022,0,"2016-03-03","2016-03-03"]
[2016,"test","WIDUCHOWA",3206092,2,null,1000,16.100000000000001,null," Stopień niezachowania relacji zrównoważenia wydatków bieżących, o której mowa w poz. 8.2.",true,2,2018,0,"2016-03-03","2016-03-03"]
[2016,"test","WIDUCHOWA",3206092,2,null,930,"14.3.3",null,"  wypłaty z tytułu wymagalnych poręczeń i gwarancji",true,4,2020,0,"2016-03-03","2016-03-03"]
[2016,"test","WIDUCHOWA",3206092,2,null,990,16,null,"Stopnie niezachowania relacji określonych w art. 242-244 ustawy w przypadku określonym w @par16_1 ustawy",true,3,2019,0,"2016-03-03","2016-03-03"]
[2016,"test","WIDUCHOWA",3206092,2,null,970,"15.1.1",null,"  środki na zaspokojenie roszczeń obligatariuszy",true,9,2025,0,"2016-03-03","2016-03-03"]
[2016,"test","WIDUCHOWA",3206092,2,null,270,"4.3.1",null,"   w tym na pokrycie deficytu budżetu",true,2,2018,0,"2016-03-03","2016-03-03"]
[2016,"test","WIDUCHOWA",3206092,2,null,240,4.2,null," Wolne środki, o których mowa w art. 217 ust.2 pkt 6 ustawy",false,7,2023,0,"2016-03-03","2016-03-03"]
[2016,"test","WIDUCHOWA",3206092,2,null,540,"9.7.1","[9.6.1]-[9.4]","  Informacja o spełnieniu wskaźnika spłaty zobowiązań określonego w art. 243 ustawy, po uwzględnieniu zobowiązań związku współtworzonego przez jednostkę samorządu terytorialnego oraz po uwzględnieniu ustawowych wyłączeń, obliczonego w oparciu o wykonanie roku poprzedzającego rok budżetowy",false,0,2016,123,"2016-03-03","2016-03-03"]
[2016,"test","WIDUCHOWA",3206092,2,null,90,1.2,null,"  Dochody majątkowe, w tym",true,9,2025,300000,"2016-03-03","2016-03-03"]
[2016,"test","WIDUCHOWA",3206092,2,null,750,"12.3.2",null,"  Wydatki bieżące na realizację programu, projektu lub zadania wynikające wyłącznie z zawartych umów z podmiotem dysponującym środkami, o których mowa w art. 5 ust. 1 pkt 2 ustawy ",false,3,2019,0,"2016-03-03","2016-03-03"]
[2016,"test","WIDUCHOWA",3206092,2,null,300,5,"[5.1] + [5.2]","Rozchody budżetu",false,0,2016,400000,"2016-03-03","2016-03-03"]
[2016,"test","WIDUCHOWA",3206092,2,null,280,4.4000000000000004,null," Inne przychody niezwiązane z zaciągnięciem długu",false,5,2021,0,"2016-03-03","2016-03-03"]
[2016,"test","WIDUCHOWA",3206092,2,null,540,"9.7.1","[9.6.1]-[9.4]","  Informacja o spełnieniu wskaźnika spłaty zobowiązań określonego w art. 243 ustawy, po uwzględnieniu zobowiązań związku współtworzonego przez jednostkę samorządu terytorialnego oraz po uwzględnieniu ustawowych wyłączeń, obliczonego w oparciu o wykonanie roku poprzedzającego rok budżetowy",false,4,2020,23,"2016-03-03","2016-03-03"]
[2016,"test","WIDUCHOWA",3206092,2,null,70,"1.1.4",null,"  z subwencji ogólnej",true,6,2022,6250000,"2016-03-03","2016-03-03"]
[2016,"test","WIDUCHOWA",3206092,2,null,769,12.8,null," Przychody z tytułu kredytów, pożyczek, emisji papierów wartościowych powstające w związku z zawartą po dniu 1 stycznia 2013 r. umową na realizację programu, projektu lub zadania finansowanego w co najmniej 60% środkami, o których mowa w art. 5 ust. 1 pkt 2 ustawy",true,8,2024,0,"2016-03-03","2016-03-03"]
[2016,"test","WIDUCHOWA",3206092,2,null,240,4.2,null," Wolne środki, o których mowa w art. 217 ust.2 pkt 6 ustawy",false,3,2019,0,"2016-03-03","2016-03-03"]
[2016,"test","WIDUCHOWA",3206092,2,null,610,"11.3.1",null,"   bieżące",true,9,2025,0,"2016-03-03","2016-03-03"]
[2016,"test","WIDUCHOWA",3206092,2,null,630,11.4,null," Wydatki inwestycyjne kontynuowane ",true,6,2022,0,"2016-03-03","2016-03-03"]
[2016,"test","WIDUCHOWA",3206092,2,null,670,12.1,null," Dochody bieżące  na programy, projekty lub zadania finansowane z udziałem środków, o których mowa w art. 5 ust. 1 pkt 2 i 3 ustawy",true,7,2023,0,"2016-03-03","2016-03-03"]
[2016,"test","WIDUCHOWA",3206092,2,null,764,"12.5.1",null,"  w tym w związku z już zawartą umową na realizację programu, projektu lub zadania",true,9,2025,0,"2016-03-03","2016-03-03"]
[2016,"test","WIDUCHOWA",3206092,2,null,480,9.1999999999999993,"( ([2.1.1]-[2.1.1.1])+([2.1.3.1]-[2.1.3.1.1]-[2.1.3.1.2])+([5.1]-[5.1.1]) )/([1]-[15.1.1])"," Wskaźnik planowanej łącznej kwoty spłaty zobowiązań, o której mowa w art. 243 ust. 1 ustawy do dochodów, bez uwzględnienia zobowiązań związku współtworzonego przez jednostkę samorządu terytorialnego, po uwzględnieniu ustawowych wyłączeń przypadających na dany rok.",false,9,2025,3.3500000000000002E-2,"2016-03-03","2016-03-03"]
[2016,"test","WIDUCHOWA",3206092,2,null,184,"2.1.3.1.2",null,"    odsetki i dyskonto podlegające wyłączeniu z limitu spłaty zobowiązań, o którym mowa w art. 243 ustawy, z tytułu zobowiązań  zaciągniętych na wkład krajowy",false,5,2021,24000,"2016-03-03","2016-03-03"]
[2016,"test","WIDUCHOWA",3206092,2,null,70,"1.1.4",null,"  z subwencji ogólnej",true,8,2024,6450000,"2016-03-03","2016-03-03"]
[2016,"test","WIDUCHOWA",3206092,2,null,650,11.6,null," Wydatki majątkowe w formie dotacji ",true,2,2018,0,"2016-03-03","2016-03-03"]
[2016,"test","WIDUCHOWA",3206092,2,null,930,"14.3.3",null,"  wypłaty z tytułu wymagalnych poręczeń i gwarancji",true,2,2018,0,"2016-03-03","2016-03-03"]
[2016,"test","WIDUCHOWA",3206092,2,null,660,12,null,"Finansowanie programów, projektów lub zadań realizowanych z udziałem środków, o których mowa w art. 5 ust. 1 pkt 2 i 3 ustawy",true,6,2022,0,"2016-03-03","2016-03-03"]
[2016,"test","WIDUCHOWA",3206092,2,null,580,11.1,null," Wydatki bieżące na wynagrodzenia i składki od nich naliczane",false,5,2021,8312482,"2016-03-03","2016-03-03"]
[2016,"test","WIDUCHOWA",3206092,2,null,580,11.1,null," Wydatki bieżące na wynagrodzenia i składki od nich naliczane",false,3,2019,7835311,"2016-03-03","2016-03-03"]
[2016,"test","WIDUCHOWA",3206092,2,null,820,13.3,null," Wysokość zobowiązań podlegających umorzeniu, o którym mowa w art. 190 ustawy o działalności leczniczej",true,0,2016,0,"2016-03-03","2016-03-03"]
[2016,"test","WIDUCHOWA",3206092,2,null,900,14.3,null," Wydatki zmniejszające dług, w tym",true,6,2022,105000,"2016-03-03","2016-03-03"]
[2016,"test","WIDUCHOWA",3206092,2,null,700,12.2,null," Dochody majątkowe  na programy, projekty lub zadania finansowane z udziałem środków, o których mowa w art. 5 ust. 1 pkt 2 i 3 ustawy",false,9,2025,0,"2016-03-03","2016-03-03"]
[2016,"test","WIDUCHOWA",3206092,2,null,670,12.1,null," Dochody bieżące  na programy, projekty lub zadania finansowane z udziałem środków, o których mowa w art. 5 ust. 1 pkt 2 i 3 ustawy",true,5,2021,0,"2016-03-03","2016-03-03"]
[2016,"test","WIDUCHOWA",3206092,2,null,980,15.2,null," Wydatki bieżące z tytułu świadczenia emitenta należnego obligatariuszom,  nieuwzględniane  w limicie spłaty zobowiązań, o którym mowa w art. 243 ustawy",true,8,2024,0,"2016-03-03","2016-03-03"]
[2016,"test","WIDUCHOWA",3206092,2,null,920,"14.3.2",null,"  związane z umowami zaliczanymi do tytułów dłużnych wliczanych do państwowego długu publicznego",true,5,2021,109000,"2016-03-03","2016-03-03"]
[2016,"test","WIDUCHOWA",3206092,2,null,750,"12.3.2",null,"  Wydatki bieżące na realizację programu, projektu lub zadania wynikające wyłącznie z zawartych umów z podmiotem dysponującym środkami, o których mowa w art. 5 ust. 1 pkt 2 ustawy ",false,2,2018,0,"2016-03-03","2016-03-03"]
[2016,"test","WIDUCHOWA",3206092,2,null,50,"1.1.3",null,"  podatki i opłaty",true,7,2023,5180000,"2016-03-03","2016-03-03"]
[2016,"test","WIDUCHOWA",3206092,2,null,350,6,null,"Kwota długu",true,0,2016,10719000,"2016-03-03","2016-03-03"]
[2016,"test","WIDUCHOWA",3206092,2,null,220,4.0999999999999996,null," Nadwyżka budżetowa z lat ubiegłych",false,0,2016,0,"2016-03-03","2016-03-03"]
[2016,"test","WIDUCHOWA",3206092,2,null,590,11.2,null," Wydatki związane z funkcjonowaniem organów jednostki samorządu terytorialnego",true,4,2020,2700000,"2016-03-03","2016-03-03"]
[2016,"test","WIDUCHOWA",3206092,2,null,120,2,"[2.1] + [2.2]","Wydatki ogółem",false,7,2023,20013984,"2016-03-03","2016-03-03"]
[2016,"test","WIDUCHOWA",3206092,2,null,80,"1.1.5",null,"  z tytułu dotacji i środków przeznaczonych na cele bieżące",true,8,2024,7450000,"2016-03-03","2016-03-03"]
[2016,"test","WIDUCHOWA",3206092,2,null,430,8.1999999999999993,"[1.1] + [4.1] + [4.2] - (  [2.1] - [2.1.2]  )"," Różnica między dochodami bieżącymi, skorygowanymi o środki a wydatkami bieżącymi, pomniejszonymi  o wydatki",false,8,2024,1563945,"2016-03-03","2016-03-03"]
[2016,"test","WIDUCHOWA",3206092,2,null,334,"5.1.1.2",null,"   kwota przypadających na dany rok kwot ustawowych wyłączeń określonych w art. 243 ust. 3a ustawy",true,1,2017,0,"2016-03-03","2016-03-03"]
[2016,"test","WIDUCHOWA",3206092,2,null,740,"12.3.1",null,"  -  w tym finansowane środkami określonymi w art. 5 ust. 1 pkt 2 ustawy ",false,4,2020,0,"2016-03-03","2016-03-03"]
[2016,"test","WIDUCHOWA",3206092,2,null,60,"1.1.3.1",null,"   z podatku od nieruchomości",true,6,2022,2416000,"2016-03-03","2016-03-03"]
[2016,"test","WIDUCHOWA",3206092,2,null,700,12.2,null," Dochody majątkowe  na programy, projekty lub zadania finansowane z udziałem środków, o których mowa w art. 5 ust. 1 pkt 2 i 3 ustawy",false,1,2017,1272600,"2016-03-03","2016-03-03"]
[2016,"test","WIDUCHOWA",3206092,2,null,1000,16.100000000000001,null," Stopień niezachowania relacji zrównoważenia wydatków bieżących, o której mowa w poz. 8.2.",true,9,2025,0,"2016-03-03","2016-03-03"]
[2016,"test","WIDUCHOWA",3206092,2,null,182,"2.1.3.1.1",null,"    odsetki i dyskonto podlegające wyłączeniu z limitu spłaty zobowiązań, o którym mowa w art. 243 ustawy, w terminie nie dłuższym niż 90 dni po zakończeniu programu, projektu lub zadania i otrzymaniu refundacji z tych środków (bez odsetek i dyskonta od zobowiązań na wkład krajowy)",false,8,2024,0,"2016-03-03","2016-03-03"]
[2016,"test","WIDUCHOWA",3206092,2,null,440,9,null,"Wskaźnik spłaty zobowiązań",false,1,2017,0,"2016-03-03","2016-03-03"]
[2016,"test","WIDUCHOWA",3206092,2,null,410,8,null,"Relacja zrównoważenia wydatków bieżących, o której mowa w art. 242 ustawy",true,3,2019,0,"2016-03-03","2016-03-03"]
[2016,"test","WIDUCHOWA",3206092,2,null,420,8.1,"[1.1] - [2.1]"," Różnica między dochodami bieżącymi a  wydatkami bieżącymi",false,0,2016,1445151,"2016-03-03","2016-03-03"]
[2016,"test","WIDUCHOWA",3206092,2,null,790,13,null,"Kwoty dotyczące przejęcia i spłaty zobowiązań po samodzielnych publicznych zakładach opieki zdrowotnej oraz pokrycia ujemnego wyniku ",true,9,2025,0,"2016-03-03","2016-03-03"]
[2016,"test","WIDUCHOWA",3206092,2,null,10,1,"[1.1] + [1.2]","Dochody ogółem",true,1,2017,21094929,"2016-03-03","2016-03-03"]
[2016,"test","WIDUCHOWA",3206092,2,null,620,"11.3.2",null,"   majątkowe",true,9,2025,0,"2016-03-03","2016-03-03"]
[2016,"test","WIDUCHOWA",3206092,2,null,60,"1.1.3.1",null,"   z podatku od nieruchomości",true,4,2020,2209000,"2016-03-03","2016-03-03"]
[2016,"test","WIDUCHOWA",3206092,2,null,850,13.6,null," Wydatki na spłatę zobowiązań samodzielnego publicznego zakładu opieki zdrowotnej przejętych do końca 2011 r. na podstawie przepisów o zakładach opieki zdrowotnej",true,9,2025,0,"2016-03-03","2016-03-03"]
[2016,"test","WIDUCHOWA",3206092,2,null,560,10.1,null," Spłaty kredytów, pożyczek i wykup papierów wartościowych",false,5,2021,1200000,"2016-03-03","2016-03-03"]
[2016,"test","WIDUCHOWA",3206092,2,null,40,"1.1.2",null,"  dochody z tytułu udziału we wpływach z podatku dochodowego od osób prawnych",true,1,2017,8000,"2016-03-03","2016-03-03"]
[2016,"test","WIDUCHOWA",3206092,2,null,765,12.6,null," Wydatki na wkład krajowy w związku z zawartą po dniu 1 stycznia 2013 r. umową na realizację programu, projektu lub zadania finansowanego w co najmniej 60% środkami, o których mowa w art. 5 ust. 1 pkt 2 ustawy",true,8,2024,0,"2016-03-03","2016-03-03"]
[2016,"test","WIDUCHOWA",3206092,2,null,30,"1.1.1",null,"  dochody z tytułu udziału we wpływach z podatku dochodowego od osób fizycznych",true,4,2020,2100000,"2016-03-03","2016-03-03"]
[2016,"test","WIDUCHOWA",3206092,2,null,810,13.2,null," Dochody budżetowe z tytułu dotacji celowej z budżetu państwa, o której mowa w art. 196 ustawy z  dnia 15 kwietnia 2011 r.  o działalności leczniczej (Dz.U. Nr 112, poz. 654, z późn. zm.)",true,3,2019,0,"2016-03-03","2016-03-03"]
[2016,"test","WIDUCHOWA",3206092,2,null,410,8,null,"Relacja zrównoważenia wydatków bieżących, o której mowa w art. 242 ustawy",true,5,2021,0,"2016-03-03","2016-03-03"]
[2016,"test","WIDUCHOWA",3206092,2,null,940,14.4,null," Wynik operacji niekasowych wpływających na kwotę długu ( m.in. umorzenia, różnice kursowe)",true,5,2021,0,"2016-03-03","2016-03-03"]
[2016,"test","WIDUCHOWA",3206092,2,null,430,8.1999999999999993,"[1.1] + [4.1] + [4.2] - (  [2.1] - [2.1.2]  )"," Różnica między dochodami bieżącymi, skorygowanymi o środki a wydatkami bieżącymi, pomniejszonymi  o wydatki",false,7,2023,1596559,"2016-03-03","2016-03-03"]
[2016,"test","WIDUCHOWA",3206092,2,null,190,2.2000000000000002,null," Wydatki majątkowe",false,2,2018,1004150,"2016-03-03","2016-03-03"]
[2016,"test","WIDUCHOWA",3206092,2,null,768,"12.7.1",null,"  w tym w związku z już zawartą umową na realizację programu, projektu lub zadania",true,9,2025,0,"2016-03-03","2016-03-03"]
[2016,"test","WIDUCHOWA",3206092,2,null,550,10,null,"Przeznaczenie prognozowanej nadwyżki budżetowej,  w tym na:",false,3,2019,1200000,"2016-03-03","2016-03-03"]
[2016,"test","WIDUCHOWA",3206092,2,null,710,"12.2.1",null,"   -  w tym środki określone w art. 5 ust. 1 pkt 2 ustawy",false,9,2025,0,"2016-03-03","2016-03-03"]
[2016,"test","WIDUCHOWA",3206092,2,null,490,9.3000000000000007,null," Kwota zobowiązań związku współtworzonego przez jednostkę samorządu terytorialnego przypadających do spłaty w danym roku budżetowym, podlegająca doliczeniu zgodnie z art. 244 ustawy",true,8,2024,0,"2016-03-03","2016-03-03"]
[2016,"test","WIDUCHOWA",3206092,2,null,560,10.1,null," Spłaty kredytów, pożyczek i wykup papierów wartościowych",false,7,2023,1510000,"2016-03-03","2016-03-03"]
[2016,"test","WIDUCHOWA",3206092,2,null,250,"4.2.1",null,"   w tym na pokrycie deficytu budżetu",false,4,2020,0,"2016-03-03","2016-03-03"]
[2016,"test","WIDUCHOWA",3206092,2,null,270,"4.3.1",null,"   w tym na pokrycie deficytu budżetu",true,0,2016,0,"2016-03-03","2016-03-03"]
[2016,"test","WIDUCHOWA",3206092,2,null,340,5.2,null," Inne rozchody niezwiązane ze spłatą długu",false,0,2016,0,"2016-03-03","2016-03-03"]
[2016,"test","WIDUCHOWA",3206092,2,null,332,"5.1.1.1",null,"   kwota przypadających na dany rok kwot ustawowych wyłączeń określonych w art. 243 ust. 3 ustawy",true,3,2019,0,"2016-03-03","2016-03-03"]
[2016,"test","WIDUCHOWA",3206092,2,null,60,"1.1.3.1",null,"   z podatku od nieruchomości",true,1,2017,1930000,"2016-03-03","2016-03-03"]
[2016,"test","WIDUCHOWA",3206092,2,null,340,5.2,null," Inne rozchody niezwiązane ze spłatą długu",false,8,2024,0,"2016-03-03","2016-03-03"]
[2016,"test","WIDUCHOWA",3206092,2,null,180,"2.1.3.1",null,"   odsetki i dyskonto określone w art. 243 ust. 1 ustawy, w tym:",false,0,2016,340000,"2016-03-03","2016-03-03"]
[2016,"test","WIDUCHOWA",3206092,2,null,280,4.4000000000000004,null," Inne przychody niezwiązane z zaciągnięciem długu",false,2,2018,0,"2016-03-03","2016-03-03"]
[2016,"test","WIDUCHOWA",3206092,2,null,820,13.3,null," Wysokość zobowiązań podlegających umorzeniu, o którym mowa w art. 190 ustawy o działalności leczniczej",true,5,2021,0,"2016-03-03","2016-03-03"]
[2016,"test","WIDUCHOWA",3206092,2,null,970,"15.1.1",null,"  środki na zaspokojenie roszczeń obligatariuszy",true,5,2021,0,"2016-03-03","2016-03-03"]
[2016,"test","WIDUCHOWA",3206092,2,null,763,12.5,null," Wydatki na wkład krajowy w związku z umową na realizację programu, projektu lub zadania finansowanego z udziałem środków, o których mowa w art. 5 ust. 1 pkt 2 ustawy bez względu na stopień finansowania tymi środkami ",true,2,2018,0,"2016-03-03","2016-03-03"]
[2016,"test","WIDUCHOWA",3206092,2,null,850,13.6,null," Wydatki na spłatę zobowiązań samodzielnego publicznego zakładu opieki zdrowotnej przejętych do końca 2011 r. na podstawie przepisów o zakładach opieki zdrowotnej",true,3,2019,0,"2016-03-03","2016-03-03"]
[2016,"test","WIDUCHOWA",3206092,2,null,480,9.1999999999999993,"( ([2.1.1]-[2.1.1.1])+([2.1.3.1]-[2.1.3.1.1]-[2.1.3.1.2])+([5.1]-[5.1.1]) )/([1]-[15.1.1])"," Wskaźnik planowanej łącznej kwoty spłaty zobowiązań, o której mowa w art. 243 ust. 1 ustawy do dochodów, bez uwzględnienia zobowiązań związku współtworzonego przez jednostkę samorządu terytorialnego, po uwzględnieniu ustawowych wyłączeń przypadających na dany rok.",false,2,2018,4.1399999999999999E-2,"2016-03-03","2016-03-03"]
[2016,"test","WIDUCHOWA",3206092,2,null,763,12.5,null," Wydatki na wkład krajowy w związku z umową na realizację programu, projektu lub zadania finansowanego z udziałem środków, o których mowa w art. 5 ust. 1 pkt 2 ustawy bez względu na stopień finansowania tymi środkami ",true,3,2019,0,"2016-03-03","2016-03-03"]
[2016,"test","WIDUCHOWA",3206092,2,null,170,"2.1.3",null,"  wydatki na obsługę długu, w tym:",true,7,2023,130000,"2016-03-03","2016-03-03"]
[2016,"test","WIDUCHOWA",3206092,2,null,660,12,null,"Finansowanie programów, projektów lub zadań realizowanych z udziałem środków, o których mowa w art. 5 ust. 1 pkt 2 i 3 ustawy",true,5,2021,0,"2016-03-03","2016-03-03"]
[2016,"test","WIDUCHOWA",3206092,2,null,120,2,"[2.1] + [2.2]","Wydatki ogółem",false,4,2020,19407811,"2016-03-03","2016-03-03"]
[2016,"test","WIDUCHOWA",3206092,2,null,270,"4.3.1",null,"   w tym na pokrycie deficytu budżetu",true,9,2025,0,"2016-03-03","2016-03-03"]
[2016,"test","WIDUCHOWA",3206092,2,null,770,"12.8.1",null,"  w tym w związku z już zawartą umową na realizację programu, projektu lub zadania",true,1,2017,0,"2016-03-03","2016-03-03"]
[2016,"test","WIDUCHOWA",3206092,2,null,860,13.7,null," Wydatki bieżące na pokrycie ujemnego wyniku finansowego samodzielnego publicznego zakładu opieki zdrowotnej",true,9,2025,0,"2016-03-03","2016-03-03"]
[2016,"test","WIDUCHOWA",3206092,2,null,130,2.1,null," Wydatki bieżące, w tym:",true,2,2018,18841237,"2016-03-03","2016-03-03"]
[2016,"test","WIDUCHOWA",3206092,2,null,860,13.7,null," Wydatki bieżące na pokrycie ujemnego wyniku finansowego samodzielnego publicznego zakładu opieki zdrowotnej",true,0,2016,0,"2016-03-03","2016-03-03"]
[2016,"test","WIDUCHOWA",3206092,2,null,90,1.2,null,"  Dochody majątkowe, w tym",true,5,2021,300000,"2016-03-03","2016-03-03"]
[2016,"test","WIDUCHOWA",3206092,2,null,730,12.3,null," Wydatki bieżące na programy, projekty lub zadania finansowane z udziałem środków, o których mowa w art. 5 ust. 1 pkt 2 i 3 ustawy",false,7,2023,0,"2016-03-03","2016-03-03"]
[2016,"test","WIDUCHOWA",3206092,2,null,920,"14.3.2",null,"  związane z umowami zaliczanymi do tytułów dłużnych wliczanych do państwowego długu publicznego",true,3,2019,117000,"2016-03-03","2016-03-03"]
[2016,"test","WIDUCHOWA",3206092,2,null,220,4.0999999999999996,null," Nadwyżka budżetowa z lat ubiegłych",false,8,2024,0,"2016-03-03","2016-03-03"]
[2016,"test","WIDUCHOWA",3206092,2,null,510,9.6,null," Dopuszczalny wskaźnik spłaty zobowiązań określony w art. 243 ustawy, po uwzględnieniu ustawowych wyłączeń , obliczony w oparciu o plan 3 kwartału roku poprzedzającego pierwszy rok prognozy (wskaźnik ustalony w oparciu o średnią arytmetyczną z 3 poprzednich lat) ",true,0,2016,4.53E-2,"2016-03-03","2016-03-03"]
[2016,"test","WIDUCHOWA",3206092,2,null,890,14.2,null," Kwota długu, którego planowana spłata dokona się z wydatków budżetu",true,8,2024,0,"2016-03-03","2016-03-03"]
[2016,"test","WIDUCHOWA",3206092,2,null,890,14.2,null," Kwota długu, którego planowana spłata dokona się z wydatków budżetu",true,0,2016,688000,"2016-03-03","2016-03-03"]
[2016,"test","WIDUCHOWA",3206092,2,null,530,9.6999999999999993,"[9.6]-[9.4]"," Informacja o spełnieniu wskaźnika spłaty zobowiązań określonego w art. 243 ustawy, po uwzględnieniu zobowiązań związku współtworzonego przez jednostkę samorządu terytorialnego oraz po uwzględnieniu ustawowych wyłączeń, obliczonego w oparciu o plan 3 kwartałów roku poprzedzającego rok budżetowy",false,0,2016,127,"2016-03-03","2016-03-03"]
[2016,"test","WIDUCHOWA",3206092,2,null,300,5,"[5.1] + [5.2]","Rozchody budżetu",false,7,2023,1510000,"2016-03-03","2016-03-03"]
[2016,"test","WIDUCHOWA",3206092,2,null,640,11.5,null," Nowe wydatki inwestycyjne",true,3,2019,0,"2016-03-03","2016-03-03"]
[2016,"test","WIDUCHOWA",3206092,2,null,580,11.1,null," Wydatki bieżące na wynagrodzenia i składki od nich naliczane",false,0,2016,7238062.4400000004,"2016-03-03","2016-03-03"]
[2016,"test","WIDUCHOWA",3206092,2,null,190,2.2000000000000002,null," Wydatki majątkowe",false,1,2017,2161000,"2016-03-03","2016-03-03"]
[2016,"test","WIDUCHOWA",3206092,2,null,990,16,null,"Stopnie niezachowania relacji określonych w art. 242-244 ustawy w przypadku określonym w @par16_1 ustawy",true,4,2020,0,"2016-03-03","2016-03-03"]
[2016,"test","WIDUCHOWA",3206092,2,null,650,11.6,null," Wydatki majątkowe w formie dotacji ",true,0,2016,50000,"2016-03-03","2016-03-03"]
[2016,"test","WIDUCHOWA",3206092,2,null,90,1.2,null,"  Dochody majątkowe, w tym",true,7,2023,300000,"2016-03-03","2016-03-03"]
[2016,"test","WIDUCHOWA",3206092,2,null,610,"11.3.1",null,"   bieżące",true,3,2019,0,"2016-03-03","2016-03-03"]
[2016,"test","WIDUCHOWA",3206092,2,null,590,11.2,null," Wydatki związane z funkcjonowaniem organów jednostki samorządu terytorialnego",true,1,2017,2400000,"2016-03-03","2016-03-03"]
[2016,"test","WIDUCHOWA",3206092,2,null,50,"1.1.3",null,"  podatki i opłaty",true,2,2018,4242000,"2016-03-03","2016-03-03"]
[2016,"test","WIDUCHOWA",3206092,2,null,180,"2.1.3.1",null,"   odsetki i dyskonto określone w art. 243 ust. 1 ustawy, w tym:",false,7,2023,130000,"2016-03-03","2016-03-03"]
[2016,"test","WIDUCHOWA",3206092,2,null,300,5,"[5.1] + [5.2]","Rozchody budżetu",false,5,2021,1200000,"2016-03-03","2016-03-03"]
[2016,"test","WIDUCHOWA",3206092,2,null,30,"1.1.1",null,"  dochody z tytułu udziału we wpływach z podatku dochodowego od osób fizycznych",true,2,2018,2100000,"2016-03-03","2016-03-03"]
[2016,"test","WIDUCHOWA",3206092,2,null,20,1.1000000000000001,null," Dochody bieżące",true,2,2018,20045387,"2016-03-03","2016-03-03"]
[2016,"test","WIDUCHOWA",3206092,2,null,1020,16.3,null," Stopień niezachowania wskaźnika spłaty zobowiązań, o którym mowa w poz. 9.7.1.",true,9,2025,0,"2016-03-03","2016-03-03"]
[2016,"test","WIDUCHOWA",3206092,2,null,764,"12.5.1",null,"  w tym w związku z już zawartą umową na realizację programu, projektu lub zadania",true,7,2023,0,"2016-03-03","2016-03-03"]
[2016,"test","WIDUCHOWA",3206092,2,null,510,9.6,null," Dopuszczalny wskaźnik spłaty zobowiązań określony w art. 243 ustawy, po uwzględnieniu ustawowych wyłączeń , obliczony w oparciu o plan 3 kwartału roku poprzedzającego pierwszy rok prognozy (wskaźnik ustalony w oparciu o średnią arytmetyczną z 3 poprzednich lat) ",true,9,2025,8.8300000000000003E-2,"2016-03-03","2016-03-03"]
[2016,"test","WIDUCHOWA",3206092,2,null,750,"12.3.2",null,"  Wydatki bieżące na realizację programu, projektu lub zadania wynikające wyłącznie z zawartych umów z podmiotem dysponującym środkami, o których mowa w art. 5 ust. 1 pkt 2 ustawy ",false,6,2022,0,"2016-03-03","2016-03-03"]
[2016,"test","WIDUCHOWA",3206092,2,null,763,12.5,null," Wydatki na wkład krajowy w związku z umową na realizację programu, projektu lub zadania finansowanego z udziałem środków, o których mowa w art. 5 ust. 1 pkt 2 ustawy bez względu na stopień finansowania tymi środkami ",true,8,2024,0,"2016-03-03","2016-03-03"]
[2016,"test","WIDUCHOWA",3206092,2,null,830,13.4,null," Wydatki na spłatę przejętych zobowiązań samodzielnego publicznego zakładu opieki zdrowotnej przekształconego na zasadach określonych w przepisach  o działalności leczniczej",true,6,2022,0,"2016-03-03","2016-03-03"]
[2016,"test","WIDUCHOWA",3206092,2,null,900,14.3,null," Wydatki zmniejszające dług, w tym",true,5,2021,109000,"2016-03-03","2016-03-03"]
[2016,"test","WIDUCHOWA",3206092,2,null,850,13.6,null," Wydatki na spłatę zobowiązań samodzielnego publicznego zakładu opieki zdrowotnej przejętych do końca 2011 r. na podstawie przepisów o zakładach opieki zdrowotnej",true,0,2016,0,"2016-03-03","2016-03-03"]
[2016,"test","WIDUCHOWA",3206092,2,null,310,5.0999999999999996,null," Spłaty rat kapitałowych kredytów i pożyczek oraz wykup papierów wartościowych",true,6,2022,1330000,"2016-03-03","2016-03-03"]
[2016,"test","WIDUCHOWA",3206092,2,null,790,13,null,"Kwoty dotyczące przejęcia i spłaty zobowiązań po samodzielnych publicznych zakładach opieki zdrowotnej oraz pokrycia ujemnego wyniku ",true,0,2016,0,"2016-03-03","2016-03-03"]
[2016,"test","WIDUCHOWA",3206092,2,null,150,"2.1.1.1",null,"   w tym: gwarancje i poręczenia podlegające wyłączeniu z limitu spłaty zobowiązań, o którym mowa w art. 243 ustawy",true,3,2019,0,"2016-03-03","2016-03-03"]
[2016,"test","WIDUCHOWA",3206092,2,null,560,10.1,null," Spłaty kredytów, pożyczek i wykup papierów wartościowych",false,1,2017,600000,"2016-03-03","2016-03-03"]
[2016,"test","WIDUCHOWA",3206092,2,null,170,"2.1.3",null,"  wydatki na obsługę długu, w tym:",true,3,2019,300000,"2016-03-03","2016-03-03"]
[2016,"test","WIDUCHOWA",3206092,2,null,870,14,null,"Dane uzupełniające o długu i jego spłacie",true,7,2023,0,"2016-03-03","2016-03-03"]
[2016,"test","WIDUCHOWA",3206092,2,null,160,"2.1.2",null,"   na spłatę przejętych zobowiązań samodzielnego publicznego zakładu opieki zdrowotnej przekształconego na zasadach określonych w przepisach  o działalności leczniczej, w wysokości w jakiej nie podlegają sfinansowaniu dotacją z budżetu państwa",true,7,2023,0,"2016-03-03","2016-03-03"]
[2016,"test","WIDUCHOWA",3206092,2,null,110,"1.2.2",null,"  z tytułu dotacji oraz środków przeznaczonych na inwestycje",true,4,2020,0,"2016-03-03","2016-03-03"]
[2016,"test","WIDUCHOWA",3206092,2,null,550,10,null,"Przeznaczenie prognozowanej nadwyżki budżetowej,  w tym na:",false,7,2023,1510000,"2016-03-03","2016-03-03"]
[2016,"test","WIDUCHOWA",3206092,2,null,540,"9.7.1","[9.6.1]-[9.4]","  Informacja o spełnieniu wskaźnika spłaty zobowiązań określonego w art. 243 ustawy, po uwzględnieniu zobowiązań związku współtworzonego przez jednostkę samorządu terytorialnego oraz po uwzględnieniu ustawowych wyłączeń, obliczonego w oparciu o wykonanie roku poprzedzającego rok budżetowy",false,5,2021,112,"2016-03-03","2016-03-03"]
[2016,"test","WIDUCHOWA",3206092,2,null,280,4.4000000000000004,null," Inne przychody niezwiązane z zaciągnięciem długu",false,8,2024,0,"2016-03-03","2016-03-03"]
[2016,"test","WIDUCHOWA",3206092,2,null,310,5.0999999999999996,null," Spłaty rat kapitałowych kredytów i pożyczek oraz wykup papierów wartościowych",true,1,2017,600000,"2016-03-03","2016-03-03"]
[2016,"test","WIDUCHOWA",3206092,2,null,940,14.4,null," Wynik operacji niekasowych wpływających na kwotę długu ( m.in. umorzenia, różnice kursowe)",true,1,2017,0,"2016-03-03","2016-03-03"]
[2016,"test","WIDUCHOWA",3206092,2,null,570,11,null,"Informacje uzupełniające o wybranych rodzajach wydatków budżetowych",false,4,2020,0,"2016-03-03","2016-03-03"]
[2016,"test","WIDUCHOWA",3206092,2,null,182,"2.1.3.1.1",null,"    odsetki i dyskonto podlegające wyłączeniu z limitu spłaty zobowiązań, o którym mowa w art. 243 ustawy, w terminie nie dłuższym niż 90 dni po zakończeniu programu, projektu lub zadania i otrzymaniu refundacji z tych środków (bez odsetek i dyskonta od zobowiązań na wkład krajowy)",false,3,2019,0,"2016-03-03","2016-03-03"]
[2016,"test","WIDUCHOWA",3206092,2,null,508,9.5,"(([1.1] - [15.1.1])+[1.2.1] - ([2.1]-[2.1.2]-[15.2]))/ ([1]-[15.1.1])"," Wskaźnik dochodów bieżących powiększonych o dochody ze sprzedaży majątku oraz pomniejszonych o wydatki bieżące, do dochodów budżetu, ustalony dla danego roku (wskaźnik jednoroczny)",false,6,2022,9.1899999999999996E-2,"2016-03-03","2016-03-03"]
[2016,"test","WIDUCHOWA",3206092,2,null,660,12,null,"Finansowanie programów, projektów lub zadań realizowanych z udziałem środków, o których mowa w art. 5 ust. 1 pkt 2 i 3 ustawy",true,3,2019,0,"2016-03-03","2016-03-03"]
[2016,"test","WIDUCHOWA",3206092,2,null,470,9.1,"([2.1.1] + [2.1.3.1] + [5.1] ) / [1]"," Wskaźnik planowanej łącznej kwoty spłaty zobowiązań, o której mowa w art. 243 ust. 1 ustawy do dochodów, bez uwzględnienia zobowiązań związku współtworzonego przez jednostkę samorządu terytorialnego  i bez uwzględnienia ustawowych wyłączeń przypadających na dany rok.",true,4,2020,7.5300000000000006E-2,"2016-03-03","2016-03-03"]
[2016,"test","WIDUCHOWA",3206092,2,null,508,9.5,"(([1.1] - [15.1.1])+[1.2.1] - ([2.1]-[2.1.2]-[15.2]))/ ([1]-[15.1.1])"," Wskaźnik dochodów bieżących powiększonych o dochody ze sprzedaży majątku oraz pomniejszonych o wydatki bieżące, do dochodów budżetu, ustalony dla danego roku (wskaźnik jednoroczny)",false,5,2021,8.2100000000000006E-2,"2016-03-03","2016-03-03"]
[2016,"test","WIDUCHOWA",3206092,2,null,200,3,"[1] -[2]","Wynik budżetu",false,3,2019,1200000,"2016-03-03","2016-03-03"]
[2016,"test","WIDUCHOWA",3206092,2,null,150,"2.1.1.1",null,"   w tym: gwarancje i poręczenia podlegające wyłączeniu z limitu spłaty zobowiązań, o którym mowa w art. 243 ustawy",true,2,2018,0,"2016-03-03","2016-03-03"]
[2016,"test","WIDUCHOWA",3206092,2,null,764,"12.5.1",null,"  w tym w związku z już zawartą umową na realizację programu, projektu lub zadania",true,0,2016,0,"2016-03-03","2016-03-03"]
[2016,"test","WIDUCHOWA",3206092,2,null,680,"12.1.1",null,"  -  w tym środki określone w art. 5 ust. 1 pkt 2 ustawy",true,0,2016,0,"2016-03-03","2016-03-03"]
[2016,"test","WIDUCHOWA",3206092,2,null,640,11.5,null," Nowe wydatki inwestycyjne",true,2,2018,0,"2016-03-03","2016-03-03"]
[2016,"test","WIDUCHOWA",3206092,2,null,260,4.3,null,"  Kredyty, pożyczki, emisja papierów wartościowych",true,5,2021,0,"2016-03-03","2016-03-03"]
[2016,"test","WIDUCHOWA",3206092,2,null,768,"12.7.1",null,"  w tym w związku z już zawartą umową na realizację programu, projektu lub zadania",true,1,2017,0,"2016-03-03","2016-03-03"]
[2016,"test","WIDUCHOWA",3206092,2,null,160,"2.1.2",null,"   na spłatę przejętych zobowiązań samodzielnego publicznego zakładu opieki zdrowotnej przekształconego na zasadach określonych w przepisach  o działalności leczniczej, w wysokości w jakiej nie podlegają sfinansowaniu dotacją z budżetu państwa",true,6,2022,0,"2016-03-03","2016-03-03"]
[2016,"test","WIDUCHOWA",3206092,2,null,470,9.1,"([2.1.1] + [2.1.3.1] + [5.1] ) / [1]"," Wskaźnik planowanej łącznej kwoty spłaty zobowiązań, o której mowa w art. 243 ust. 1 ustawy do dochodów, bez uwzględnienia zobowiązań związku współtworzonego przez jednostkę samorządu terytorialnego  i bez uwzględnienia ustawowych wyłączeń przypadających na dany rok.",true,8,2024,7.4200000000000002E-2,"2016-03-03","2016-03-03"]
[2016,"test","WIDUCHOWA",3206092,2,null,332,"5.1.1.1",null,"   kwota przypadających na dany rok kwot ustawowych wyłączeń określonych w art. 243 ust. 3 ustawy",true,7,2023,0,"2016-03-03","2016-03-03"]
[2016,"test","WIDUCHOWA",3206092,2,null,10,1,"[1.1] + [1.2]","Dochody ogółem",true,5,2021,20663045,"2016-03-03","2016-03-03"]
[2016,"test","WIDUCHOWA",3206092,2,null,800,13.1,null," Kwota zobowiązań wynikających z przejęcia przez jednostkę samorządu terytorialnego zobowiązań po likwidowanych i przekształcanych samodzielnych zakładach opieki zdrowotnej",true,1,2017,0,"2016-03-03","2016-03-03"]
[2016,"test","WIDUCHOWA",3206092,2,null,70,"1.1.4",null,"  z subwencji ogólnej",true,4,2020,6022000,"2016-03-03","2016-03-03"]
[2016,"test","WIDUCHOWA",3206092,2,null,970,"15.1.1",null,"  środki na zaspokojenie roszczeń obligatariuszy",true,2,2018,0,"2016-03-03","2016-03-03"]
[2016,"test","WIDUCHOWA",3206092,2,null,508,9.5,"(([1.1] - [15.1.1])+[1.2.1] - ([2.1]-[2.1.2]-[15.2]))/ ([1]-[15.1.1])"," Wskaźnik dochodów bieżących powiększonych o dochody ze sprzedaży majątku oraz pomniejszonych o wydatki bieżące, do dochodów budżetu, ustalony dla danego roku (wskaźnik jednoroczny)",false,9,2025,9.0300000000000005E-2,"2016-03-03","2016-03-03"]
[2016,"test","WIDUCHOWA",3206092,2,null,800,13.1,null," Kwota zobowiązań wynikających z przejęcia przez jednostkę samorządu terytorialnego zobowiązań po likwidowanych i przekształcanych samodzielnych zakładach opieki zdrowotnej",true,3,2019,0,"2016-03-03","2016-03-03"]
[2016,"test","WIDUCHOWA",3206092,2,null,420,8.1,"[1.1] - [2.1]"," Różnica między dochodami bieżącymi a  wydatkami bieżącymi",false,5,2021,1396481,"2016-03-03","2016-03-03"]
[2016,"test","WIDUCHOWA",3206092,2,null,764,"12.5.1",null,"  w tym w związku z już zawartą umową na realizację programu, projektu lub zadania",true,1,2017,0,"2016-03-03","2016-03-03"]
[2016,"test","WIDUCHOWA",3206092,2,null,750,"12.3.2",null,"  Wydatki bieżące na realizację programu, projektu lub zadania wynikające wyłącznie z zawartych umów z podmiotem dysponującym środkami, o których mowa w art. 5 ust. 1 pkt 2 ustawy ",false,9,2025,0,"2016-03-03","2016-03-03"]
[2016,"test","WIDUCHOWA",3206092,2,null,430,8.1999999999999993,"[1.1] + [4.1] + [4.2] - (  [2.1] - [2.1.2]  )"," Różnica między dochodami bieżącymi, skorygowanymi o środki a wydatkami bieżącymi, pomniejszonymi  o wydatki",false,1,2017,1188400,"2016-03-03","2016-03-03"]
[2016,"test","WIDUCHOWA",3206092,2,null,980,15.2,null," Wydatki bieżące z tytułu świadczenia emitenta należnego obligatariuszom,  nieuwzględniane  w limicie spłaty zobowiązań, o którym mowa w art. 243 ustawy",true,1,2017,0,"2016-03-03","2016-03-03"]
[2016,"test","WIDUCHOWA",3206092,2,null,940,14.4,null," Wynik operacji niekasowych wpływających na kwotę długu ( m.in. umorzenia, różnice kursowe)",true,7,2023,0,"2016-03-03","2016-03-03"]
[2016,"test","WIDUCHOWA",3206092,2,null,332,"5.1.1.1",null,"   kwota przypadających na dany rok kwot ustawowych wyłączeń określonych w art. 243 ust. 3 ustawy",true,2,2018,0,"2016-03-03","2016-03-03"]
[2016,"test","WIDUCHOWA",3206092,2,null,10,1,"[1.1] + [1.2]","Dochody ogółem",true,6,2022,21134936,"2016-03-03","2016-03-03"]
[2016,"test","WIDUCHOWA",3206092,2,null,950,15,null,"Dane dotyczące emitowanych obligacji przychodowych",true,4,2020,0,"2016-03-03","2016-03-03"]
[2016,"test","WIDUCHOWA",3206092,2,null,767,12.7,null," Przychody z tytułu kredytów, pożyczek, emisji papierów wartościowych powstające w związku z umową na realizację programu, projektu lub zadania finansowanego z udziałem środków, o których mowa w art. 5 ust. 1 pkt 2 ustawy bez względu na stopień finansowania tymi środkami ",true,3,2019,0,"2016-03-03","2016-03-03"]
[2016,"test","WIDUCHOWA",3206092,2,null,30,"1.1.1",null,"  dochody z tytułu udziału we wpływach z podatku dochodowego od osób fizycznych",true,3,2019,2100000,"2016-03-03","2016-03-03"]
[2016,"test","WIDUCHOWA",3206092,2,null,336,"5.1.1.3",null,"   kwota przypadających na dany rok kwot ustawowych wyłączeń innych niż określone w art. 243 ustawy",true,6,2022,0,"2016-03-03","2016-03-03"]
[2016,"test","WIDUCHOWA",3206092,2,null,880,14.1,null," Spłaty rat kapitałowych oraz wykup papierów wartościowych, o których mowa w pkt. 5.1., wynikające wyłącznie z tytułu zobowiązań już zaciągniętych",true,6,2022,1330000,"2016-03-03","2016-03-03"]
[2016,"test","WIDUCHOWA",3206092,2,null,762,"12.4.2",null,"  Wydatki majątkowe na realizację programu, projektu lub zadania wynikające wyłącznie z zawartych umów z podmiotem dysponującym środkami, o których mowa w art. 5 ust. 1 pkt 2 ustawy ",true,9,2025,0,"2016-03-03","2016-03-03"]
[2016,"test","WIDUCHOWA",3206092,2,null,761,"12.4.1",null,"  -  w tym finansowane środkami określonymi w art. 5 ust. 1 pkt 2 ustawy",true,8,2024,0,"2016-03-03","2016-03-03"]
[2016,"test","WIDUCHOWA",3206092,2,null,130,2.1,null," Wydatki bieżące, w tym:",true,3,2019,19161844,"2016-03-03","2016-03-03"]
[2016,"test","WIDUCHOWA",3206092,2,null,120,2,"[2.1] + [2.2]","Wydatki ogółem",false,8,2024,20382704,"2016-03-03","2016-03-03"]
[2016,"test","WIDUCHOWA",3206092,2,null,240,4.2,null," Wolne środki, o których mowa w art. 217 ust.2 pkt 6 ustawy",false,2,2018,0,"2016-03-03","2016-03-03"]
[2016,"test","WIDUCHOWA",3206092,2,null,769,12.8,null," Przychody z tytułu kredytów, pożyczek, emisji papierów wartościowych powstające w związku z zawartą po dniu 1 stycznia 2013 r. umową na realizację programu, projektu lub zadania finansowanego w co najmniej 60% środkami, o których mowa w art. 5 ust. 1 pkt 2 ustawy",true,9,2025,0,"2016-03-03","2016-03-03"]
[2016,"test","WIDUCHOWA",3206092,2,null,50,"1.1.3",null,"  podatki i opłaty",true,5,2021,4900000,"2016-03-03","2016-03-03"]
[2016,"test","WIDUCHOWA",3206092,2,null,660,12,null,"Finansowanie programów, projektów lub zadań realizowanych z udziałem środków, o których mowa w art. 5 ust. 1 pkt 2 i 3 ustawy",true,9,2025,0,"2016-03-03","2016-03-03"]
[2016,"test","WIDUCHOWA",3206092,2,null,430,8.1999999999999993,"[1.1] + [4.1] + [4.2] - (  [2.1] - [2.1.2]  )"," Różnica między dochodami bieżącymi, skorygowanymi o środki a wydatkami bieżącymi, pomniejszonymi  o wydatki",false,4,2020,1247662,"2016-03-03","2016-03-03"]
[2016,"test","WIDUCHOWA",3206092,2,null,980,15.2,null," Wydatki bieżące z tytułu świadczenia emitenta należnego obligatariuszom,  nieuwzględniane  w limicie spłaty zobowiązań, o którym mowa w art. 243 ustawy",true,3,2019,0,"2016-03-03","2016-03-03"]
[2016,"test","WIDUCHOWA",3206092,2,null,280,4.4000000000000004,null," Inne przychody niezwiązane z zaciągnięciem długu",false,3,2019,0,"2016-03-03","2016-03-03"]
[2016,"test","WIDUCHOWA",3206092,2,null,690,"12.1.1.1",null,"   - w tym środki określone w art. 5 ust. 1 pkt 2 ustawy wynikające wyłącznie z  zawartych umów na realizację programu, projektu lub zadania",true,7,2023,0,"2016-03-03","2016-03-03"]
[2016,"test","WIDUCHOWA",3206092,2,null,520,"9.6.1",null,"   Dopuszczalny wskaźnik spłaty zobowiązań określony w art. 243 ustawy, po uwzględnieniu ustawowych wyłączeń, obliczony w oparciu o wykonanie roku poprzedzającego pierwszy rok prognozy (wskaźnik ustalony w oparciu o średnią arytmetyczną z 3 poprzednich lat) ",true,1,2017,6.0900000000000003E-2,"2016-03-03","2016-03-03"]
[2016,"test","WIDUCHOWA",3206092,2,null,490,9.3000000000000007,null," Kwota zobowiązań związku współtworzonego przez jednostkę samorządu terytorialnego przypadających do spłaty w danym roku budżetowym, podlegająca doliczeniu zgodnie z art. 244 ustawy",true,5,2021,0,"2016-03-03","2016-03-03"]
[2016,"test","WIDUCHOWA",3206092,2,null,750,"12.3.2",null,"  Wydatki bieżące na realizację programu, projektu lub zadania wynikające wyłącznie z zawartych umów z podmiotem dysponującym środkami, o których mowa w art. 5 ust. 1 pkt 2 ustawy ",false,8,2024,0,"2016-03-03","2016-03-03"]
[2016,"test","WIDUCHOWA",3206092,2,null,820,13.3,null," Wysokość zobowiązań podlegających umorzeniu, o którym mowa w art. 190 ustawy o działalności leczniczej",true,9,2025,0,"2016-03-03","2016-03-03"]
[2016,"test","WIDUCHOWA",3206092,2,null,765,12.6,null," Wydatki na wkład krajowy w związku z zawartą po dniu 1 stycznia 2013 r. umową na realizację programu, projektu lub zadania finansowanego w co najmniej 60% środkami, o których mowa w art. 5 ust. 1 pkt 2 ustawy",true,3,2019,0,"2016-03-03","2016-03-03"]
[2016,"test","WIDUCHOWA",3206092,2,null,310,5.0999999999999996,null," Spłaty rat kapitałowych kredytów i pożyczek oraz wykup papierów wartościowych",true,2,2018,600000,"2016-03-03","2016-03-03"]
[2016,"test","WIDUCHOWA",3206092,2,null,769,12.8,null," Przychody z tytułu kredytów, pożyczek, emisji papierów wartościowych powstające w związku z zawartą po dniu 1 stycznia 2013 r. umową na realizację programu, projektu lub zadania finansowanego w co najmniej 60% środkami, o których mowa w art. 5 ust. 1 pkt 2 ustawy",true,2,2018,0,"2016-03-03","2016-03-03"]
[2016,"test","WIDUCHOWA",3206092,2,null,560,10.1,null," Spłaty kredytów, pożyczek i wykup papierów wartościowych",false,6,2022,1330000,"2016-03-03","2016-03-03"]
[2016,"test","WIDUCHOWA",3206092,2,null,340,5.2,null," Inne rozchody niezwiązane ze spłatą długu",false,6,2022,0,"2016-03-03","2016-03-03"]
[2016,"test","WIDUCHOWA",3206092,2,null,410,8,null,"Relacja zrównoważenia wydatków bieżących, o której mowa w art. 242 ustawy",true,9,2025,0,"2016-03-03","2016-03-03"]
[2016,"test","WIDUCHOWA",3206092,2,null,850,13.6,null," Wydatki na spłatę zobowiązań samodzielnego publicznego zakładu opieki zdrowotnej przejętych do końca 2011 r. na podstawie przepisów o zakładach opieki zdrowotnej",true,4,2020,0,"2016-03-03","2016-03-03"]
[2016,"test","WIDUCHOWA",3206092,2,null,320,"5.1.1","[5.1.1.1] + [5.1.1.2] + [5.1.1.3]","  w tym łączna kwota przypadających na dany rok kwot ustawowych wyłączeń z limitu spłaty zobowiązań, o którym mowa w art. 243 ustawy, z tego:",true,7,2023,0,"2016-03-03","2016-03-03"]
[2016,"test","WIDUCHOWA",3206092,2,null,334,"5.1.1.2",null,"   kwota przypadających na dany rok kwot ustawowych wyłączeń określonych w art. 243 ust. 3a ustawy",true,4,2020,0,"2016-03-03","2016-03-03"]
[2016,"test","WIDUCHOWA",3206092,2,null,100,"1.2.1",null,"  ze sprzedaży majątku",true,7,2023,300000,"2016-03-03","2016-03-03"]
[2016,"test","WIDUCHOWA",3206092,2,null,230,"4.1.1",null,"  w tym na pokrycie deficytu budżetu",false,7,2023,0,"2016-03-03","2016-03-03"]
[2016,"test","WIDUCHOWA",3206092,2,null,763,12.5,null," Wydatki na wkład krajowy w związku z umową na realizację programu, projektu lub zadania finansowanego z udziałem środków, o których mowa w art. 5 ust. 1 pkt 2 ustawy bez względu na stopień finansowania tymi środkami ",true,5,2021,0,"2016-03-03","2016-03-03"]
[2016,"test","WIDUCHOWA",3206092,2,null,670,12.1,null," Dochody bieżące  na programy, projekty lub zadania finansowane z udziałem środków, o których mowa w art. 5 ust. 1 pkt 2 i 3 ustawy",true,1,2017,0,"2016-03-03","2016-03-03"]
[2016,"test","WIDUCHOWA",3206092,2,null,230,"4.1.1",null,"  w tym na pokrycie deficytu budżetu",false,2,2018,0,"2016-03-03","2016-03-03"]
[2016,"test","WIDUCHOWA",3206092,2,null,480,9.1999999999999993,"( ([2.1.1]-[2.1.1.1])+([2.1.3.1]-[2.1.3.1.1]-[2.1.3.1.2])+([5.1]-[5.1.1]) )/([1]-[15.1.1])"," Wskaźnik planowanej łącznej kwoty spłaty zobowiązań, o której mowa w art. 243 ust. 1 ustawy do dochodów, bez uwzględnienia zobowiązań związku współtworzonego przez jednostkę samorządu terytorialnego, po uwzględnieniu ustawowych wyłączeń przypadających na dany rok.",false,4,2020,7.3200000000000001E-2,"2016-03-03","2016-03-03"]
[2016,"test","WIDUCHOWA",3206092,2,null,570,11,null,"Informacje uzupełniające o wybranych rodzajach wydatków budżetowych",false,1,2017,0,"2016-03-03","2016-03-03"]
[2016,"test","WIDUCHOWA",3206092,2,null,270,"4.3.1",null,"   w tym na pokrycie deficytu budżetu",true,4,2020,0,"2016-03-03","2016-03-03"]
[2016,"test","WIDUCHOWA",3206092,2,null,20,1.1000000000000001,null," Dochody bieżące",true,1,2017,19522329,"2016-03-03","2016-03-03"]
[2016,"test","WIDUCHOWA",3206092,2,null,140,"2.1.1",null,"  z tytułu poręczeń i gwarancji",true,2,2018,0,"2016-03-03","2016-03-03"]
[2016,"test","WIDUCHOWA",3206092,2,null,310,5.0999999999999996,null," Spłaty rat kapitałowych kredytów i pożyczek oraz wykup papierów wartościowych",true,9,2025,743000,"2016-03-03","2016-03-03"]
[2016,"test","WIDUCHOWA",3206092,2,null,520,"9.6.1",null,"   Dopuszczalny wskaźnik spłaty zobowiązań określony w art. 243 ustawy, po uwzględnieniu ustawowych wyłączeń, obliczony w oparciu o wykonanie roku poprzedzającego pierwszy rok prognozy (wskaźnik ustalony w oparciu o średnią arytmetyczną z 3 poprzednich lat) ",true,7,2023,8.4500000000000006E-2,"2016-03-03","2016-03-03"]
[2016,"test","WIDUCHOWA",3206092,2,null,930,"14.3.3",null,"  wypłaty z tytułu wymagalnych poręczeń i gwarancji",true,9,2025,0,"2016-03-03","2016-03-03"]
[2016,"test","WIDUCHOWA",3206092,2,null,840,13.5,null," Wydatki na spłatę przejętych zobowiązań samodzielnego publicznego zakładu opieki zdrowotnej likwidowanego na zasadach określonych w przepisach  o działalności leczniczej",true,2,2018,0,"2016-03-03","2016-03-03"]
[2016,"test","WIDUCHOWA",3206092,2,null,960,15.1,null," Środki z przedsięwzięcia gromadzone na rachunku bankowym,  w tym:",true,1,2017,0,"2016-03-03","2016-03-03"]
[2016,"test","WIDUCHOWA",3206092,2,null,880,14.1,null," Spłaty rat kapitałowych oraz wykup papierów wartościowych, o których mowa w pkt. 5.1., wynikające wyłącznie z tytułu zobowiązań już zaciągniętych",true,5,2021,1200000,"2016-03-03","2016-03-03"]
[2016,"test","WIDUCHOWA",3206092,2,null,890,14.2,null," Kwota długu, którego planowana spłata dokona się z wydatków budżetu",true,5,2021,105000,"2016-03-03","2016-03-03"]
[2016,"test","WIDUCHOWA",3206092,2,null,334,"5.1.1.2",null,"   kwota przypadających na dany rok kwot ustawowych wyłączeń określonych w art. 243 ust. 3a ustawy",true,2,2018,0,"2016-03-03","2016-03-03"]
[2016,"test","WIDUCHOWA",3206092,2,null,150,"2.1.1.1",null,"   w tym: gwarancje i poręczenia podlegające wyłączeniu z limitu spłaty zobowiązań, o którym mowa w art. 243 ustawy",true,1,2017,0,"2016-03-03","2016-03-03"]
[2016,"test","WIDUCHOWA",3206092,2,null,260,4.3,null,"  Kredyty, pożyczki, emisja papierów wartościowych",true,7,2023,0,"2016-03-03","2016-03-03"]
[2016,"test","WIDUCHOWA",3206092,2,null,334,"5.1.1.2",null,"   kwota przypadających na dany rok kwot ustawowych wyłączeń określonych w art. 243 ust. 3a ustawy",true,9,2025,0,"2016-03-03","2016-03-03"]
[2016,"test","WIDUCHOWA",3206092,2,null,310,5.0999999999999996,null," Spłaty rat kapitałowych kredytów i pożyczek oraz wykup papierów wartościowych",true,3,2019,1200000,"2016-03-03","2016-03-03"]
[2016,"test","WIDUCHOWA",3206092,2,null,130,2.1,null," Wydatki bieżące, w tym:",true,7,2023,19627425,"2016-03-03","2016-03-03"]
[2016,"test","WIDUCHOWA",3206092,2,null,590,11.2,null," Wydatki związane z funkcjonowaniem organów jednostki samorządu terytorialnego",true,9,2025,3200000,"2016-03-03","2016-03-03"]
[2016,"test","WIDUCHOWA",3206092,2,null,1020,16.3,null," Stopień niezachowania wskaźnika spłaty zobowiązań, o którym mowa w poz. 9.7.1.",true,3,2019,0,"2016-03-03","2016-03-03"]
[2016,"test","WIDUCHOWA",3206092,2,null,980,15.2,null," Wydatki bieżące z tytułu świadczenia emitenta należnego obligatariuszom,  nieuwzględniane  w limicie spłaty zobowiązań, o którym mowa w art. 243 ustawy",true,7,2023,0,"2016-03-03","2016-03-03"]
[2016,"test","WIDUCHOWA",3206092,2,null,766,"12.6.1",null,"  w tym w związku z już zawartą umową na realizację programu, projektu lub zadania",true,2,2018,0,"2016-03-03","2016-03-03"]
[2016,"test","WIDUCHOWA",3206092,2,null,40,"1.1.2",null,"  dochody z tytułu udziału we wpływach z podatku dochodowego od osób prawnych",true,3,2019,10000,"2016-03-03","2016-03-03"]
[2016,"test","WIDUCHOWA",3206092,2,null,140,"2.1.1",null,"  z tytułu poręczeń i gwarancji",true,9,2025,0,"2016-03-03","2016-03-03"]
[2016,"test","WIDUCHOWA",3206092,2,null,680,"12.1.1",null,"  -  w tym środki określone w art. 5 ust. 1 pkt 2 ustawy",true,1,2017,0,"2016-03-03","2016-03-03"]
[2016,"test","WIDUCHOWA",3206092,2,null,90,1.2,null,"  Dochody majątkowe, w tym",true,4,2020,400000,"2016-03-03","2016-03-03"]
[2016,"test","WIDUCHOWA",3206092,2,null,180,"2.1.3.1",null,"   odsetki i dyskonto określone w art. 243 ust. 1 ustawy, w tym:",false,6,2022,175000,"2016-03-03","2016-03-03"]
[2016,"test","WIDUCHOWA",3206092,2,null,500,9.4,"(([2.1.1]-[2.1.1.1]) + ([2.1.3.1]-[2.1.3.1.1]-[2.1.3.1.2])+([5.1]-[5.1.1])+[9.3]) /([1]-[15.1.1])"," Wskaźnik planowanej łącznej kwoty spłaty zobowiązań, o której mowa w art. 243 ust. 1 ustawy do dochodów, po uwzględnieniu zobowiązań związku współtworzonego przez jednostkę samorządu terytorialnego oraz po uwzględnieniu ustawowych wyłączeń przypadających na dany rok",false,6,2022,7.0300000000000001E-2,"2016-03-03","2016-03-03"]
[2016,"test","WIDUCHOWA",3206092,2,null,290,"4.4.1",null,"   w tym na pokrycie deficytu budżetu",false,6,2022,0,"2016-03-03","2016-03-03"]
[2016,"test","WIDUCHOWA",3206092,2,null,761,"12.4.1",null,"  -  w tym finansowane środkami określonymi w art. 5 ust. 1 pkt 2 ustawy",true,7,2023,0,"2016-03-03","2016-03-03"]
[2016,"test","WIDUCHOWA",3206092,2,null,1000,16.100000000000001,null," Stopień niezachowania relacji zrównoważenia wydatków bieżących, o której mowa w poz. 8.2.",true,4,2020,0,"2016-03-03","2016-03-03"]
[2016,"test","WIDUCHOWA",3206092,2,null,660,12,null,"Finansowanie programów, projektów lub zadań realizowanych z udziałem środków, o których mowa w art. 5 ust. 1 pkt 2 i 3 ustawy",true,1,2017,0,"2016-03-03","2016-03-03"]
[2016,"test","WIDUCHOWA",3206092,2,null,640,11.5,null," Nowe wydatki inwestycyjne",true,7,2023,0,"2016-03-03","2016-03-03"]
[2016,"test","WIDUCHOWA",3206092,2,null,400,7,null,"Kwota zobowiązań wynikających z przejęcia przez jednostkę samorządu terytorialnego zobowiązań po likwidowanych i przekształcanych jednostkach zaliczanych do sektora  finansów publicznych",true,2,2018,0,"2016-03-03","2016-03-03"]
[2016,"test","WIDUCHOWA",3206092,2,null,766,"12.6.1",null,"  w tym w związku z już zawartą umową na realizację programu, projektu lub zadania",true,8,2024,0,"2016-03-03","2016-03-03"]
[2016,"test","WIDUCHOWA",3206092,2,null,880,14.1,null," Spłaty rat kapitałowych oraz wykup papierów wartościowych, o których mowa w pkt. 5.1., wynikające wyłącznie z tytułu zobowiązań już zaciągniętych",true,7,2023,1510000,"2016-03-03","2016-03-03"]
[2016,"test","WIDUCHOWA",3206092,2,null,50,"1.1.3",null,"  podatki i opłaty",true,3,2019,4405000,"2016-03-03","2016-03-03"]
[2016,"test","WIDUCHOWA",3206092,2,null,764,"12.5.1",null,"  w tym w związku z już zawartą umową na realizację programu, projektu lub zadania",true,5,2021,0,"2016-03-03","2016-03-03"]
[2016,"test","WIDUCHOWA",3206092,2,null,1000,16.100000000000001,null," Stopień niezachowania relacji zrównoważenia wydatków bieżących, o której mowa w poz. 8.2.",true,1,2017,0,"2016-03-03","2016-03-03"]
[2016,"test","WIDUCHOWA",3206092,2,null,1010,16.2,null," Stopień niezachowania wskaźnika spłaty zobowiązań, o którym mowa w poz. 9.7.",true,5,2021,0,"2016-03-03","2016-03-03"]
[2016,"test","WIDUCHOWA",3206092,2,null,530,9.6999999999999993,"[9.6]-[9.4]"," Informacja o spełnieniu wskaźnika spłaty zobowiązań określonego w art. 243 ustawy, po uwzględnieniu zobowiązań związku współtworzonego przez jednostkę samorządu terytorialnego oraz po uwzględnieniu ustawowych wyłączeń, obliczonego w oparciu o plan 3 kwartałów roku poprzedzającego rok budżetowy",false,3,2019,120,"2016-03-03","2016-03-03"]
[2016,"test","WIDUCHOWA",3206092,2,null,670,12.1,null," Dochody bieżące  na programy, projekty lub zadania finansowane z udziałem środków, o których mowa w art. 5 ust. 1 pkt 2 i 3 ustawy",true,9,2025,0,"2016-03-03","2016-03-03"]
[2016,"test","WIDUCHOWA",3206092,2,null,260,4.3,null,"  Kredyty, pożyczki, emisja papierów wartościowych",true,0,2016,0,"2016-03-03","2016-03-03"]
[2016,"test","WIDUCHOWA",3206092,2,null,100,"1.2.1",null,"  ze sprzedaży majątku",true,5,2021,300000,"2016-03-03","2016-03-03"]
[2016,"test","WIDUCHOWA",3206092,2,null,1020,16.3,null," Stopień niezachowania wskaźnika spłaty zobowiązań, o którym mowa w poz. 9.7.1.",true,8,2024,0,"2016-03-03","2016-03-03"]
[2016,"test","WIDUCHOWA",3206092,2,null,60,"1.1.3.1",null,"   z podatku od nieruchomości",true,3,2019,2109000,"2016-03-03","2016-03-03"]
[2016,"test","WIDUCHOWA",3206092,2,null,763,12.5,null," Wydatki na wkład krajowy w związku z umową na realizację programu, projektu lub zadania finansowanego z udziałem środków, o których mowa w art. 5 ust. 1 pkt 2 ustawy bez względu na stopień finansowania tymi środkami ",true,1,2017,727400,"2016-03-03","2016-03-03"]
[2016,"test","WIDUCHOWA",3206092,2,null,840,13.5,null," Wydatki na spłatę przejętych zobowiązań samodzielnego publicznego zakładu opieki zdrowotnej likwidowanego na zasadach określonych w przepisach  o działalności leczniczej",true,4,2020,0,"2016-03-03","2016-03-03"]
[2016,"test","WIDUCHOWA",3206092,2,null,480,9.1999999999999993,"( ([2.1.1]-[2.1.1.1])+([2.1.3.1]-[2.1.3.1.1]-[2.1.3.1.2])+([5.1]-[5.1.1]) )/([1]-[15.1.1])"," Wskaźnik planowanej łącznej kwoty spłaty zobowiązań, o której mowa w art. 243 ust. 1 ustawy do dochodów, bez uwzględnienia zobowiązań związku współtworzonego przez jednostkę samorządu terytorialnego, po uwzględnieniu ustawowych wyłączeń przypadających na dany rok.",false,6,2022,7.0300000000000001E-2,"2016-03-03","2016-03-03"]
[2016,"test","WIDUCHOWA",3206092,2,null,600,11.3,"[11.3.1] + [11.3.2]"," Wydatki objęte limitem, o którym mowa w art. 226 ust. 3 pkt 4 ustawy",true,5,2021,183000,"2016-03-03","2016-03-03"]
[2016,"test","WIDUCHOWA",3206092,2,null,508,9.5,"(([1.1] - [15.1.1])+[1.2.1] - ([2.1]-[2.1.2]-[15.2]))/ ([1]-[15.1.1])"," Wskaźnik dochodów bieżących powiększonych o dochody ze sprzedaży majątku oraz pomniejszonych o wydatki bieżące, do dochodów budżetu, ustalony dla danego roku (wskaźnik jednoroczny)",false,8,2024,8.5000000000000006E-2,"2016-03-03","2016-03-03"]
[2016,"test","WIDUCHOWA",3206092,2,null,670,12.1,null," Dochody bieżące  na programy, projekty lub zadania finansowane z udziałem środków, o których mowa w art. 5 ust. 1 pkt 2 i 3 ustawy",true,2,2018,0,"2016-03-03","2016-03-03"]
[2016,"test","WIDUCHOWA",3206092,2,null,80,"1.1.5",null,"  z tytułu dotacji i środków przeznaczonych na cele bieżące",true,6,2022,7200000,"2016-03-03","2016-03-03"]
[2016,"test","WIDUCHOWA",3206092,2,null,50,"1.1.3",null,"  podatki i opłaty",true,4,2020,4573000,"2016-03-03","2016-03-03"]
[2016,"test","WIDUCHOWA",3206092,2,null,410,8,null,"Relacja zrównoważenia wydatków bieżących, o której mowa w art. 242 ustawy",true,1,2017,0,"2016-03-03","2016-03-03"]
[2016,"test","WIDUCHOWA",3206092,2,null,890,14.2,null," Kwota długu, którego planowana spłata dokona się z wydatków budżetu",true,6,2022,0,"2016-03-03","2016-03-03"]
[2016,"test","WIDUCHOWA",3206092,2,null,200,3,"[1] -[2]","Wynik budżetu",false,2,2018,600000,"2016-03-03","2016-03-03"]
[2016,"test","WIDUCHOWA",3206092,2,null,570,11,null,"Informacje uzupełniające o wybranych rodzajach wydatków budżetowych",false,6,2022,0,"2016-03-03","2016-03-03"]
[2016,"test","WIDUCHOWA",3206092,2,null,940,14.4,null," Wynik operacji niekasowych wpływających na kwotę długu ( m.in. umorzenia, różnice kursowe)",true,0,2016,0,"2016-03-03","2016-03-03"]
[2016,"test","WIDUCHOWA",3206092,2,null,970,"15.1.1",null,"  środki na zaspokojenie roszczeń obligatariuszy",true,4,2020,0,"2016-03-03","2016-03-03"]
[2016,"test","WIDUCHOWA",3206092,2,null,336,"5.1.1.3",null,"   kwota przypadających na dany rok kwot ustawowych wyłączeń innych niż określone w art. 243 ustawy",true,8,2024,0,"2016-03-03","2016-03-03"]
[2016,"test","WIDUCHOWA",3206092,2,null,1020,16.3,null," Stopień niezachowania wskaźnika spłaty zobowiązań, o którym mowa w poz. 9.7.1.",true,7,2023,0,"2016-03-03","2016-03-03"]
[2016,"test","WIDUCHOWA",3206092,2,null,810,13.2,null," Dochody budżetowe z tytułu dotacji celowej z budżetu państwa, o której mowa w art. 196 ustawy z  dnia 15 kwietnia 2011 r.  o działalności leczniczej (Dz.U. Nr 112, poz. 654, z późn. zm.)",true,4,2020,0,"2016-03-03","2016-03-03"]
[2016,"test","WIDUCHOWA",3206092,2,null,950,15,null,"Dane dotyczące emitowanych obligacji przychodowych",true,2,2018,0,"2016-03-03","2016-03-03"]
[2016,"test","WIDUCHOWA",3206092,2,null,260,4.3,null,"  Kredyty, pożyczki, emisja papierów wartościowych",true,9,2025,0,"2016-03-03","2016-03-03"]
[2016,"test","WIDUCHOWA",3206092,2,null,50,"1.1.3",null,"  podatki i opłaty",true,0,2016,3971378,"2016-03-03","2016-03-03"]
[2016,"test","WIDUCHOWA",3206092,2,null,180,"2.1.3.1",null,"   odsetki i dyskonto określone w art. 243 ust. 1 ustawy, w tym:",false,3,2019,300000,"2016-03-03","2016-03-03"]
[2016,"test","WIDUCHOWA",3206092,2,null,550,10,null,"Przeznaczenie prognozowanej nadwyżki budżetowej,  w tym na:",false,5,2021,1200000,"2016-03-03","2016-03-03"]
[2016,"test","WIDUCHOWA",3206092,2,null,470,9.1,"([2.1.1] + [2.1.3.1] + [5.1] ) / [1]"," Wskaźnik planowanej łącznej kwoty spłaty zobowiązań, o której mowa w art. 243 ust. 1 ustawy do dochodów, bez uwzględnienia zobowiązań związku współtworzonego przez jednostkę samorządu terytorialnego  i bez uwzględnienia ustawowych wyłączeń przypadających na dany rok.",true,5,2021,6.8500000000000005E-2,"2016-03-03","2016-03-03"]
[2016,"test","WIDUCHOWA",3206092,2,null,30,"1.1.1",null,"  dochody z tytułu udziału we wpływach z podatku dochodowego od osób fizycznych",true,9,2025,2400000,"2016-03-03","2016-03-03"]
[2016,"test","WIDUCHOWA",3206092,2,null,700,12.2,null," Dochody majątkowe  na programy, projekty lub zadania finansowane z udziałem środków, o których mowa w art. 5 ust. 1 pkt 2 i 3 ustawy",false,2,2018,0,"2016-03-03","2016-03-03"]
[2016,"test","WIDUCHOWA",3206092,2,null,220,4.0999999999999996,null," Nadwyżka budżetowa z lat ubiegłych",false,6,2022,0,"2016-03-03","2016-03-03"]
[2016,"test","WIDUCHOWA",3206092,2,null,550,10,null,"Przeznaczenie prognozowanej nadwyżki budżetowej,  w tym na:",false,9,2025,743000,"2016-03-03","2016-03-03"]
[2016,"test","WIDUCHOWA",3206092,2,null,210,4,"[4.1] + [4.2] + [4.3] + [4.4]","Przychody budżetu",false,0,2016,0,"2016-03-03","2016-03-03"]
[2016,"test","WIDUCHOWA",3206092,2,null,820,13.3,null," Wysokość zobowiązań podlegających umorzeniu, o którym mowa w art. 190 ustawy o działalności leczniczej",true,6,2022,0,"2016-03-03","2016-03-03"]
[2016,"test","WIDUCHOWA",3206092,2,null,767,12.7,null," Przychody z tytułu kredytów, pożyczek, emisji papierów wartościowych powstające w związku z umową na realizację programu, projektu lub zadania finansowanego z udziałem środków, o których mowa w art. 5 ust. 1 pkt 2 ustawy bez względu na stopień finansowania tymi środkami ",true,8,2024,0,"2016-03-03","2016-03-03"]
[2016,"test","WIDUCHOWA",3206092,2,null,270,"4.3.1",null,"   w tym na pokrycie deficytu budżetu",true,3,2019,0,"2016-03-03","2016-03-03"]
[2016,"test","WIDUCHOWA",3206092,2,null,410,8,null,"Relacja zrównoważenia wydatków bieżących, o której mowa w art. 242 ustawy",true,8,2024,0,"2016-03-03","2016-03-03"]
[2016,"test","WIDUCHOWA",3206092,2,null,720,"12.2.1.1",null,"    - w tym środki określone w art. 5 ust. 1 pkt 2 ustawy wynikające wyłącznie z zawartych umów na realizację programu, projektu lub zadania",false,8,2024,0,"2016-03-03","2016-03-03"]
[2016,"test","WIDUCHOWA",3206092,2,null,980,15.2,null," Wydatki bieżące z tytułu świadczenia emitenta należnego obligatariuszom,  nieuwzględniane  w limicie spłaty zobowiązań, o którym mowa w art. 243 ustawy",true,2,2018,0,"2016-03-03","2016-03-03"]
[2016,"test","WIDUCHOWA",3206092,2,null,310,5.0999999999999996,null," Spłaty rat kapitałowych kredytów i pożyczek oraz wykup papierów wartościowych",true,5,2021,1200000,"2016-03-03","2016-03-03"]
[2016,"test","WIDUCHOWA",3206092,2,null,70,"1.1.4",null,"  z subwencji ogólnej",true,3,2019,6000000,"2016-03-03","2016-03-03"]
[2016,"test","WIDUCHOWA",3206092,2,null,860,13.7,null," Wydatki bieżące na pokrycie ujemnego wyniku finansowego samodzielnego publicznego zakładu opieki zdrowotnej",true,5,2021,0,"2016-03-03","2016-03-03"]
[2016,"test","WIDUCHOWA",3206092,2,null,760,12.4,null," Wydatki majątkowe na programy, projekty lub zadania finansowane z udziałem środków, o których mowa w art. 5 ust. 1 pkt 2 i 3 ustawy",true,1,2017,2000000,"2016-03-03","2016-03-03"]
[2016,"test","WIDUCHOWA",3206092,2,null,769,12.8,null," Przychody z tytułu kredytów, pożyczek, emisji papierów wartościowych powstające w związku z zawartą po dniu 1 stycznia 2013 r. umową na realizację programu, projektu lub zadania finansowanego w co najmniej 60% środkami, o których mowa w art. 5 ust. 1 pkt 2 ustawy",true,4,2020,0,"2016-03-03","2016-03-03"]
[2016,"test","WIDUCHOWA",3206092,2,null,540,"9.7.1","[9.6.1]-[9.4]","  Informacja o spełnieniu wskaźnika spłaty zobowiązań określonego w art. 243 ustawy, po uwzględnieniu zobowiązań związku współtworzonego przez jednostkę samorządu terytorialnego oraz po uwzględnieniu ustawowych wyłączeń, obliczonego w oparciu o wykonanie roku poprzedzającego rok budżetowy",false,1,2017,208,"2016-03-03","2016-03-03"]
[2016,"test","WIDUCHOWA",3206092,2,null,766,"12.6.1",null,"  w tym w związku z już zawartą umową na realizację programu, projektu lub zadania",true,6,2022,0,"2016-03-03","2016-03-03"]
[2016,"test","WIDUCHOWA",3206092,2,null,790,13,null,"Kwoty dotyczące przejęcia i spłaty zobowiązań po samodzielnych publicznych zakładach opieki zdrowotnej oraz pokrycia ujemnego wyniku ",true,2,2018,0,"2016-03-03","2016-03-03"]
[2016,"test","WIDUCHOWA",3206092,2,null,770,"12.8.1",null,"  w tym w związku z już zawartą umową na realizację programu, projektu lub zadania",true,0,2016,0,"2016-03-03","2016-03-03"]
[2016,"test","WIDUCHOWA",3206092,2,null,1020,16.3,null," Stopień niezachowania wskaźnika spłaty zobowiązań, o którym mowa w poz. 9.7.1.",true,0,2016,0,"2016-03-03","2016-03-03"]
[2016,"test","WIDUCHOWA",3206092,2,null,230,"4.1.1",null,"  w tym na pokrycie deficytu budżetu",false,9,2025,0,"2016-03-03","2016-03-03"]
[2016,"test","WIDUCHOWA",3206092,2,null,540,"9.7.1","[9.6.1]-[9.4]","  Informacja o spełnieniu wskaźnika spłaty zobowiązań określonego w art. 243 ustawy, po uwzględnieniu zobowiązań związku współtworzonego przez jednostkę samorządu terytorialnego oraz po uwzględnieniu ustawowych wyłączeń, obliczonego w oparciu o wykonanie roku poprzedzającego rok budżetowy",false,6,2022,94,"2016-03-03","2016-03-03"]
[2016,"test","WIDUCHOWA",3206092,2,null,710,"12.2.1",null,"   -  w tym środki określone w art. 5 ust. 1 pkt 2 ustawy",false,6,2022,0,"2016-03-03","2016-03-03"]
[2016,"test","WIDUCHOWA",3206092,2,null,830,13.4,null," Wydatki na spłatę przejętych zobowiązań samodzielnego publicznego zakładu opieki zdrowotnej przekształconego na zasadach określonych w przepisach  o działalności leczniczej",true,7,2023,0,"2016-03-03","2016-03-03"]
[2016,"test","WIDUCHOWA",3206092,2,null,50,"1.1.3",null,"  podatki i opłaty",true,1,2017,4083000,"2016-03-03","2016-03-03"]
[2016,"test","WIDUCHOWA",3206092,2,null,900,14.3,null," Wydatki zmniejszające dług, w tym",true,1,2017,124000,"2016-03-03","2016-03-03"]
[2016,"test","WIDUCHOWA",3206092,2,null,140,"2.1.1",null,"  z tytułu poręczeń i gwarancji",true,7,2023,0,"2016-03-03","2016-03-03"]
[2016,"test","WIDUCHOWA",3206092,2,null,160,"2.1.2",null,"   na spłatę przejętych zobowiązań samodzielnego publicznego zakładu opieki zdrowotnej przekształconego na zasadach określonych w przepisach  o działalności leczniczej, w wysokości w jakiej nie podlegają sfinansowaniu dotacją z budżetu państwa",true,0,2016,0,"2016-03-03","2016-03-03"]